BEGIN:VCALENDAR
VERSION:2.0
PRODID:-//https://denbighchristianacademy.com//NONSGML kigkonsult.se iCalcr
 eator 2.29.29//
CALSCALE:GREGORIAN
METHOD:PUBLISH
UID:160e3a5c-7b60-4e5a-8acf-c1372adcc43b
X-WR-CALNAME:JCal Pro Calendar
X-WR-CALDESC:Your online events calendar
X-WR-TIMEZONE:UTC
BEGIN:VTIMEZONE
TZID:UTC
END:VTIMEZONE
BEGIN:VEVENT
UID:20240912T170000UTC-6627DdjSU1@https://www.denbighchristianacademy.com/
DTSTAMP:20260424T140112Z
CATEGORIES:School Menu
DESCRIPTION:<p><span style='text-decoration: underline\;'><strong>Breakfast
 </strong></span></p>\n<p>1 ½ oz (2) Pancakes<br />1/4-1/2 cup Peaches<br /
 >1/4-1/2 cup Cereal (optional)<br />6 oz. 1% Milk (8 oz for ages 6-12)</p>
 \n<p><br /><span style='text-decoration: underline\;'><strong>AM Snack</st
 rong></span></p>\n<p>1/4-1/2 cup Sliced Orange &amp\; Graham Crackers<br /
 >4 oz Water (8 oz for ages 6-12)</p>\n<p><br /><span style='text-decoratio
 n: underline\;'><strong>Lunch</strong></span></p>\n<p>1 1/2 - 2 oz Beef La
 sagna<br />1/4-1/2 cup Tossed Salad<br />1/4 cup Peaches<br />6 oz.1% Milk
  (ages 6-12 8 oz)</p>\n<p><br /><span style='text-decoration: underline\;'
 ><strong>PM Snack</strong></span></p>\n<p>1/4-1/2 cup Oreo Cookies<br />4 
 oz 1% Milk (8 oz for ages 6-12)</p>
DTSTART:20240912T000000Z
DTEND:20240912T235959Z
SUMMARY:Thursday
URL:https://denbighchristianacademy.com/index.php/school-calendar/lunch-men
 u/10-school-menu/1594-thursday
X-ALT-DESC;FMTTYPE=TEXT/HTML:<p><span style='text-decoration: underline\;'>
 <strong>Breakfast</strong></span></p>\n<p>1 ½ oz (2) Pancakes<br />1/4-1/2
  cup Peaches<br />1/4-1/2 cup Cereal (optional)<br />6 oz. 1% Milk (8 oz f
 or ages 6-12)</p>\n<p><br /><span style='text-decoration: underline\;'><st
 rong>AM Snack</strong></span></p>\n<p>1/4-1/2 cup Sliced Orange &amp\; Gra
 ham Crackers<br />4 oz Water (8 oz for ages 6-12)</p>\n<p><br /><span styl
 e='text-decoration: underline\;'><strong>Lunch</strong></span></p>\n<p>1 1
 /2 - 2 oz Beef Lasagna<br />1/4-1/2 cup Tossed Salad<br />1/4 cup Peaches<
 br />6 oz.1% Milk (ages 6-12 8 oz)</p>\n<p><br /><span style='text-decorat
 ion: underline\;'><strong>PM Snack</strong></span></p>\n<p>1/4-1/2 cup Ore
 o Cookies<br />4 oz 1% Milk (8 oz for ages 6-12)</p>
END:VEVENT
END:VCALENDAR
