BEGIN:VCALENDAR
VERSION:2.0
PRODID:-//https://denbighchristianacademy.com//NONSGML kigkonsult.se iCalcr
 eator 2.29.29//
CALSCALE:GREGORIAN
METHOD:PUBLISH
UID:577d5b52-a099-4b55-b261-f3cd739d12d3
X-WR-CALNAME:JCal Pro Calendar
X-WR-CALDESC:Your online events calendar
X-WR-TIMEZONE:UTC
BEGIN:VTIMEZONE
TZID:UTC
END:VTIMEZONE
BEGIN:VEVENT
UID:20241024T140000UTC-4979uVhKVt@https://www.denbighchristianacademy.com/
DTSTAMP:20260424T103840Z
CATEGORIES:School Menu
DESCRIPTION:<p><span style='text-decoration: underline\;'><strong>Breakfast
 </strong></span></p>\n<p>1 - 2 oz Waffles<br />1/4-1/2 cup Peaches<br />1/
 4-1/2 cup Cereal (optional)<br />6 oz. 1% Milk (8 oz for ages 6-12)</p>\n<
 p><br /><span style='text-decoration: underline\;'><strong>AM Snack</stron
 g></span></p>\n<p>1/2 - 1 Banana<br />2 oz Graham Crackers<br />Water</p>
 \n<p><br /><span style='text-decoration: underline\;'><strong>Lunch</stron
 g></span></p>\n<p>1 1/2 - 2 oz Pizza<br />1/4-1/2 cup Broccoli<br />1/4 cu
 p Peaches<br />6 oz.1% Milk (ages 6-12 8 oz)</p>\n<p><br /><span style='te
 xt-decoration: underline\;'><strong>PM Snack</strong></span></p>\n<p>1.3 o
 z Nutri Grain Bar<br />4 oz 1% Milk (8 oz for ages 6-12)</p>
DTSTART:20241024T000000Z
DTEND:20241024T235959Z
SUMMARY:Thursday
URL:https://denbighchristianacademy.com/index.php/school-calendar/lunch-men
 u/10-school-menu/1624-thursday
X-ALT-DESC;FMTTYPE=TEXT/HTML:<p><span style='text-decoration: underline\;'>
 <strong>Breakfast</strong></span></p>\n<p>1 - 2 oz Waffles<br />1/4-1/2 cu
 p Peaches<br />1/4-1/2 cup Cereal (optional)<br />6 oz. 1% Milk (8 oz for 
 ages 6-12)</p>\n<p><br /><span style='text-decoration: underline\;'><stron
 g>AM Snack</strong></span></p>\n<p>1/2 - 1 Banana<br />2 oz Graham Cracker
 s<br />Water</p>\n<p><br /><span style='text-decoration: underline\;'><str
 ong>Lunch</strong></span></p>\n<p>1 1/2 - 2 oz Pizza<br />1/4-1/2 cup Broc
 coli<br />1/4 cup Peaches<br />6 oz.1% Milk (ages 6-12 8 oz)</p>\n<p><br /
 ><span style='text-decoration: underline\;'><strong>PM Snack</strong></spa
 n></p>\n<p>1.3 oz Nutri Grain Bar<br />4 oz 1% Milk (8 oz for ages 6-12)</
 p>
END:VEVENT
END:VCALENDAR
