BEGIN:VCALENDAR
VERSION:2.0
PRODID:-//https://denbighchristianacademy.com//NONSGML kigkonsult.se iCalcr
 eator 2.29.29//
CALSCALE:GREGORIAN
METHOD:PUBLISH
UID:84b625dd-bc67-44fa-80b8-30ce9fac41fa
X-WR-CALNAME:JCal Pro Calendar
X-WR-CALDESC:Your online events calendar
X-WR-TIMEZONE:UTC
BEGIN:VTIMEZONE
TZID:UTC
END:VTIMEZONE
BEGIN:VEVENT
UID:20241218T200000UTC-4632865nLr@https://www.denbighchristianacademy.com/
DTSTAMP:20260424T181811Z
CATEGORIES:School Menu
DESCRIPTION:<p><span style='text-decoration: underline\;'><strong>Breakfast
 </strong></span></p>\n<p>1 ½ oz Biscuit<br />1 oz Turkey Sausage Patty<br 
 />1/4-1/2 cup Cereal (optional)<br />1/4-1/2 cup Pears<br />6 oz. 1% Milk 
 (8 oz for ages 6-12)</p>\n<p><br /><span style='text-decoration: underline
 \;'><strong>AM Snack</strong></span></p>\n<p>3.9 oz Applesauce<br />2 oz G
 raham Crackers<br />4 oz Water (8 oz for ages 6-12)</p>\n<p><br /><span st
 yle='text-decoration: underline\;'><strong>Lunch</strong></span></p>\n<p>1
  1/2 - 2 oz Pizza<br />1/4-1/2 cup Tossed Salad<br />1/4 cup Peaches<br />
 6 oz.1% Milk (ages 6-12 8 oz)</p>\n<p><br /><span style='text-decoration: 
 underline\;'><strong>PM Snack</strong></span></p>\n<p>1 oz Ritz Bits Crack
 ers w/Cheese<br />4 oz 1% Milk (8 oz for ages 6-12)</p>
DTSTART:20241218T000000Z
DTEND:20241218T235959Z
SUMMARY:Wednesday
URL:https://denbighchristianacademy.com/index.php/school-calendar/lunch-men
 u/10-school-menu/1658-wednesday
X-ALT-DESC;FMTTYPE=TEXT/HTML:<p><span style='text-decoration: underline\;'>
 <strong>Breakfast</strong></span></p>\n<p>1 ½ oz Biscuit<br />1 oz Turkey 
 Sausage Patty<br />1/4-1/2 cup Cereal (optional)<br />1/4-1/2 cup Pears<br
  />6 oz. 1% Milk (8 oz for ages 6-12)</p>\n<p><br /><span style='text-deco
 ration: underline\;'><strong>AM Snack</strong></span></p>\n<p>3.9 oz Apple
 sauce<br />2 oz Graham Crackers<br />4 oz Water (8 oz for ages 6-12)</p>\n
 <p><br /><span style='text-decoration: underline\;'><strong>Lunch</strong>
 </span></p>\n<p>1 1/2 - 2 oz Pizza<br />1/4-1/2 cup Tossed Salad<br />1/4 
 cup Peaches<br />6 oz.1% Milk (ages 6-12 8 oz)</p>\n<p><br /><span style='
 text-decoration: underline\;'><strong>PM Snack</strong></span></p>\n<p>1 o
 z Ritz Bits Crackers w/Cheese<br />4 oz 1% Milk (8 oz for ages 6-12)</p>
END:VEVENT
END:VCALENDAR
