BEGIN:VCALENDAR
VERSION:2.0
PRODID:-//https://denbighchristianacademy.com//NONSGML kigkonsult.se iCalcr
 eator 2.29.29//
CALSCALE:GREGORIAN
METHOD:PUBLISH
UID:6d7ec1b6-556f-44d4-bfb1-2645a7e22815
X-WR-CALNAME:JCal Pro Calendar
X-WR-CALDESC:Your online events calendar
X-WR-TIMEZONE:UTC
BEGIN:VTIMEZONE
TZID:UTC
END:VTIMEZONE
BEGIN:VEVENT
UID:20250116T150000UTC-5321mV5ORk@https://www.denbighchristianacademy.com/
DTSTAMP:20260424T153603Z
CATEGORIES:School Menu
DESCRIPTION:<p><span style='text-decoration: underline\;'><strong>Breakfast
 </strong></span></p>\n<p>1 ½ oz Blueberry Muffins<br />1/4-1/2 cup Pears<b
 r />1/4-1/2 cup Cereal (optional)<br />6 oz. 1% Milk (8 oz for ages 6-12)<
 /p>\n<p><br /><span style='text-decoration: underline\;'><strong>AM Snack<
 /strong></span></p>\n<p>1/2 - 1 Orange<br />2 oz Ritz Crackers<br />4 oz W
 ater (8 oz for ages 6-12)</p>\n<p><br /><span style='text-decoration: unde
 rline\;'><strong>Lunch</strong></span></p>\n<p>1/4-1/2 cup Chicken &amp\; 
 Dumplings<br />WW Roll<br />1/4-1/2 cup Peas &amp\; Carrots<br />1/4 cup F
 ruit<br />6 oz.1% Milk (ages 6-12 8 oz)</p>\n<p><br /><span style='text-de
 coration: underline\;'><strong>PM Snack</strong></span></p>\n<p>1.3 oz Nut
 ri Grain Bar<br />4 oz 1% Milk (8 oz for ages 6-12)</p>
DTSTART:20250116T000000Z
DTEND:20250116T235959Z
SUMMARY:Thursday
URL:https://denbighchristianacademy.com/index.php/school-calendar/lunch-men
 u/10-school-menu/1669-thursday
X-ALT-DESC;FMTTYPE=TEXT/HTML:<p><span style='text-decoration: underline\;'>
 <strong>Breakfast</strong></span></p>\n<p>1 ½ oz Blueberry Muffins<br />1/
 4-1/2 cup Pears<br />1/4-1/2 cup Cereal (optional)<br />6 oz. 1% Milk (8 o
 z for ages 6-12)</p>\n<p><br /><span style='text-decoration: underline\;'>
 <strong>AM Snack</strong></span></p>\n<p>1/2 - 1 Orange<br />2 oz Ritz Cra
 ckers<br />4 oz Water (8 oz for ages 6-12)</p>\n<p><br /><span style='text
 -decoration: underline\;'><strong>Lunch</strong></span></p>\n<p>1/4-1/2 cu
 p Chicken &amp\; Dumplings<br />WW Roll<br />1/4-1/2 cup Peas &amp\; Carro
 ts<br />1/4 cup Fruit<br />6 oz.1% Milk (ages 6-12 8 oz)</p>\n<p><br /><sp
 an style='text-decoration: underline\;'><strong>PM Snack</strong></span></
 p>\n<p>1.3 oz Nutri Grain Bar<br />4 oz 1% Milk (8 oz for ages 6-12)</p>
END:VEVENT
END:VCALENDAR
