BEGIN:VCALENDAR
VERSION:2.0
PRODID:-//https://denbighchristianacademy.com//NONSGML kigkonsult.se iCalcr
 eator 2.29.29//
CALSCALE:GREGORIAN
METHOD:PUBLISH
UID:1dbd477d-376e-45be-917d-fedde357fb01
X-WR-CALNAME:JCal Pro Calendar
X-WR-CALDESC:Your online events calendar
X-WR-TIMEZONE:UTC
BEGIN:VTIMEZONE
TZID:UTC
END:VTIMEZONE
BEGIN:VEVENT
UID:20220421T120000UTC-23604Mwuw1@https://www.denbighchristianacademy.com/
DTSTAMP:20260424T154508Z
CATEGORIES:School Menu
DESCRIPTION:<p><span style='text-decoration: underline\;'><strong>Breakfast
 </strong></span></p>\n<p>14-1/2 cup Oatmeal<br />1/4-1/2 cup Fruit Cocktai
 l<br />1/4-1/2 cup Cereal (optional)<br />6 oz. 1% Milk (8 oz for ages 6-1
 2)</p>\n<p><br /><span style='text-decoration: underline\;'><strong>AM Sna
 ck</strong></span></p>\n<p>Orange Slices<br />4 oz Water (8 oz for ages 6-
 12)</p>\n<p><br /><span style='text-decoration: underline\;'><strong>Lunch
 </strong></span></p>\n<p>1 1/2 - 2 oz Chicken &amp\; Dumplings<br />WW Bre
 ad<br />1/4-1/2 cup Mixed Vegetables<br />1/4 cup Mixed Fruit<br />6 oz.1%
  Milk (ages 6-12 8 oz)</p>\n<p><br /><span style='text-decoration: underli
 ne\;'><strong>PM Snack</strong></span></p>\n<p>1 oz Little Bites Muffins<b
 r />4 oz 1% Milk (8 oz for ages 6-12)</p>
DTSTART:20220421T000000Z
DTEND:20220421T235959Z
SUMMARY:Thursday
URL:https://denbighchristianacademy.com/index.php/school-calendar/lunch-men
 u/10-school-menu/841-thursday
X-ALT-DESC;FMTTYPE=TEXT/HTML:<p><span style='text-decoration: underline\;'>
 <strong>Breakfast</strong></span></p>\n<p>14-1/2 cup Oatmeal<br />1/4-1/2 
 cup Fruit Cocktail<br />1/4-1/2 cup Cereal (optional)<br />6 oz. 1% Milk (
 8 oz for ages 6-12)</p>\n<p><br /><span style='text-decoration: underline\
 ;'><strong>AM Snack</strong></span></p>\n<p>Orange Slices<br />4 oz Water 
 (8 oz for ages 6-12)</p>\n<p><br /><span style='text-decoration: underline
 \;'><strong>Lunch</strong></span></p>\n<p>1 1/2 - 2 oz Chicken &amp\; Dump
 lings<br />WW Bread<br />1/4-1/2 cup Mixed Vegetables<br />1/4 cup Mixed F
 ruit<br />6 oz.1% Milk (ages 6-12 8 oz)</p>\n<p><br /><span style='text-de
 coration: underline\;'><strong>PM Snack</strong></span></p>\n<p>1 oz Littl
 e Bites Muffins<br />4 oz 1% Milk (8 oz for ages 6-12)</p>
END:VEVENT
END:VCALENDAR
