BEGIN:VCALENDAR
VERSION:2.0
PRODID:-//https://denbighchristianacademy.com//NONSGML kigkonsult.se iCalcr
 eator 2.29.29//
CALSCALE:GREGORIAN
METHOD:PUBLISH
UID:aa019be0-fa6c-410a-b6f2-965108bc18e6
X-WR-CALNAME:JCal Pro Calendar
X-WR-CALDESC:Your online events calendar
X-WR-TIMEZONE:UTC
BEGIN:VTIMEZONE
TZID:UTC
END:VTIMEZONE
BEGIN:VEVENT
UID:20220531T180000UTC-2316IfXmtk@https://www.denbighchristianacademy.com/
DTSTAMP:20260424T200643Z
CATEGORIES:School Menu
DESCRIPTION:<p><span style='text-decoration: underline\;'><strong>Breakfast
 </strong></span></p>\n<p>1/2-1 Bagel w/Cream Cheese<br />1/4-1/2 cup Peach
 es<br />1/4-1/2 cup Cereal (optional)<br />6 oz. 1% Milk (8 oz for ages 6-
 12)</p>\n<p><br /><span style='text-decoration: underline\;'><strong>AM Sn
 ack</strong></span></p>\n<p>1.62 oz asst Fruit Snacks (2 packs)<br />4 oz 
 1% Milk (8 oz for ages 6-12)</p>\n<p><br /><span style='text-decoration: u
 nderline\;'><strong>Lunch</strong></span></p>\n<p>1 1/2 - 2 oz Beef Franks
 <br />1 WW Roll<br />1/4-1/2 cup Baked Beans<br />1/4 cup Mixed Fruit<br /
 >6 oz.1% Milk (ages 6-12 8 oz)</p>\n<p><br /><span style='text-decoration:
  underline\;'><strong>PM Snack</strong></span></p>\n<p>1 pack Lorne Doone 
 Cookies (1.5 OZ)<br />4 oz 1% Milk (8 oz for ages 6-12)</p>
DTSTART:20220531T000000Z
DTEND:20220531T235959Z
SUMMARY:Tuesday
URL:https://denbighchristianacademy.com/index.php/school-calendar/lunch-men
 u/10-school-menu/863-monday
X-ALT-DESC;FMTTYPE=TEXT/HTML:<p><span style='text-decoration: underline\;'>
 <strong>Breakfast</strong></span></p>\n<p>1/2-1 Bagel w/Cream Cheese<br />
 1/4-1/2 cup Peaches<br />1/4-1/2 cup Cereal (optional)<br />6 oz. 1% Milk 
 (8 oz for ages 6-12)</p>\n<p><br /><span style='text-decoration: underline
 \;'><strong>AM Snack</strong></span></p>\n<p>1.62 oz asst Fruit Snacks (2 
 packs)<br />4 oz 1% Milk (8 oz for ages 6-12)</p>\n<p><br /><span style='t
 ext-decoration: underline\;'><strong>Lunch</strong></span></p>\n<p>1 1/2 -
  2 oz Beef Franks<br />1 WW Roll<br />1/4-1/2 cup Baked Beans<br />1/4 cup
  Mixed Fruit<br />6 oz.1% Milk (ages 6-12 8 oz)</p>\n<p><br /><span style=
 'text-decoration: underline\;'><strong>PM Snack</strong></span></p>\n<p>1 
 pack Lorne Doone Cookies (1.5 OZ)<br />4 oz 1% Milk (8 oz for ages 6-12)</
 p>
END:VEVENT
END:VCALENDAR
