BEGIN:VCALENDAR
VERSION:2.0
PRODID:-//https://denbighchristianacademy.com//NONSGML kigkonsult.se iCalcr
 eator 2.29.29//
CALSCALE:GREGORIAN
METHOD:PUBLISH
UID:8ddaef18-2927-49de-a64a-dfd67538b5ed
X-WR-CALNAME:JCal Pro Calendar
X-WR-CALDESC:Your online events calendar
X-WR-TIMEZONE:UTC
BEGIN:VTIMEZONE
TZID:UTC
END:VTIMEZONE
BEGIN:VEVENT
UID:20220705T150000UTC-3472UmCVnA@https://www.denbighchristianacademy.com/
DTSTAMP:20260424T220329Z
CATEGORIES:School Menu
DESCRIPTION:<p><span style='text-decoration: underline\;'><strong>Breakfast
 </strong></span></p>\n<p>3.5 oz Chese Omelet or<br />1 - 2 oz Turkey Sausa
 ge Links<br />1/4-1/2 cup Tropical Fruit<br />1/4-1/2 cup Cereal (optional
 )<br />6 oz. 1% Milk (8 oz for ages 6-12)</p>\n<p><br /><span style='text-
 decoration: underline\;'><strong>AM Snack</strong></span></p>\n<p>1/4-1/2 
 cup WG Ritz Crackers&nbsp\;<br />w/Cheese Cubes<br />4 oz Water (8 oz for 
 ages 6-12)</p>\n<p><br /><span style='text-decoration: underline\;'><stron
 g>Lunch</strong></span></p>\n<p>1 1/2 - 2 oz Meat &amp\; Sauce Nachos<br /
 >1/4-1/2 cup Seasoned Corn<br />1/4 cup Tropical Fruit<br />6 oz.1% Milk (
 ages 6-12 8 oz)</p>\n<p><br /><span style='text-decoration: underline\;'><
 strong>PM Snack</strong></span></p>\n<p>1 1/2 oz Package Lorne Doone Cooki
 es<br />4 oz 1% Milk (8 oz for ages 6</p>
DTSTART:20220705T000000Z
DTEND:20220705T235959Z
SUMMARY:Tuesday
URL:https://denbighchristianacademy.com/index.php/school-calendar/lunch-men
 u/10-school-menu/888-tuesday
X-ALT-DESC;FMTTYPE=TEXT/HTML:<p><span style='text-decoration: underline\;'>
 <strong>Breakfast</strong></span></p>\n<p>3.5 oz Chese Omelet or<br />1 - 
 2 oz Turkey Sausage Links<br />1/4-1/2 cup Tropical Fruit<br />1/4-1/2 cup
  Cereal (optional)<br />6 oz. 1% Milk (8 oz for ages 6-12)</p>\n<p><br /><
 span style='text-decoration: underline\;'><strong>AM Snack</strong></span>
 </p>\n<p>1/4-1/2 cup WG Ritz Crackers&nbsp\;<br />w/Cheese Cubes<br />4 oz
  Water (8 oz for ages 6-12)</p>\n<p><br /><span style='text-decoration: un
 derline\;'><strong>Lunch</strong></span></p>\n<p>1 1/2 - 2 oz Meat &amp\; 
 Sauce Nachos<br />1/4-1/2 cup Seasoned Corn<br />1/4 cup Tropical Fruit<br
  />6 oz.1% Milk (ages 6-12 8 oz)</p>\n<p><br /><span style='text-decoratio
 n: underline\;'><strong>PM Snack</strong></span></p>\n<p>1 1/2 oz Package 
 Lorne Doone Cookies<br />4 oz 1% Milk (8 oz for ages 6</p>
END:VEVENT
END:VCALENDAR
