BEGIN:VCALENDAR
VERSION:2.0
PRODID:-//https://denbighchristianacademy.com//NONSGML kigkonsult.se iCalcr
 eator 2.29.29//
CALSCALE:GREGORIAN
METHOD:PUBLISH
UID:2c00255a-e558-48e6-98a3-3af47da20ed6
X-WR-CALNAME:JCal Pro Calendar
X-WR-CALDESC:Your online events calendar
X-WR-TIMEZONE:UTC
BEGIN:VTIMEZONE
TZID:UTC
END:VTIMEZONE
BEGIN:VEVENT
UID:20191025T180000UTC-3749NFdPFC@http://www.denbighchristianacademy.com/
DTSTAMP:20260419T142818Z
CATEGORIES:School Menu
DESCRIPTION:<p><span style='text-decoration: underline\;'><strong>Breakfast
 </strong></span><br />1 Slice French Toast<br />1/4-1/2 cup Mixed Fruit<br
  />Cereal (optional)<br />6 oz. 1% Milk (8 oz for ages 6-12)</p>\n<p><br /
 ><span style='text-decoration: underline\;'><strong>AM Snack</strong></spa
 n></p>\n<p>1 Yoplait Yogurt<br />4 oz 1% Milk (8 oz for ages 6-12)</p>\n<p
 ><br /><span style='text-decoration: underline\;'><strong>Lunch</strong></
 span></p>\n<p>1 slice Turkey/1 slice Cheese<br />1 Whole Wheat Bread<br />
 1/4 cup Fresh Carrots &amp\; Broccoli<br />1 tsp Dressing<br />1/4 cup Pea
 ches<br />6 oz.1% Milk (ages 6-12 8 oz)</p>\n<p><br /><span style='text-de
 coration: underline\;'><strong>PM Snack</strong></span></p>\n<p>1/4 cup Ch
 eese-its<br />4 oz 100% Apple Juice (8 oz for ages 6-12)</p>
DTSTART:20191025T000000Z
DTEND:20191025T235959Z
SUMMARY:Friday
URL:https://denbighchristianacademy.com/index.php/school-calendar/lunch-men
 u/10-school-menu/98-friday
X-ALT-DESC;FMTTYPE=TEXT/HTML:<p><span style='text-decoration: underline\;'>
 <strong>Breakfast</strong></span><br />1 Slice French Toast<br />1/4-1/2 c
 up Mixed Fruit<br />Cereal (optional)<br />6 oz. 1% Milk (8 oz for ages 6-
 12)</p>\n<p><br /><span style='text-decoration: underline\;'><strong>AM Sn
 ack</strong></span></p>\n<p>1 Yoplait Yogurt<br />4 oz 1% Milk (8 oz for a
 ges 6-12)</p>\n<p><br /><span style='text-decoration: underline\;'><strong
 >Lunch</strong></span></p>\n<p>1 slice Turkey/1 slice Cheese<br />1 Whole 
 Wheat Bread<br />1/4 cup Fresh Carrots &amp\; Broccoli<br />1 tsp Dressing
 <br />1/4 cup Peaches<br />6 oz.1% Milk (ages 6-12 8 oz)</p>\n<p><br /><sp
 an style='text-decoration: underline\;'><strong>PM Snack</strong></span></
 p>\n<p>1/4 cup Cheese-its<br />4 oz 100% Apple Juice (8 oz for ages 6-12)<
 /p>
END:VEVENT
END:VCALENDAR
