BEGIN:VCALENDAR
VERSION:2.0
PRODID:-//https://denbighchristianacademy.com//NONSGML kigkonsult.se iCalcr
 eator 2.29.29//
CALSCALE:GREGORIAN
METHOD:PUBLISH
UID:7ba15344-d0f1-4244-8c1f-3fbbed912f25
X-WR-CALNAME:JCal Pro Calendar
X-WR-CALDESC:Your online events calendar
X-WR-TIMEZONE:UTC
BEGIN:VTIMEZONE
TZID:UTC
END:VTIMEZONE
BEGIN:VEVENT
UID:20191112T020000UTC-73750KLOWv@http://www.denbighchristianacademy.com/
DTSTAMP:20260421T120404Z
CATEGORIES:School Menu
DESCRIPTION:<p><span style='text-decoration: underline\;'><strong>Breakfast
 </strong></span></p>\n<p>Bagels and Cream Cheese<br />1/4-1/2 cup Pineappl
 e<br />Cereal (optional)<br />6 oz. 1% Milk (8 oz for ages 6-12)</p>\n<p><
 br /><span style='text-decoration: underline\;'><strong>AM Snack</strong><
 /span></p>\n<p>1/4 cup Orange Slices<br />1 Graham Cracker<br />4 oz 1% Mi
 lk (8 oz for ages 6-12)</p>\n<p><br /><span style='text-decoration: underl
 ine\;'><strong>Lunch</strong></span></p>\n<p>1 1/2 oz BBQ Meat Balls<br />
 1/4 cup Green Beans<br />1/4 cup Applesauce<br />Whole Wheat Bread<br />6 
 oz.1% Milk (ages 6-12 8 oz)</p>\n<p><br /><span style='text-decoration: un
 derline\;'><strong>PM Snack</strong></span></p>\n<p>1 Oatmeal Square<br />
 4 oz 1% Milk (8 oz for ages 6-12)</p>
DTSTART:20191112T000000Z
DTEND:20191112T235959Z
SUMMARY:Tuesday
URL:https://denbighchristianacademy.com/index.php/school-calendar/lunch-men
 u/10-school-menu/111-tuesday
X-ALT-DESC;FMTTYPE=TEXT/HTML:<p><span style='text-decoration: underline\;'>
 <strong>Breakfast</strong></span></p>\n<p>Bagels and Cream Cheese<br />1/4
 -1/2 cup Pineapple<br />Cereal (optional)<br />6 oz. 1% Milk (8 oz for age
 s 6-12)</p>\n<p><br /><span style='text-decoration: underline\;'><strong>A
 M Snack</strong></span></p>\n<p>1/4 cup Orange Slices<br />1 Graham Cracke
 r<br />4 oz 1% Milk (8 oz for ages 6-12)</p>\n<p><br /><span style='text-d
 ecoration: underline\;'><strong>Lunch</strong></span></p>\n<p>1 1/2 oz BBQ
  Meat Balls<br />1/4 cup Green Beans<br />1/4 cup Applesauce<br />Whole Wh
 eat Bread<br />6 oz.1% Milk (ages 6-12 8 oz)</p>\n<p><br /><span style='te
 xt-decoration: underline\;'><strong>PM Snack</strong></span></p>\n<p>1 Oat
 meal Square<br />4 oz 1% Milk (8 oz for ages 6-12)</p>
END:VEVENT
END:VCALENDAR
