BEGIN:VCALENDAR
VERSION:2.0
PRODID:-//https://denbighchristianacademy.com//NONSGML kigkonsult.se iCalcr
 eator 2.29.29//
CALSCALE:GREGORIAN
METHOD:PUBLISH
UID:7fb75cb9-0281-48d6-8a41-0b02cffeed9d
X-WR-CALNAME:JCal Pro Calendar
X-WR-CALDESC:Your online events calendar
X-WR-TIMEZONE:UTC
BEGIN:VTIMEZONE
TZID:UTC
END:VTIMEZONE
BEGIN:VEVENT
UID:20191202T200000UTC-2881lil0iX@http://www.denbighchristianacademy.com/
DTSTAMP:20260420T104404Z
CATEGORIES:School Menu
DESCRIPTION:<p><span style='text-decoration: underline\;'><strong>Breakfast
 </strong></span></p>\n<p>1/4 - 1/2 cup Cream of Wheat<br />1/4-1/2 cup Pea
 rs<br />Cereal (optional)<br />6 oz. 1% Milk (8 oz for ages 6-12)</p>\n<p>
 <br /><span style='text-decoration: underline\;'><strong>AM Snack</strong>
 </span></p>\n<p>1/4 cup Fruit<br />4 oz 1% Milk (8 oz for ages 6-12)</p>\n
 <p><br /><span style='text-decoration: underline\;'><strong>Lunch</strong>
 </span></p>\n<p>1 1/2 oz Mac &amp\; Cheese<br />1/4 cup Broccoli<br />1/4 
 cup Applesauce<br />6 oz.1% Milk (ages 6-12 8 oz)</p>\n<p><br /><span styl
 e='text-decoration: underline\;'><strong>PM Snack</strong></span></p>\n<p>
 1/4 cup Animal Crackers<br />4 oz 1% Milk (8 oz for ages 6-12)</p>
DTSTART:20191202T000000Z
DTEND:20191202T235959Z
SUMMARY:Monday
URL:https://denbighchristianacademy.com/index.php/school-calendar/lunch-men
 u/10-school-menu/123-monday
X-ALT-DESC;FMTTYPE=TEXT/HTML:<p><span style='text-decoration: underline\;'>
 <strong>Breakfast</strong></span></p>\n<p>1/4 - 1/2 cup Cream of Wheat<br 
 />1/4-1/2 cup Pears<br />Cereal (optional)<br />6 oz. 1% Milk (8 oz for ag
 es 6-12)</p>\n<p><br /><span style='text-decoration: underline\;'><strong>
 AM Snack</strong></span></p>\n<p>1/4 cup Fruit<br />4 oz 1% Milk (8 oz for
  ages 6-12)</p>\n<p><br /><span style='text-decoration: underline\;'><stro
 ng>Lunch</strong></span></p>\n<p>1 1/2 oz Mac &amp\; Cheese<br />1/4 cup B
 roccoli<br />1/4 cup Applesauce<br />6 oz.1% Milk (ages 6-12 8 oz)</p>\n<p
 ><br /><span style='text-decoration: underline\;'><strong>PM Snack</strong
 ></span></p>\n<p>1/4 cup Animal Crackers<br />4 oz 1% Milk (8 oz for ages 
 6-12)</p>
END:VEVENT
END:VCALENDAR
