BEGIN:VCALENDAR
VERSION:2.0
PRODID:-//https://denbighchristianacademy.com//NONSGML kigkonsult.se iCalcr
 eator 2.29.29//
CALSCALE:GREGORIAN
METHOD:PUBLISH
UID:85872418-6c94-4427-8139-7776c42de6cb
X-WR-CALNAME:JCal Pro Calendar
X-WR-CALDESC:Your online events calendar
X-WR-TIMEZONE:UTC
BEGIN:VTIMEZONE
TZID:UTC
END:VTIMEZONE
BEGIN:VEVENT
UID:20191205T210000UTC-9779unLO14@http://www.denbighchristianacademy.com/
DTSTAMP:20260420T103457Z
CATEGORIES:School Menu
DESCRIPTION:<p><span style='text-decoration: underline\;'><strong>Breakfast
 </strong></span></p>\n<p>1/4 - 1/2 cup Cheese Grits<br />1/4 - 1/2 cup Mix
 ed Fruit<br />Cereal (optional)<br />6 oz. 1% Milk (8 oz for ages 6-12)</p
 >\n<p><br /><span style='text-decoration: underline\;'><strong>AM Snack</s
 trong></span></p>\n<p>1/4 cup Apple Slices<br />1 Graham Cracker<br />4 oz
  Water (8 oz for ages 6-12)</p>\n<p><br /><span style='text-decoration: un
 derline\;'><strong>Lunch</strong></span></p>\n<p>1 1/2 oz Salisbury Steak<
 br />1 Whole Wheat Roll<br />1/4 cup Peas &amp\; Carrots<br />1/4 cup Pine
 apple<br />6 oz.1% Milk (ages 6-12 8 oz)</p>\n<p><br /><span style='text-d
 ecoration: underline\;'><strong>PM Snack</strong></span></p>\n<p>1/4 cup Y
 ogurt<br />4 oz 1% Milk (8 oz for ages 6-12)</p>
DTSTART:20191205T000000Z
DTEND:20191205T235959Z
SUMMARY:Thursday
URL:https://denbighchristianacademy.com/index.php/school-calendar/lunch-men
 u/10-school-menu/126-thursday
X-ALT-DESC;FMTTYPE=TEXT/HTML:<p><span style='text-decoration: underline\;'>
 <strong>Breakfast</strong></span></p>\n<p>1/4 - 1/2 cup Cheese Grits<br />
 1/4 - 1/2 cup Mixed Fruit<br />Cereal (optional)<br />6 oz. 1% Milk (8 oz 
 for ages 6-12)</p>\n<p><br /><span style='text-decoration: underline\;'><s
 trong>AM Snack</strong></span></p>\n<p>1/4 cup Apple Slices<br />1 Graham 
 Cracker<br />4 oz Water (8 oz for ages 6-12)</p>\n<p><br /><span style='te
 xt-decoration: underline\;'><strong>Lunch</strong></span></p>\n<p>1 1/2 oz
  Salisbury Steak<br />1 Whole Wheat Roll<br />1/4 cup Peas &amp\; Carrots<
 br />1/4 cup Pineapple<br />6 oz.1% Milk (ages 6-12 8 oz)</p>\n<p><br /><s
 pan style='text-decoration: underline\;'><strong>PM Snack</strong></span><
 /p>\n<p>1/4 cup Yogurt<br />4 oz 1% Milk (8 oz for ages 6-12)</p>
END:VEVENT
END:VCALENDAR
