BEGIN:VCALENDAR
VERSION:2.0
PRODID:-//https://denbighchristianacademy.com//NONSGML kigkonsult.se iCalcr
 eator 2.29.29//
CALSCALE:GREGORIAN
METHOD:PUBLISH
UID:62b6b139-aced-4dc5-ad35-4370c88bd06b
X-WR-CALNAME:JCal Pro Calendar
X-WR-CALDESC:Your online events calendar
X-WR-TIMEZONE:UTC
BEGIN:VTIMEZONE
TZID:UTC
END:VTIMEZONE
BEGIN:VEVENT
UID:20191206T210000UTC-6768fX0O33@http://www.denbighchristianacademy.com/
DTSTAMP:20260420T104552Z
CATEGORIES:School Menu
DESCRIPTION:<p><span style='text-decoration: underline\;'><strong>Breakfast
 </strong></span></p>\n<p>Pancakes<br />1/4-1/2 cup Apple Sauce<br />Cereal
  (optional)<br />6 oz. 1% Milk (8 oz for ages 6-12)</p>\n<p><br /><span st
 yle='text-decoration: underline\;'><strong>AM Snack</strong></span></p>\n<
 p>1/4 cup Orange Slices<br />4 oz 1% Milk (8 oz for ages 6-12)</p>\n<p><br
  /><span style='text-decoration: underline\;'><strong>Lunch</strong></span
 ></p>\n<p>1 1/2 oz Turkey &amp\; Cheese<br />1 Whole Wheat Bread<br />1/4 
 cup Broccoli &amp\; Carrots<br />1/4 cup Fresh Apple Slices<br />6 oz.1% M
 ilk (ages 6-12 8 oz)</p>\n<p><br /><span style='text-decoration: underline
 \;'><strong>PM Snack</strong></span></p>\n<p>1/4 cup Chex Mix<br />4 oz 1%
  Milk (8 oz for ages 6-12)</p>
DTSTART:20191206T000000Z
DTEND:20191206T235959Z
SUMMARY:Friday
URL:https://denbighchristianacademy.com/index.php/school-calendar/lunch-men
 u/10-school-menu/127-friday
X-ALT-DESC;FMTTYPE=TEXT/HTML:<p><span style='text-decoration: underline\;'>
 <strong>Breakfast</strong></span></p>\n<p>Pancakes<br />1/4-1/2 cup Apple 
 Sauce<br />Cereal (optional)<br />6 oz. 1% Milk (8 oz for ages 6-12)</p>\n
 <p><br /><span style='text-decoration: underline\;'><strong>AM Snack</stro
 ng></span></p>\n<p>1/4 cup Orange Slices<br />4 oz 1% Milk (8 oz for ages 
 6-12)</p>\n<p><br /><span style='text-decoration: underline\;'><strong>Lun
 ch</strong></span></p>\n<p>1 1/2 oz Turkey &amp\; Cheese<br />1 Whole Whea
 t Bread<br />1/4 cup Broccoli &amp\; Carrots<br />1/4 cup Fresh Apple Slic
 es<br />6 oz.1% Milk (ages 6-12 8 oz)</p>\n<p><br /><span style='text-deco
 ration: underline\;'><strong>PM Snack</strong></span></p>\n<p>1/4 cup Chex
  Mix<br />4 oz 1% Milk (8 oz for ages 6-12)</p>
END:VEVENT
END:VCALENDAR
