BEGIN:VCALENDAR
VERSION:2.0
PRODID:-//https://denbighchristianacademy.com//NONSGML kigkonsult.se iCalcr
 eator 2.29.29//
CALSCALE:GREGORIAN
METHOD:PUBLISH
UID:dc8fde08-5a5c-4928-8bb7-505c27db67c9
X-WR-CALNAME:JCal Pro Calendar
X-WR-CALDESC:Your online events calendar
X-WR-TIMEZONE:UTC
BEGIN:VTIMEZONE
TZID:UTC
END:VTIMEZONE
BEGIN:VEVENT
UID:20200212T180000UTC-0729v8X5gT@http://www.denbighchristianacademy.com/
DTSTAMP:20260420T103545Z
CATEGORIES:School Menu
DESCRIPTION:<p><span style='text-decoration: underline\;'><strong>Breakfast
 </strong></span></p>\n<p>French Toast<br />1/4-1/2 cup Pears<br />Cereal (
 optional)<br />6 oz. 1% Milk (8 oz for ages 6-12)</p>\n<p><br /><span styl
 e='text-decoration: underline\;'><strong>AM Snack</strong></span></p>\n<p>
 1/4 cup Pretzels<br />4 oz 1% Milk (8 oz for ages 6-12)</p>\n<p><br /><spa
 n style='text-decoration: underline\;'><strong>Lunch</strong></span></p>\n
 <p>1/2 cup Mac &amp\; Cheese<br />1/4 cup String Beans<br />1/4 cup Pineap
 ples<br />6 oz.1% Milk (ages 6-12 8 oz)</p>\n<p><br /><span style='text-de
 coration: underline\;'><strong>PM Snack</strong></span></p>\n<p>Gogurt<br 
 />4 oz 100% Apple Juice (8 oz for ages 6-12)</p>
DTSTART:20200212T000000Z
DTEND:20200212T235959Z
SUMMARY:Wednesday
URL:https://denbighchristianacademy.com/index.php/school-calendar/lunch-men
 u/10-school-menu/175-wednesday
X-ALT-DESC;FMTTYPE=TEXT/HTML:<p><span style='text-decoration: underline\;'>
 <strong>Breakfast</strong></span></p>\n<p>French Toast<br />1/4-1/2 cup Pe
 ars<br />Cereal (optional)<br />6 oz. 1% Milk (8 oz for ages 6-12)</p>\n<p
 ><br /><span style='text-decoration: underline\;'><strong>AM Snack</strong
 ></span></p>\n<p>1/4 cup Pretzels<br />4 oz 1% Milk (8 oz for ages 6-12)</
 p>\n<p><br /><span style='text-decoration: underline\;'><strong>Lunch</str
 ong></span></p>\n<p>1/2 cup Mac &amp\; Cheese<br />1/4 cup String Beans<br
  />1/4 cup Pineapples<br />6 oz.1% Milk (ages 6-12 8 oz)</p>\n<p><br /><sp
 an style='text-decoration: underline\;'><strong>PM Snack</strong></span></
 p>\n<p>Gogurt<br />4 oz 100% Apple Juice (8 oz for ages 6-12)</p>
END:VEVENT
END:VCALENDAR
