BEGIN:VCALENDAR
VERSION:2.0
PRODID:-//https://denbighchristianacademy.com//NONSGML kigkonsult.se iCalcr
 eator 2.29.29//
CALSCALE:GREGORIAN
METHOD:PUBLISH
UID:c2bb5d1c-2b1f-4f3b-a0db-10d118a39e8f
X-WR-CALNAME:JCal Pro Calendar
X-WR-CALDESC:Your online events calendar
X-WR-TIMEZONE:UTC
BEGIN:VTIMEZONE
TZID:UTC
END:VTIMEZONE
BEGIN:VEVENT
UID:20220620T160000UTC-5265O1XCes@https://www.denbighchristianacademy.com/
DTSTAMP:20260424T220202Z
CATEGORIES:School Menu
DESCRIPTION:<p>DCA is closed for Juneteenth.</p>
DTSTART:20220620T000000Z
DTEND:20220620T235959Z
SUMMARY:Monday
URL:https://denbighchristianacademy.com/index.php/school-calendar/lunch-men
 u/10-school-menu/877-monday
X-ALT-DESC;FMTTYPE=TEXT/HTML:<p>DCA is closed for Juneteenth.</p>
END:VEVENT
END:VCALENDAR
