BEGIN:VCALENDAR
VERSION:2.0
PRODID:-//https://denbighchristianacademy.com//NONSGML kigkonsult.se iCalcr
 eator 2.29.29//
CALSCALE:GREGORIAN
METHOD:PUBLISH
UID:3023dd47-1036-475a-8e57-9a2f542d142f
X-WR-CALNAME:JCal Pro Calendar
X-WR-CALDESC:Your online events calendar
X-WR-TIMEZONE:UTC
BEGIN:VTIMEZONE
TZID:UTC
END:VTIMEZONE
BEGIN:VEVENT
UID:20221006T140000UTC-2362EBbvAF@https://www.denbighchristianacademy.com/
DTSTAMP:20260424T225717Z
CATEGORIES:School Menu
DESCRIPTION:<p><span style='text-decoration: underline\;'><strong>Breakfast
 </strong></span></p>\n<p>3.5 oz Cheese Omelet<br />1 - 2 oz Turkey Sausage
 <br />1 1/2 - 2 oz WW Toast<br />1/4 cup Fruit Cocktail<br />1/4-1/2 cup C
 ereal (optional)<br />6 oz. 1% Milk (8 oz for ages 6-12)</p>\n<p><br /><sp
 an style='text-decoration: underline\;'><strong>AM Snack</strong></span></
 p>\n<p>1 oz WG Ritz Bits w/Cheese<br />4 oz 1% Milk (8 oz for ages 6-12)</
 p>\n<p><br /><span style='text-decoration: underline\;'><strong>Lunch</str
 ong></span></p>\n<p>1 1/2 - 2 oz Salisbuiry Steak<br />WW Roll<br />1/4-1/
 2 cup Mixed Vegetables<br />1/4-1/2 cup Mashed Potatoes<br />1/4 cp Fruit 
 Cocktail<br />6 oz.1% Milk (ages 6-12 8 oz)</p>\n<p><br /><span style='tex
 t-decoration: underline\;'><strong>PM Snack</strong></span></p>\n<p>1 oz L
 ittle Bites Muffins<br />4 oz 1% Milk (8 oz for ages 6-12)</p>
DTSTART:20221006T000000Z
DTEND:20221006T235959Z
SUMMARY:Thursday
URL:https://denbighchristianacademy.com/index.php/school-calendar/lunch-men
 u/10-school-menu/1001-thursday
X-ALT-DESC;FMTTYPE=TEXT/HTML:<p><span style='text-decoration: underline\;'>
 <strong>Breakfast</strong></span></p>\n<p>3.5 oz Cheese Omelet<br />1 - 2 
 oz Turkey Sausage<br />1 1/2 - 2 oz WW Toast<br />1/4 cup Fruit Cocktail<b
 r />1/4-1/2 cup Cereal (optional)<br />6 oz. 1% Milk (8 oz for ages 6-12)<
 /p>\n<p><br /><span style='text-decoration: underline\;'><strong>AM Snack<
 /strong></span></p>\n<p>1 oz WG Ritz Bits w/Cheese<br />4 oz 1% Milk (8 oz
  for ages 6-12)</p>\n<p><br /><span style='text-decoration: underline\;'><
 strong>Lunch</strong></span></p>\n<p>1 1/2 - 2 oz Salisbuiry Steak<br />WW
  Roll<br />1/4-1/2 cup Mixed Vegetables<br />1/4-1/2 cup Mashed Potatoes<b
 r />1/4 cp Fruit Cocktail<br />6 oz.1% Milk (ages 6-12 8 oz)</p>\n<p><br /
 ><span style='text-decoration: underline\;'><strong>PM Snack</strong></spa
 n></p>\n<p>1 oz Little Bites Muffins<br />4 oz 1% Milk (8 oz for ages 6-12
 )</p>
END:VEVENT
END:VCALENDAR
