BEGIN:VCALENDAR
VERSION:2.0
PRODID:-//https://denbighchristianacademy.com//NONSGML kigkonsult.se iCalcr
 eator 2.29.29//
CALSCALE:GREGORIAN
METHOD:PUBLISH
UID:c18aadb9-aba9-4023-b84c-25f24ad4d74a
X-WR-CALNAME:JCal Pro Calendar
X-WR-CALDESC:Your online events calendar
X-WR-TIMEZONE:UTC
BEGIN:VTIMEZONE
TZID:UTC
END:VTIMEZONE
BEGIN:VEVENT
UID:20221109T180000UTC-1722JNBjHh@https://www.denbighchristianacademy.com/
DTSTAMP:20260424T214511Z
CATEGORIES:School Menu
DESCRIPTION:<p><span style='text-decoration: underline\;'><strong>Breakfast
 </strong></span></p>\n<p>1 1/2 oz Biscuit w/Gravy<br />1/4-1/2 cup Fruit C
 ocktail<br />1/4-1/2 cup Cereal (optional)<br />6 oz. 1% Milk (8 oz for ag
 es 6-12)</p>\n<p><br /><span style='text-decoration: underline\;'><strong>
 AM Snack</strong></span></p>\n<p>1/4-1/2 cup WG Chee-it Crackers<br />4 oz
  1% Milk (8 oz for ages 6-12)</p>\n<p><br /><span style='text-decoration: 
 underline\;'><strong>Lunch</strong></span></p>\n<p>1 1/2 - 2 oz Spaghetti 
 w/Meat Sauce<br />1/2 - 1 Garlic Bread Stick<br />1/4-1/2 cup Tossed Salad
  w/Dressing<br />1/4 cup Mixed Fruit<br />6 oz.1% Milk (ages 6-12 8 oz)</p
 >\n<p><br /><span style='text-decoration: underline\;'><strong>PM Snack</s
 trong></span></p>\n<p>1/4-1/2 cup Pretzels<br />4 oz 100% Apple Juice (8 o
 z for ages 6-12)</p>
DTSTART:20221109T000000Z
DTEND:20221109T235959Z
SUMMARY:Wednesday
URL:https://denbighchristianacademy.com/index.php/school-calendar/lunch-men
 u/10-school-menu/1025-wednesday
X-ALT-DESC;FMTTYPE=TEXT/HTML:<p><span style='text-decoration: underline\;'>
 <strong>Breakfast</strong></span></p>\n<p>1 1/2 oz Biscuit w/Gravy<br />1/
 4-1/2 cup Fruit Cocktail<br />1/4-1/2 cup Cereal (optional)<br />6 oz. 1% 
 Milk (8 oz for ages 6-12)</p>\n<p><br /><span style='text-decoration: unde
 rline\;'><strong>AM Snack</strong></span></p>\n<p>1/4-1/2 cup WG Chee-it C
 rackers<br />4 oz 1% Milk (8 oz for ages 6-12)</p>\n<p><br /><span style='
 text-decoration: underline\;'><strong>Lunch</strong></span></p>\n<p>1 1/2 
 - 2 oz Spaghetti w/Meat Sauce<br />1/2 - 1 Garlic Bread Stick<br />1/4-1/2
  cup Tossed Salad w/Dressing<br />1/4 cup Mixed Fruit<br />6 oz.1% Milk (a
 ges 6-12 8 oz)</p>\n<p><br /><span style='text-decoration: underline\;'><s
 trong>PM Snack</strong></span></p>\n<p>1/4-1/2 cup Pretzels<br />4 oz 100%
  Apple Juice (8 oz for ages 6-12)</p>
END:VEVENT
END:VCALENDAR
