BEGIN:VCALENDAR
VERSION:2.0
PRODID:-//https://denbighchristianacademy.com//NONSGML kigkonsult.se iCalcr
 eator 2.29.29//
CALSCALE:GREGORIAN
METHOD:PUBLISH
UID:238321d1-4b0b-477f-94a5-f76a4b046791
X-WR-CALNAME:JCal Pro Calendar
X-WR-CALDESC:Your online events calendar
X-WR-TIMEZONE:UTC
BEGIN:VTIMEZONE
TZID:UTC
END:VTIMEZONE
BEGIN:VEVENT
UID:20230614T130000UTC-9693vmdu1b@https://www.denbighchristianacademy.com/
DTSTAMP:20260424T213539Z
CATEGORIES:School Menu
DESCRIPTION:<p><span style='text-decoration: underline\;'><strong>Breakfast
 </strong></span></p>\n<p>1 1/2 oz (2) Pancakes<br />1/4-1/2 cup Diced Pine
 apples<br />1/4-1/2 cup Cereal (optional)<br />6 oz. 1% Milk (8 oz for age
 s 6-12)</p>\n<p><br /><span style='text-decoration: underline\;'><strong>A
 M Snack</strong></span></p>\n<p>1/4-1/2 cup Ritz Crackers &amp\; Cheese Cu
 bes<br />4 oz Water (8 oz for ages 6-12)</p>\n<p><br /><span style='text-d
 ecoration: underline\;'><strong>Lunch</strong></span></p>\n<p>1 1/2 - 2 oz
  Beef &amp\; Buttered Noodles<br />WW Bread<br />1/4-1/2 cup Broccoli<br /
 >1/4 cup Fruit Cocktail<br />6 oz.1% Milk (ages 6-12 8 oz)</p>\n<p><br /><
 span style='text-decoration: underline\;'><strong>PM Snack</strong></span>
 </p>\n<p>1/4-1/2 cup Teddy Graham Crackers<br />4 oz 1% Milk (8 oz for age
 s 6-12)</p>
DTSTART:20230614T000000Z
DTEND:20230614T235959Z
SUMMARY:Wednesday
URL:https://denbighchristianacademy.com/index.php/school-calendar/lunch-men
 u/10-school-menu/1170-wednesday
X-ALT-DESC;FMTTYPE=TEXT/HTML:<p><span style='text-decoration: underline\;'>
 <strong>Breakfast</strong></span></p>\n<p>1 1/2 oz (2) Pancakes<br />1/4-1
 /2 cup Diced Pineapples<br />1/4-1/2 cup Cereal (optional)<br />6 oz. 1% M
 ilk (8 oz for ages 6-12)</p>\n<p><br /><span style='text-decoration: under
 line\;'><strong>AM Snack</strong></span></p>\n<p>1/4-1/2 cup Ritz Crackers
  &amp\; Cheese Cubes<br />4 oz Water (8 oz for ages 6-12)</p>\n<p><br /><s
 pan style='text-decoration: underline\;'><strong>Lunch</strong></span></p>
 \n<p>1 1/2 - 2 oz Beef &amp\; Buttered Noodles<br />WW Bread<br />1/4-1/2 
 cup Broccoli<br />1/4 cup Fruit Cocktail<br />6 oz.1% Milk (ages 6-12 8 oz
 )</p>\n<p><br /><span style='text-decoration: underline\;'><strong>PM Snac
 k</strong></span></p>\n<p>1/4-1/2 cup Teddy Graham Crackers<br />4 oz 1% M
 ilk (8 oz for ages 6-12)</p>
END:VEVENT
END:VCALENDAR
