BEGIN:VCALENDAR
VERSION:2.0
PRODID:-//https://denbighchristianacademy.com//NONSGML kigkonsult.se iCalcr
 eator 2.29.29//
CALSCALE:GREGORIAN
METHOD:PUBLISH
UID:94937628-4d62-4063-aee9-771a35b61c27
X-WR-CALNAME:JCal Pro Calendar
X-WR-CALDESC:Your online events calendar
X-WR-TIMEZONE:UTC
BEGIN:VTIMEZONE
TZID:UTC
END:VTIMEZONE
BEGIN:VEVENT
UID:20230626T170000UTC-3441iEKind@https://www.denbighchristianacademy.com/
DTSTAMP:20260424T213549Z
CATEGORIES:School Menu
DESCRIPTION:<p><span style='text-decoration: underline\;'><strong>Breakfast
 </strong></span></p>\n<p>2 oz Bagels w/Cream Cheese<br />1/4-1/2 cup Diced
  Pears<br />1/4-1/2 cup Cereal (optional)<br />6 oz. 1% Milk (8 oz for age
 s 6-12)</p>\n<p><br /><span style='text-decoration: underline\;'><strong>A
 M Snack</strong></span></p>\n<p>1/4-1/2&nbsp\; cup Apple Slices w/Cheese C
 ubes<br />4 oz 1% Milk (8 oz for ages 6-12)</p>\n<p><br /><span style='tex
 t-decoration: underline\;'><strong>Lunch</strong></span></p>\n<p>1 1/2 - 2
  oz Chicken &amp\; Dumplings<br />WW Bread<br />1/4-1/2 cup Green Beans<br
  />1/4 cup MIxed Fruit<br />6 oz.1% Milk (ages 6-12 8 oz)</p>\n<p><br /><s
 pan style='text-decoration: underline\;'><strong>PM Snack</strong></span><
 /p>\n<p>1/4-1/2 cup Captain Waffer Sandwich Crackers<br />4 oz 1% Milk (8 
 oz for ages 6-12)</p>
DTSTART:20230626T000000Z
DTEND:20230626T235959Z
SUMMARY:Monday
URL:https://denbighchristianacademy.com/index.php/school-calendar/lunch-men
 u/10-school-menu/1230-monday
X-ALT-DESC;FMTTYPE=TEXT/HTML:<p><span style='text-decoration: underline\;'>
 <strong>Breakfast</strong></span></p>\n<p>2 oz Bagels w/Cream Cheese<br />
 1/4-1/2 cup Diced Pears<br />1/4-1/2 cup Cereal (optional)<br />6 oz. 1% M
 ilk (8 oz for ages 6-12)</p>\n<p><br /><span style='text-decoration: under
 line\;'><strong>AM Snack</strong></span></p>\n<p>1/4-1/2&nbsp\; cup Apple 
 Slices w/Cheese Cubes<br />4 oz 1% Milk (8 oz for ages 6-12)</p>\n<p><br /
 ><span style='text-decoration: underline\;'><strong>Lunch</strong></span><
 /p>\n<p>1 1/2 - 2 oz Chicken &amp\; Dumplings<br />WW Bread<br />1/4-1/2 c
 up Green Beans<br />1/4 cup MIxed Fruit<br />6 oz.1% Milk (ages 6-12 8 oz)
 </p>\n<p><br /><span style='text-decoration: underline\;'><strong>PM Snack
 </strong></span></p>\n<p>1/4-1/2 cup Captain Waffer Sandwich Crackers<br /
 >4 oz 1% Milk (8 oz for ages 6-12)</p>
END:VEVENT
END:VCALENDAR
