BEGIN:VCALENDAR
VERSION:2.0
PRODID:-//https://denbighchristianacademy.com//NONSGML kigkonsult.se iCalcr
 eator 2.29.29//
CALSCALE:GREGORIAN
METHOD:PUBLISH
UID:6545ef75-44ef-42e2-8be8-3340e931dfb3
X-WR-CALNAME:JCal Pro Calendar
X-WR-CALDESC:Your online events calendar
X-WR-TIMEZONE:UTC
BEGIN:VTIMEZONE
TZID:UTC
END:VTIMEZONE
BEGIN:VEVENT
UID:20230904T170000UTC-1488L6RJGP@https://www.denbighchristianacademy.com/
DTSTAMP:20260425T033317Z
CATEGORIES:School Menu
DESCRIPTION:<p>DCA is closed for Labor Day.</p>
DTSTART:20230904T000000Z
DTEND:20230904T235959Z
SUMMARY:Monday - Closed for Labor Day
URL:https://denbighchristianacademy.com/index.php/school-calendar/lunch-men
 u/10-school-menu/1280-monday-closed-for-labor-day
X-ALT-DESC;FMTTYPE=TEXT/HTML:<p>DCA is closed for Labor Day.</p>
END:VEVENT
END:VCALENDAR
