BEGIN:VCALENDAR
VERSION:2.0
PRODID:-//https://denbighchristianacademy.com//NONSGML kigkonsult.se iCalcr
 eator 2.29.29//
CALSCALE:GREGORIAN
METHOD:PUBLISH
UID:2163d0fd-ca3d-4139-a336-a0b0de1096fc
X-WR-CALNAME:JCal Pro Calendar
X-WR-CALDESC:Your online events calendar
X-WR-TIMEZONE:UTC
BEGIN:VTIMEZONE
TZID:UTC
END:VTIMEZONE
BEGIN:VEVENT
UID:20230911T140000UTC-1411v3XNVc@https://www.denbighchristianacademy.com/
DTSTAMP:20260425T132557Z
CATEGORIES:School Menu
DESCRIPTION:<p><span style='text-decoration: underline\;'><strong>Breakfast
 </strong></span></p>\n<p>1 1/2 oz Turkey Bacon Biscuits<br />1/4-1/2 cup P
 ineapple<br />1/4-1/2 cup Cereal (optional)<br />6 oz. 1% Milk (8 oz for a
 ges 6-12)</p>\n<p><br /><span style='text-decoration: underline\;'><strong
 >AM Snack</strong></span></p>\n<p>1/4-1/2 cup Ritz Crackers w/Cheese Cubes
 <br />4 oz Water (8 oz for ages 6-12)</p>\n<p><br /><span style='text-deco
 ration: underline\;'><strong>Lunch</strong></span></p>\n<p>1 1/2 - 2 oz Ch
 icken Nuggets<br />WW Roll<br />1/4-1/2 cup Mixed Vegetables<br />1/4 cup 
 Mixed Fruit<br />6 oz.1% Milk (ages 6-12 8 oz)</p>\n<p><br /><span style='
 text-decoration: underline\;'><strong>PM Snack</strong></span></p>\n<p>1/4
 -1/2 cup Bug Bites Crackers<br />4 oz 1% Milk (8 oz for ages 6-12)</p>
DTSTART:20230911T000000Z
DTEND:20230911T235959Z
SUMMARY:Monday
URL:https://denbighchristianacademy.com/index.php/school-calendar/lunch-men
 u/10-school-menu/1285-monday
X-ALT-DESC;FMTTYPE=TEXT/HTML:<p><span style='text-decoration: underline\;'>
 <strong>Breakfast</strong></span></p>\n<p>1 1/2 oz Turkey Bacon Biscuits<b
 r />1/4-1/2 cup Pineapple<br />1/4-1/2 cup Cereal (optional)<br />6 oz. 1%
  Milk (8 oz for ages 6-12)</p>\n<p><br /><span style='text-decoration: und
 erline\;'><strong>AM Snack</strong></span></p>\n<p>1/4-1/2 cup Ritz Cracke
 rs w/Cheese Cubes<br />4 oz Water (8 oz for ages 6-12)</p>\n<p><br /><span
  style='text-decoration: underline\;'><strong>Lunch</strong></span></p>\n<
 p>1 1/2 - 2 oz Chicken Nuggets<br />WW Roll<br />1/4-1/2 cup Mixed Vegetab
 les<br />1/4 cup Mixed Fruit<br />6 oz.1% Milk (ages 6-12 8 oz)</p>\n<p><b
 r /><span style='text-decoration: underline\;'><strong>PM Snack</strong></
 span></p>\n<p>1/4-1/2 cup Bug Bites Crackers<br />4 oz 1% Milk (8 oz for a
 ges 6-12)</p>
END:VEVENT
END:VCALENDAR
