BEGIN:VCALENDAR
VERSION:2.0
PRODID:-//https://denbighchristianacademy.com//NONSGML kigkonsult.se iCalcr
 eator 2.29.29//
CALSCALE:GREGORIAN
METHOD:PUBLISH
UID:2117d49d-ae57-48b2-8861-0ec5a12057ab
X-WR-CALNAME:JCal Pro Calendar
X-WR-CALDESC:Your online events calendar
X-WR-TIMEZONE:UTC
BEGIN:VTIMEZONE
TZID:UTC
END:VTIMEZONE
BEGIN:VEVENT
UID:20240228T170000UTC-2328ArjP6X@https://www.denbighchristianacademy.com/
DTSTAMP:20260424T201401Z
CATEGORIES:School Menu
DESCRIPTION:<p><span style='text-decoration: underline\;'><strong>Breakfast
 </strong></span></p>\n<p>1 1/2 oz Bagel w/Cream Cheese<br />1/4-1/2 cup Fr
 uit Cocktail<br />1/4-1/2 cup Cereal (optional)<br />6 oz. 1% Milk (8 oz f
 or ages 6-12)</p>\n<p><br /><span style='text-decoration: underline\;'><st
 rong>AM Snack</strong></span></p>\n<p>1/4-1/2 cup WG Teddy Graham Crackers
 <br />4 oz 1% Milk (8 oz for ages 6-12)</p>\n<p><br /><span style='text-de
 coration: underline\;'><strong>Lunch</strong></span></p>\n<p>1 1/2 - 2 oz 
 Chicken Tenders<br />1 WW Bread<br />1/4-1/2 cup Vegetable Rice<br />1/4 c
 up Mixed Fruit<br />6 oz.1% Milk (ages 6-12 8 oz)</p>\n<p><br /><span styl
 e='text-decoration: underline\;'><strong>PM Snack</strong></span></p>\n<p>
 1/4-1/2 cup Pretzels<br />4 oz 100% Grape Juice (8 oz for ages 6-12)</p>
DTSTART:20240228T000000Z
DTEND:20240228T235959Z
SUMMARY:Wednesday
URL:https://denbighchristianacademy.com/index.php/school-calendar/lunch-men
 u/10-school-menu/1406-wednesday
X-ALT-DESC;FMTTYPE=TEXT/HTML:<p><span style='text-decoration: underline\;'>
 <strong>Breakfast</strong></span></p>\n<p>1 1/2 oz Bagel w/Cream Cheese<br
  />1/4-1/2 cup Fruit Cocktail<br />1/4-1/2 cup Cereal (optional)<br />6 oz
 . 1% Milk (8 oz for ages 6-12)</p>\n<p><br /><span style='text-decoration:
  underline\;'><strong>AM Snack</strong></span></p>\n<p>1/4-1/2 cup WG Tedd
 y Graham Crackers<br />4 oz 1% Milk (8 oz for ages 6-12)</p>\n<p><br /><sp
 an style='text-decoration: underline\;'><strong>Lunch</strong></span></p>
 \n<p>1 1/2 - 2 oz Chicken Tenders<br />1 WW Bread<br />1/4-1/2 cup Vegetab
 le Rice<br />1/4 cup Mixed Fruit<br />6 oz.1% Milk (ages 6-12 8 oz)</p>\n<
 p><br /><span style='text-decoration: underline\;'><strong>PM Snack</stron
 g></span></p>\n<p>1/4-1/2 cup Pretzels<br />4 oz 100% Grape Juice (8 oz fo
 r ages 6-12)</p>
END:VEVENT
END:VCALENDAR
