BEGIN:VCALENDAR
VERSION:2.0
PRODID:-//https://denbighchristianacademy.com//NONSGML kigkonsult.se iCalcr
 eator 2.29.29//
CALSCALE:GREGORIAN
METHOD:PUBLISH
UID:c5c0f2ed-ae7c-4938-9714-9509eba8de91
X-WR-CALNAME:JCal Pro Calendar
X-WR-CALDESC:Your online events calendar
X-WR-TIMEZONE:UTC
BEGIN:VTIMEZONE
TZID:UTC
END:VTIMEZONE
BEGIN:VEVENT
UID:20240722T130000UTC-4889AOA7A0@https://www.denbighchristianacademy.com/
DTSTAMP:20260424T213557Z
CATEGORIES:School Menu
DESCRIPTION:<p><span style='text-decoration: underline\;'><strong>Breakfast
 </strong></span></p>\n<p>1 ½ oz French Toast Sticks<br />1/4-1/2 cup Pears
 <br />1/4-1/2 cup Cereal (optional)<br />6 oz. 1% Milk (8 oz for ages 6-12
 )</p>\n<p><br /><span style='text-decoration: underline\;'><strong>AM Snac
 k</strong></span></p>\n<p>1/4-1/2 cup Fig Newtons<br />4 oz 1% Milk (8 oz 
 for ages 6-12)</p>\n<p><br /><span style='text-decoration: underline\;'><s
 trong>Lunch</strong></span></p>\n<p>1 1/2 -2 oz Corn Dogs<br />1/4-1/2 cup
  Peas &amp\; Carrots<br />1/4 cup Mixed Fruit<br />6 oz.1% Milk (ages 6-12
  8 oz)</p>\n<p><br /><span style='text-decoration: underline\;'><strong>PM
  Snack</strong></span></p>\n<p>1/4-1/2 cup Pretzels<br />4 oz 100% Grape J
 uice (8 oz for ages 6-12)</p>
DTSTART:20240722T000000Z
DTEND:20240722T235959Z
SUMMARY:Monday
URL:https://denbighchristianacademy.com/index.php/school-calendar/lunch-men
 u/10-school-menu/1508-monday
X-ALT-DESC;FMTTYPE=TEXT/HTML:<p><span style='text-decoration: underline\;'>
 <strong>Breakfast</strong></span></p>\n<p>1 ½ oz French Toast Sticks<br />
 1/4-1/2 cup Pears<br />1/4-1/2 cup Cereal (optional)<br />6 oz. 1% Milk (8
  oz for ages 6-12)</p>\n<p><br /><span style='text-decoration: underline\;
 '><strong>AM Snack</strong></span></p>\n<p>1/4-1/2 cup Fig Newtons<br />4 
 oz 1% Milk (8 oz for ages 6-12)</p>\n<p><br /><span style='text-decoration
 : underline\;'><strong>Lunch</strong></span></p>\n<p>1 1/2 -2 oz Corn Dogs
 <br />1/4-1/2 cup Peas &amp\; Carrots<br />1/4 cup Mixed Fruit<br />6 oz.1
 % Milk (ages 6-12 8 oz)</p>\n<p><br /><span style='text-decoration: underl
 ine\;'><strong>PM Snack</strong></span></p>\n<p>1/4-1/2 cup Pretzels<br />
 4 oz 100% Grape Juice (8 oz for ages 6-12)</p>
END:VEVENT
END:VCALENDAR
