BEGIN:VCALENDAR
VERSION:2.0
PRODID:-//https://denbighchristianacademy.com//NONSGML kigkonsult.se iCalcr
 eator 2.29.29//
CALSCALE:GREGORIAN
METHOD:PUBLISH
UID:8a15758c-160a-4597-9040-4b6257593beb
X-WR-CALNAME:JCal Pro Calendar
X-WR-CALDESC:Your online events calendar
X-WR-TIMEZONE:UTC
BEGIN:VTIMEZONE
TZID:UTC
END:VTIMEZONE
BEGIN:VEVENT
UID:20240816T160000UTC-0355cBBTLD@https://www.denbighchristianacademy.com/
DTSTAMP:20260424T201400Z
CATEGORIES:School Menu
DESCRIPTION:<p><span style='text-decoration: underline\;'><strong>Breakfast
 </strong></span></p>\n<p>1/4-1/2 cup Oatmeal<br />1/4-1/2 cup Mixed Fruit<
 br />1/4-1/2 cup Cereal (optional)<br />6 oz. 1% Milk (8 oz for ages 6-12)
 </p>\n<p><br /><span style='text-decoration: underline\;'><strong>AM Snack
 </strong></span></p>\n<p>1/4-1/2 cup Applesauce w/Graham Crackers<br />4 o
 z Water (8 oz for ages 6-12)</p>\n<p><br /><span style='text-decoration: u
 nderline\;'><strong>Lunch</strong></span></p>\n<p>1 1/2 - 2 oz Hamburger/C
 heeseburger<br />on WW Bun<br />1 oz bag Chips<br />1/4 cup Fruit Cocktail
 <br />6 oz.1% Milk (ages 6-12 8 oz)</p>\n<p><br /><span style='text-decora
 tion: underline\;'><strong>PM Snack</strong></span></p>\n<p>1 oz pk Ritz B
 its Crackers w/Cheese<br />4 oz 1% Milk (8 oz for ages 6-12)</p>
DTSTART:20240816T000000Z
DTEND:20240816T235959Z
SUMMARY:Friday
URL:https://denbighchristianacademy.com/index.php/school-calendar/lunch-men
 u/10-school-menu/1527-friday
X-ALT-DESC;FMTTYPE=TEXT/HTML:<p><span style='text-decoration: underline\;'>
 <strong>Breakfast</strong></span></p>\n<p>1/4-1/2 cup Oatmeal<br />1/4-1/2
  cup Mixed Fruit<br />1/4-1/2 cup Cereal (optional)<br />6 oz. 1% Milk (8 
 oz for ages 6-12)</p>\n<p><br /><span style='text-decoration: underline\;'
 ><strong>AM Snack</strong></span></p>\n<p>1/4-1/2 cup Applesauce w/Graham 
 Crackers<br />4 oz Water (8 oz for ages 6-12)</p>\n<p><br /><span style='t
 ext-decoration: underline\;'><strong>Lunch</strong></span></p>\n<p>1 1/2 -
  2 oz Hamburger/Cheeseburger<br />on WW Bun<br />1 oz bag Chips<br />1/4 c
 up Fruit Cocktail<br />6 oz.1% Milk (ages 6-12 8 oz)</p>\n<p><br /><span s
 tyle='text-decoration: underline\;'><strong>PM Snack</strong></span></p>\n
 <p>1 oz pk Ritz Bits Crackers w/Cheese<br />4 oz 1% Milk (8 oz for ages 6-
 12)</p>
END:VEVENT
END:VCALENDAR
