BEGIN:VCALENDAR
VERSION:2.0
PRODID:-//https://denbighchristianacademy.com//NONSGML kigkonsult.se iCalcr
 eator 2.29.29//
CALSCALE:GREGORIAN
METHOD:PUBLISH
UID:6ebfd3db-a1cd-4c4b-a5cc-ab4bd34a58bc
X-WR-CALNAME:JCal Pro Calendar
X-WR-CALDESC:Your online events calendar
X-WR-TIMEZONE:UTC
BEGIN:VTIMEZONE
TZID:UTC
END:VTIMEZONE
BEGIN:VEVENT
UID:20241104T120000UTC-6349CsWvD1@https://www.denbighchristianacademy.com/
DTSTAMP:20260424T180353Z
CATEGORIES:School Menu
DESCRIPTION:<p><span style='text-decoration: underline\;'><strong>Breakfast
 </strong></span></p>\n<p>1/4-1/2 cup Oatmeal<br />1/4-1/2 cup Pineapple<br
  />1/4-1/2 cup Cereal (optional)<br />6 oz. 1% Milk (8 oz for ages 6-12)</
 p>\n<p><br /><span style='text-decoration: underline\;'><strong>AM Snack</
 strong></span></p>\n<p>Apple Slices<br />2 oz Saltine Crackers<br />4 oz W
 ater (8 oz for ages 6-12)</p>\n<p><br /><span style='text-decoration: unde
 rline\;'><strong>Lunch</strong></span></p>\n<p>1/4-1/2 cup BBQ Chicken on 
 WW Bun<br />w/Cole Slaw<br />1/4-1/2 cup Green Beans<br />1/4 cup Mixed Fr
 uit<br />6 oz.1% Milk (ages 6-12 8 oz)</p>\n<p><br /><span style='text-dec
 oration: underline\;'><strong>PM Snack</strong></span></p>\n<p>1.5 oz pk o
 f WG Cheez-it Crackers<br />4 oz 1% Milk (8 oz for ages 6-12)</p>
DTSTART:20241104T000000Z
DTEND:20241104T235959Z
SUMMARY:Monday
URL:https://denbighchristianacademy.com/index.php/school-calendar/lunch-men
 u/10-school-menu/1633-monday
X-ALT-DESC;FMTTYPE=TEXT/HTML:<p><span style='text-decoration: underline\;'>
 <strong>Breakfast</strong></span></p>\n<p>1/4-1/2 cup Oatmeal<br />1/4-1/2
  cup Pineapple<br />1/4-1/2 cup Cereal (optional)<br />6 oz. 1% Milk (8 oz
  for ages 6-12)</p>\n<p><br /><span style='text-decoration: underline\;'><
 strong>AM Snack</strong></span></p>\n<p>Apple Slices<br />2 oz Saltine Cra
 ckers<br />4 oz Water (8 oz for ages 6-12)</p>\n<p><br /><span style='text
 -decoration: underline\;'><strong>Lunch</strong></span></p>\n<p>1/4-1/2 cu
 p BBQ Chicken on WW Bun<br />w/Cole Slaw<br />1/4-1/2 cup Green Beans<br /
 >1/4 cup Mixed Fruit<br />6 oz.1% Milk (ages 6-12 8 oz)</p>\n<p><br /><spa
 n style='text-decoration: underline\;'><strong>PM Snack</strong></span></p
 >\n<p>1.5 oz pk of WG Cheez-it Crackers<br />4 oz 1% Milk (8 oz for ages 6
 -12)</p>
END:VEVENT
END:VCALENDAR
