BEGIN:VCALENDAR
VERSION:2.0
PRODID:-//https://denbighchristianacademy.com//NONSGML kigkonsult.se iCalcr
 eator 2.29.29//
CALSCALE:GREGORIAN
METHOD:PUBLISH
UID:b2dbbd53-60a1-49f9-bc5b-f171d9474910
X-WR-CALNAME:JCal Pro Calendar
X-WR-CALDESC:Your online events calendar
X-WR-TIMEZONE:UTC
BEGIN:VTIMEZONE
TZID:UTC
END:VTIMEZONE
BEGIN:VEVENT
UID:20241122T180000UTC-38374lMj7E@https://www.denbighchristianacademy.com/
DTSTAMP:20260424T211040Z
CATEGORIES:School Menu
DESCRIPTION:<p><span style='text-decoration: underline\;'><strong>Breakfast
 </strong></span></p>\n<p>1/4-1/2 cup Cream of Wheat<br />1/4-1/2 cup Mixed
  Fruit<br />1/4-1/2 cup Cereal (optional)<br />6 oz. 1% Milk (8 oz for age
 s 6-12)</p>\n<p><br /><span style='text-decoration: underline\;'><strong>A
 M Snack</strong></span></p>\n<p>1 oz Cheese Cubes<br />2 oz Ritz Crackers<
 br />4 oz Water (8 oz for ages 6-12)</p>\n<p><br /><span style='text-decor
 ation: underline\;'><strong>Lunch</strong></span></p>\n<p>2 oz Turkey Sand
 wich<br />1 bag of Potato Chips<br />1/4 cup Fruit<br />6 oz.1% Milk (ages
  6-12 8 oz)</p>\n<p><br /><span style='text-decoration: underline\;'><stro
 ng>PM Snack</strong></span></p>\n<p>1.3 oz Nutri Grain Bar<br />4 oz 1% Mi
 lk (8 oz for ages 6-12)</p>
DTSTART:20241122T000000Z
DTEND:20241122T235959Z
SUMMARY:Friday
URL:https://denbighchristianacademy.com/index.php/school-calendar/lunch-men
 u/10-school-menu/1647-friday
X-ALT-DESC;FMTTYPE=TEXT/HTML:<p><span style='text-decoration: underline\;'>
 <strong>Breakfast</strong></span></p>\n<p>1/4-1/2 cup Cream of Wheat<br />
 1/4-1/2 cup Mixed Fruit<br />1/4-1/2 cup Cereal (optional)<br />6 oz. 1% M
 ilk (8 oz for ages 6-12)</p>\n<p><br /><span style='text-decoration: under
 line\;'><strong>AM Snack</strong></span></p>\n<p>1 oz Cheese Cubes<br />2 
 oz Ritz Crackers<br />4 oz Water (8 oz for ages 6-12)</p>\n<p><br /><span 
 style='text-decoration: underline\;'><strong>Lunch</strong></span></p>\n<p
 >2 oz Turkey Sandwich<br />1 bag of Potato Chips<br />1/4 cup Fruit<br />6
  oz.1% Milk (ages 6-12 8 oz)</p>\n<p><br /><span style='text-decoration: u
 nderline\;'><strong>PM Snack</strong></span></p>\n<p>1.3 oz Nutri Grain Ba
 r<br />4 oz 1% Milk (8 oz for ages 6-12)</p>
END:VEVENT
END:VCALENDAR
