BEGIN:VCALENDAR
VERSION:2.0
PRODID:-//https://denbighchristianacademy.com//NONSGML kigkonsult.se iCalcr
 eator 2.29.29//
CALSCALE:GREGORIAN
METHOD:PUBLISH
UID:5501543f-8334-4bcd-a1a1-9b388daeea06
X-WR-CALNAME:JCal Pro Calendar
X-WR-CALDESC:Your online events calendar
X-WR-TIMEZONE:UTC
BEGIN:VTIMEZONE
TZID:UTC
END:VTIMEZONE
BEGIN:VEVENT
UID:20250210T190000UTC-1922vhEVVg@https://www.denbighchristianacademy.com/
DTSTAMP:20260424T163032Z
CATEGORIES:School Menu
DESCRIPTION:<p><span style='text-decoration: underline\;'><strong>Breakfast
 </strong></span></p>\n<p>1/4-1/2 cup Baked Apples<br />2 oz Biscuit<br />1
 /4-1/2 cup Cereal (optional)<br />6 oz. 1% Milk (8 oz for ages 6-12)</p>\n
 <p><br /><span style='text-decoration: underline\;'><strong>AM Snack</stro
 ng></span></p>\n<p>1/2 - 1 Apple<br />2 oz Graham Crackers<br />4 oz Water
  (8 oz for ages 6-12)</p>\n<p><br /><span style='text-decoration: underlin
 e\;'><strong>Lunch</strong></span></p>\n<p>1/2 cup Chicken &amp\; Dumpling
 s<br />WW Roll<br />1/4-1/2 cup Peas &amp\; Carrots<br />1/4 cup Fruit<br 
 />6 oz.1% Milk (ages 6-12 8 oz)</p>\n<p><br /><span style='text-decoration
 : underline\;'><strong>PM Snack</strong></span></p>\n<p>1 oz bag of Pretze
 ls<br />4 oz 1% Milk (8 oz for ages 6-12)</p>
DTSTART:20250210T000000Z
DTEND:20250210T235959Z
SUMMARY:Monday
URL:https://denbighchristianacademy.com/index.php/school-calendar/lunch-men
 u/10-school-menu/1686-monday
X-ALT-DESC;FMTTYPE=TEXT/HTML:<p><span style='text-decoration: underline\;'>
 <strong>Breakfast</strong></span></p>\n<p>1/4-1/2 cup Baked Apples<br />2 
 oz Biscuit<br />1/4-1/2 cup Cereal (optional)<br />6 oz. 1% Milk (8 oz for
  ages 6-12)</p>\n<p><br /><span style='text-decoration: underline\;'><stro
 ng>AM Snack</strong></span></p>\n<p>1/2 - 1 Apple<br />2 oz Graham Cracker
 s<br />4 oz Water (8 oz for ages 6-12)</p>\n<p><br /><span style='text-dec
 oration: underline\;'><strong>Lunch</strong></span></p>\n<p>1/2 cup Chicke
 n &amp\; Dumplings<br />WW Roll<br />1/4-1/2 cup Peas &amp\; Carrots<br />
 1/4 cup Fruit<br />6 oz.1% Milk (ages 6-12 8 oz)</p>\n<p><br /><span style
 ='text-decoration: underline\;'><strong>PM Snack</strong></span></p>\n<p>1
  oz bag of Pretzels<br />4 oz 1% Milk (8 oz for ages 6-12)</p>
END:VEVENT
END:VCALENDAR
