BEGIN:VCALENDAR
VERSION:2.0
PRODID:-//https://denbighchristianacademy.com//NONSGML kigkonsult.se iCalcr
 eator 2.29.29//
CALSCALE:GREGORIAN
METHOD:PUBLISH
UID:f5f0c283-4660-4024-859e-ac0716d941be
X-WR-CALNAME:JCal Pro Calendar
X-WR-CALDESC:Your online events calendar
X-WR-TIMEZONE:UTC
BEGIN:VTIMEZONE
TZID:UTC
END:VTIMEZONE
BEGIN:VEVENT
UID:20250212T190000UTC-39040AhUR2@https://www.denbighchristianacademy.com/
DTSTAMP:20260424T163032Z
CATEGORIES:School Menu
DESCRIPTION:<p><span style='text-decoration: underline\;'><strong>Breakfast
 </strong></span></p>\n<p>1 ½ oz Waffles<br />1/4-1/2 cup Peaches<br />1/4-
 1/2 cup Cereal (optional)<br />6 oz. 1% Milk (8 oz for ages 6-12)</p>\n<p>
 <br /><span style='text-decoration: underline\;'><strong>AM Snack</strong>
 </span></p>\n<p>1 Orange<br />2 oz Ritz Crackers<br />4 oz Water (8 oz for
  ages 6-12)</p>\n<p><br /><span style='text-decoration: underline\;'><stro
 ng>Lunch</strong></span></p>\n<p>1 1/2 - 3 oz Hamburger/Cheeseburger on<br
  />WW Bun<br />1/4-1/2 cup Mixed Vegetables<br />1/4 cup Fruit<br />6 oz.1
 % Milk (ages 6-12 8 oz)</p>\n<p><br /><span style='text-decoration: underl
 ine\;'><strong>PM Snack</strong></span></p>\n<p>3.9 oz Applesauce<br />2 o
 z Saltine Crackers<br />4 oz Water (8 oz for ages 6-12)</p>
DTSTART:20250212T000000Z
DTEND:20250212T235959Z
SUMMARY:Wednesday
URL:https://denbighchristianacademy.com/index.php/school-calendar/lunch-men
 u/10-school-menu/1688-wednesday
X-ALT-DESC;FMTTYPE=TEXT/HTML:<p><span style='text-decoration: underline\;'>
 <strong>Breakfast</strong></span></p>\n<p>1 ½ oz Waffles<br />1/4-1/2 cup 
 Peaches<br />1/4-1/2 cup Cereal (optional)<br />6 oz. 1% Milk (8 oz for ag
 es 6-12)</p>\n<p><br /><span style='text-decoration: underline\;'><strong>
 AM Snack</strong></span></p>\n<p>1 Orange<br />2 oz Ritz Crackers<br />4 o
 z Water (8 oz for ages 6-12)</p>\n<p><br /><span style='text-decoration: u
 nderline\;'><strong>Lunch</strong></span></p>\n<p>1 1/2 - 3 oz Hamburger/C
 heeseburger on<br />WW Bun<br />1/4-1/2 cup Mixed Vegetables<br />1/4 cup 
 Fruit<br />6 oz.1% Milk (ages 6-12 8 oz)</p>\n<p><br /><span style='text-d
 ecoration: underline\;'><strong>PM Snack</strong></span></p>\n<p>3.9 oz Ap
 plesauce<br />2 oz Saltine Crackers<br />4 oz Water (8 oz for ages 6-12)</
 p>
END:VEVENT
END:VCALENDAR
