BEGIN:VCALENDAR
VERSION:2.0
PRODID:-//https://denbighchristianacademy.com//NONSGML kigkonsult.se iCalcr
 eator 2.29.29//
CALSCALE:GREGORIAN
METHOD:PUBLISH
UID:63ff1afc-3004-42b0-a927-290639a2b5fa
X-WR-CALNAME:JCal Pro Calendar
X-WR-CALDESC:Your online events calendar
X-WR-TIMEZONE:UTC
BEGIN:VTIMEZONE
TZID:UTC
END:VTIMEZONE
BEGIN:VEVENT
UID:20250901T140000UTC-0268sZDCn5@https://www.denbighchristianacademy.com/
DTSTAMP:20260424T175916Z
CATEGORIES:School Menu
DESCRIPTION:<p>DCA is Closed for Labor Day.</p>
DTSTART:20250901T000000Z
DTEND:20250901T235959Z
SUMMARY:Monday - Closed for Labor Day
URL:https://denbighchristianacademy.com/index.php/school-calendar/lunch-men
 u/10-school-menu/1881-monday-closed-for-labor-day
X-ALT-DESC;FMTTYPE=TEXT/HTML:<p>DCA is Closed for Labor Day.</p>
END:VEVENT
END:VCALENDAR
