BEGIN:VCALENDAR
VERSION:2.0
PRODID:-//https://denbighchristianacademy.com//NONSGML kigkonsult.se iCalcr
 eator 2.29.29//
CALSCALE:GREGORIAN
METHOD:PUBLISH
UID:382e99d6-0487-413e-b374-88eb850d1d6c
X-WR-CALNAME:JCal Pro Calendar
X-WR-CALDESC:Your online events calendar
X-WR-TIMEZONE:UTC
BEGIN:VTIMEZONE
TZID:UTC
END:VTIMEZONE
BEGIN:VEVENT
UID:20260105T150000UTC-51828uoZbl@https://www.denbighchristianacademy.com/
DTSTAMP:20260424T150633Z
CATEGORIES:School Menu
DESCRIPTION:<p><span style='text-decoration: underline\;'><strong>Breakfast
 </strong></span></p>\n<p><br />2 oz French Toast<br />1/4-1/2 cup Fruit<br
  />1/4-1/2 cup Cereal (optional)<br />6 oz. 1% Milk (8 oz for ages 6-12)</
 p>\n<p><br /><span style='text-decoration: underline\;'><strong>AM Snack</
 strong></span></p>\n<p>1.3 oz Nutri Grain Bar<br />4 oz 1 % Milk (8 oz for
  ages 6-12)</p>\n<p><br /><span style='text-decoration: underline\;'><stro
 ng>Lunch</strong></span></p>\n<p>1/2 - 1 cup Mac &amp\; Cheese<br />WW Bre
 ad<br />1/4-1/2 cup Mixed Vegetables<br />1/4 cup Fruit<br />6 oz.1% Milk 
 (ages 6-12 8 oz)</p>\n<p><br /><span style='text-decoration: underline\;'>
 <strong>PM Snack</strong></span></p>\n<p>1 oz bag Teddy Grahams<br />4 oz 
 1% Milk (8 oz for ages 6-12)</p>
DTSTART:20260105T000000Z
DTEND:20260105T235959Z
SUMMARY:Monday
URL:https://denbighchristianacademy.com/index.php/school-calendar/lunch-men
 u/10-school-menu/1962-monday
X-ALT-DESC;FMTTYPE=TEXT/HTML:<p><span style='text-decoration: underline\;'>
 <strong>Breakfast</strong></span></p>\n<p><br />2 oz French Toast<br />1/4
 -1/2 cup Fruit<br />1/4-1/2 cup Cereal (optional)<br />6 oz. 1% Milk (8 oz
  for ages 6-12)</p>\n<p><br /><span style='text-decoration: underline\;'><
 strong>AM Snack</strong></span></p>\n<p>1.3 oz Nutri Grain Bar<br />4 oz 1
  % Milk (8 oz for ages 6-12)</p>\n<p><br /><span style='text-decoration: u
 nderline\;'><strong>Lunch</strong></span></p>\n<p>1/2 - 1 cup Mac &amp\; C
 heese<br />WW Bread<br />1/4-1/2 cup Mixed Vegetables<br />1/4 cup Fruit<b
 r />6 oz.1% Milk (ages 6-12 8 oz)</p>\n<p><br /><span style='text-decorati
 on: underline\;'><strong>PM Snack</strong></span></p>\n<p>1 oz bag Teddy G
 rahams<br />4 oz 1% Milk (8 oz for ages 6-12)</p>
END:VEVENT
END:VCALENDAR
