BEGIN:VCALENDAR
VERSION:2.0
PRODID:-//https://denbighchristianacademy.com//NONSGML kigkonsult.se iCalcr
 eator 2.29.29//
CALSCALE:GREGORIAN
METHOD:PUBLISH
UID:2a1bb3f9-87fa-4fb5-ac43-9740efd847f0
X-WR-CALNAME:JCal Pro Calendar
X-WR-CALDESC:Your online events calendar
X-WR-TIMEZONE:UTC
BEGIN:VTIMEZONE
TZID:UTC
END:VTIMEZONE
BEGIN:VEVENT
UID:20260106T150000UTC-9663KiVB5j@https://www.denbighchristianacademy.com/
DTSTAMP:20260424T162946Z
CATEGORIES:School Menu
DESCRIPTION:<p><span style='text-decoration: underline\;'><strong>Breakfast
 </strong></span></p>\n<p><br />1/4-1/2 cup&nbsp\;Oatmeal<br />1/4-1/2 cup 
 Fruit<br />1/4-1/2 cup Cereal (optional)<br />6 oz. 1% Milk (8 oz for ages
  6-12)</p>\n<p><br /><span style='text-decoration: underline\;'><strong>AM
  Snack</strong></span></p>\n<p>2 oz Seedless Grapes<br />2 oz Saltine Crac
 kers<br />4 oz 1% Milk (8 oz for ages 6-12)</p>\n<p><br /><span style='tex
 t-decoration: underline\;'><strong>Lunch</strong></span></p>\n<p>1 - 2 oz 
 BBQ Chicken w/Cole Slaw<br />WW Roll<br />1/4-1/2 cup Peas &amp\; Carrots<
 br />1/4 cup Fruit<br />6 oz.1% Milk (ages 6-12 8 oz)</p>\n<p><br /><span 
 style='text-decoration: underline\;'><strong>PM Snack</strong></span></p>
 \n<p>1 oz bag Ritz Bits Crackers w/Cheese<br />4 oz 1% Milk (8 oz for ages
  6-12)</p>
DTSTART:20260106T000000Z
DTEND:20260106T235959Z
SUMMARY:Tuesday
URL:https://denbighchristianacademy.com/index.php/school-calendar/lunch-men
 u/10-school-menu/1963-tuesday
X-ALT-DESC;FMTTYPE=TEXT/HTML:<p><span style='text-decoration: underline\;'>
 <strong>Breakfast</strong></span></p>\n<p><br />1/4-1/2 cup&nbsp\;Oatmeal<
 br />1/4-1/2 cup Fruit<br />1/4-1/2 cup Cereal (optional)<br />6 oz. 1% Mi
 lk (8 oz for ages 6-12)</p>\n<p><br /><span style='text-decoration: underl
 ine\;'><strong>AM Snack</strong></span></p>\n<p>2 oz Seedless Grapes<br />
 2 oz Saltine Crackers<br />4 oz 1% Milk (8 oz for ages 6-12)</p>\n<p><br /
 ><span style='text-decoration: underline\;'><strong>Lunch</strong></span><
 /p>\n<p>1 - 2 oz BBQ Chicken w/Cole Slaw<br />WW Roll<br />1/4-1/2 cup Pea
 s &amp\; Carrots<br />1/4 cup Fruit<br />6 oz.1% Milk (ages 6-12 8 oz)</p>
 \n<p><br /><span style='text-decoration: underline\;'><strong>PM Snack</st
 rong></span></p>\n<p>1 oz bag Ritz Bits Crackers w/Cheese<br />4 oz 1% Mil
 k (8 oz for ages 6-12)</p>
END:VEVENT
END:VCALENDAR
