BEGIN:VCALENDAR
VERSION:2.0
PRODID:-//https://denbighchristianacademy.com//NONSGML kigkonsult.se iCalcr
 eator 2.29.29//
CALSCALE:GREGORIAN
METHOD:PUBLISH
UID:25082476-4ad8-4853-85ad-619c37056685
X-WR-CALNAME:JCal Pro Calendar
X-WR-CALDESC:Your online events calendar
X-WR-TIMEZONE:UTC
BEGIN:VTIMEZONE
TZID:UTC
END:VTIMEZONE
BEGIN:VEVENT
UID:20260310T180000UTC-0668e8D70N@https://www.denbighchristianacademy.com/
DTSTAMP:20260424T070319Z
CATEGORIES:School Menu
DESCRIPTION:<p><span style='text-decoration: underline\;'><strong>Breakfast
 </strong></span></p>\n<p><br />1 - 2 oz Waffles<br />1/4-1/2 cup Peaches<b
 r />1/4-1/2 cup Cereal (optional)<br />6 oz. Milk (8 oz for ages 6-12)</p>
 \n<p><br /><span style='text-decoration: underline\;'><strong>AM Snack</st
 rong></span></p>\n<p>1/2 - 1 whole Orange<br />2 oz Graham Crackers<br />4
  oz Water (8 oz for ages 6-12)</p>\n<p><br /><span style='text-decoration:
  underline\;'><strong>Lunch</strong></span></p>\n<p>2 oz Nachos w/Tortilla
  Chips<br />Meat\, Sauce\, &amp\; Cheese<br />WW Bread<br />1/4-1/2 cup Co
 rn<br />1/4 cup Fruit<br />6 oz Milk (ages 6-12 8 oz)</p>\n<p><br /><span 
 style='text-decoration: underline\;'><strong>PM Snack</strong></span></p>
 \n<p>1 oz bag Gold Fish Crackers<br />4 oz Milk (8 oz for ages 6-12)</p>
DTSTART:20260310T000000Z
DTEND:20260310T235959Z
SUMMARY:Tuesday
URL:https://denbighchristianacademy.com/index.php/school-calendar/lunch-men
 u/10-school-menu/2009-tuesday
X-ALT-DESC;FMTTYPE=TEXT/HTML:<p><span style='text-decoration: underline\;'>
 <strong>Breakfast</strong></span></p>\n<p><br />1 - 2 oz Waffles<br />1/4-
 1/2 cup Peaches<br />1/4-1/2 cup Cereal (optional)<br />6 oz. Milk (8 oz f
 or ages 6-12)</p>\n<p><br /><span style='text-decoration: underline\;'><st
 rong>AM Snack</strong></span></p>\n<p>1/2 - 1 whole Orange<br />2 oz Graha
 m Crackers<br />4 oz Water (8 oz for ages 6-12)</p>\n<p><br /><span style=
 'text-decoration: underline\;'><strong>Lunch</strong></span></p>\n<p>2 oz 
 Nachos w/Tortilla Chips<br />Meat\, Sauce\, &amp\; Cheese<br />WW Bread<br
  />1/4-1/2 cup Corn<br />1/4 cup Fruit<br />6 oz Milk (ages 6-12 8 oz)</p>
 \n<p><br /><span style='text-decoration: underline\;'><strong>PM Snack</st
 rong></span></p>\n<p>1 oz bag Gold Fish Crackers<br />4 oz Milk (8 oz for 
 ages 6-12)</p>
END:VEVENT
END:VCALENDAR
