BEGIN:VCALENDAR
VERSION:2.0
PRODID:-//https://denbighchristianacademy.com//NONSGML kigkonsult.se iCalcr
 eator 2.29.29//
CALSCALE:GREGORIAN
METHOD:PUBLISH
UID:cb9a00b0-f2ae-42f6-8718-1c46e174a0ea
X-WR-CALNAME:JCal Pro Calendar
X-WR-CALDESC:Your online events calendar
X-WR-TIMEZONE:UTC
BEGIN:VTIMEZONE
TZID:UTC
END:VTIMEZONE
BEGIN:VEVENT
UID:20191111T020000UTC-73349Cr1ut@http://www.denbighchristianacademy.com/
DTSTAMP:20260420T152843Z
CATEGORIES:School Menu
DESCRIPTION:<p><span style='text-decoration: underline\;'><strong>Breakfast
 </strong></span></p>\n<p>French Toast<br />1/4-1/2 cup Orange Slices<br />
 Cereal (optional)<br />6 oz. 1% Milk (8 oz for ages 6-12)</p>\n<p><br /><s
 pan style='text-decoration: underline\;'><strong>AM Snack</strong></span><
 /p>\n<p>1/4 cup Cheez-Its<br />4 oz 1% Milk (8 oz for ages 6-12)</p>\n<p><
 br /><span style='text-decoration: underline\;'><strong>Lunch</strong></sp
 an></p>\n<p>1 1/2 oz Salisbusry Steak w/Gravy<br />1/4 cup Tater Tots<br /
 >1/4 cup Applesauce<br />Whole Wheat Bread<br />6 oz.1% Milk (ages 6-12 8 
 oz)</p>\n<p><br /><span style='text-decoration: underline\;'><strong>PM Sn
 ack</strong></span></p>\n<p>1/4 cup Nilla Wafers<br />4 oz 1% Milk (8 oz f
 or ages 6-12)</p>
DTSTART:20191111T000000Z
DTEND:20191111T235959Z
SUMMARY:Monday
URL:https://denbighchristianacademy.com/index.php/school-calendar/lunch-men
 u/10-school-menu/110-monday
X-ALT-DESC;FMTTYPE=TEXT/HTML:<p><span style='text-decoration: underline\;'>
 <strong>Breakfast</strong></span></p>\n<p>French Toast<br />1/4-1/2 cup Or
 ange Slices<br />Cereal (optional)<br />6 oz. 1% Milk (8 oz for ages 6-12)
 </p>\n<p><br /><span style='text-decoration: underline\;'><strong>AM Snack
 </strong></span></p>\n<p>1/4 cup Cheez-Its<br />4 oz 1% Milk (8 oz for age
 s 6-12)</p>\n<p><br /><span style='text-decoration: underline\;'><strong>L
 unch</strong></span></p>\n<p>1 1/2 oz Salisbusry Steak w/Gravy<br />1/4 cu
 p Tater Tots<br />1/4 cup Applesauce<br />Whole Wheat Bread<br />6 oz.1% M
 ilk (ages 6-12 8 oz)</p>\n<p><br /><span style='text-decoration: underline
 \;'><strong>PM Snack</strong></span></p>\n<p>1/4 cup Nilla Wafers<br />4 o
 z 1% Milk (8 oz for ages 6-12)</p>
END:VEVENT
BEGIN:VEVENT
UID:20191112T020000UTC-73750KLOWv@http://www.denbighchristianacademy.com/
DTSTAMP:20260420T152843Z
CATEGORIES:School Menu
DESCRIPTION:<p><span style='text-decoration: underline\;'><strong>Breakfast
 </strong></span></p>\n<p>Bagels and Cream Cheese<br />1/4-1/2 cup Pineappl
 e<br />Cereal (optional)<br />6 oz. 1% Milk (8 oz for ages 6-12)</p>\n<p><
 br /><span style='text-decoration: underline\;'><strong>AM Snack</strong><
 /span></p>\n<p>1/4 cup Orange Slices<br />1 Graham Cracker<br />4 oz 1% Mi
 lk (8 oz for ages 6-12)</p>\n<p><br /><span style='text-decoration: underl
 ine\;'><strong>Lunch</strong></span></p>\n<p>1 1/2 oz BBQ Meat Balls<br />
 1/4 cup Green Beans<br />1/4 cup Applesauce<br />Whole Wheat Bread<br />6 
 oz.1% Milk (ages 6-12 8 oz)</p>\n<p><br /><span style='text-decoration: un
 derline\;'><strong>PM Snack</strong></span></p>\n<p>1 Oatmeal Square<br />
 4 oz 1% Milk (8 oz for ages 6-12)</p>
DTSTART:20191112T000000Z
DTEND:20191112T235959Z
SUMMARY:Tuesday
URL:https://denbighchristianacademy.com/index.php/school-calendar/lunch-men
 u/10-school-menu/111-tuesday
X-ALT-DESC;FMTTYPE=TEXT/HTML:<p><span style='text-decoration: underline\;'>
 <strong>Breakfast</strong></span></p>\n<p>Bagels and Cream Cheese<br />1/4
 -1/2 cup Pineapple<br />Cereal (optional)<br />6 oz. 1% Milk (8 oz for age
 s 6-12)</p>\n<p><br /><span style='text-decoration: underline\;'><strong>A
 M Snack</strong></span></p>\n<p>1/4 cup Orange Slices<br />1 Graham Cracke
 r<br />4 oz 1% Milk (8 oz for ages 6-12)</p>\n<p><br /><span style='text-d
 ecoration: underline\;'><strong>Lunch</strong></span></p>\n<p>1 1/2 oz BBQ
  Meat Balls<br />1/4 cup Green Beans<br />1/4 cup Applesauce<br />Whole Wh
 eat Bread<br />6 oz.1% Milk (ages 6-12 8 oz)</p>\n<p><br /><span style='te
 xt-decoration: underline\;'><strong>PM Snack</strong></span></p>\n<p>1 Oat
 meal Square<br />4 oz 1% Milk (8 oz for ages 6-12)</p>
END:VEVENT
BEGIN:VEVENT
UID:20191113T020000UTC-26539o63ju@http://www.denbighchristianacademy.com/
DTSTAMP:20260420T152843Z
CATEGORIES:School Menu
DESCRIPTION:<p><span style='text-decoration: underline\;'><strong>Breakfast
 </strong></span></p>\n<p>Bagels &amp\; Cream Cheese<br />1/4 - 1/2 cup Pea
 rs<br />Cereal (optional)<br />6 oz. 1% Milk (8 oz for ages 6-12)</p>\n<p>
 <br /><span style='text-decoration: underline\;'><strong>AM Snack</strong>
 </span></p>\n<p>1/4 Apple Slices<br />4 oz 1% Milk (8 oz for ages 6-12)</p
 >\n<p><br /><span style='text-decoration: underline\;'><strong>Lunch</stro
 ng></span></p>\n<p>1 1/2 oz Dino Chicken Nuggets<br />1 Whole Wheat Bread<
 br />1/4 cup Corn<br />1/4 cup Pears<br />6 oz.1% Milk (ages 6-12 8 oz)</p
 >\n<p><br /><span style='text-decoration: underline\;'><strong>PM Snack</s
 trong></span></p>\n<p>1/4 cup Gold Fish<br />4 oz 1% Milk (8 oz for ages 6
 -12)</p>
DTSTART:20191113T000000Z
DTEND:20191113T235959Z
SUMMARY:Wednesday
URL:https://denbighchristianacademy.com/index.php/school-calendar/lunch-men
 u/10-school-menu/112-wednesday
X-ALT-DESC;FMTTYPE=TEXT/HTML:<p><span style='text-decoration: underline\;'>
 <strong>Breakfast</strong></span></p>\n<p>Bagels &amp\; Cream Cheese<br />
 1/4 - 1/2 cup Pears<br />Cereal (optional)<br />6 oz. 1% Milk (8 oz for ag
 es 6-12)</p>\n<p><br /><span style='text-decoration: underline\;'><strong>
 AM Snack</strong></span></p>\n<p>1/4 Apple Slices<br />4 oz 1% Milk (8 oz 
 for ages 6-12)</p>\n<p><br /><span style='text-decoration: underline\;'><s
 trong>Lunch</strong></span></p>\n<p>1 1/2 oz Dino Chicken Nuggets<br />1 W
 hole Wheat Bread<br />1/4 cup Corn<br />1/4 cup Pears<br />6 oz.1% Milk (a
 ges 6-12 8 oz)</p>\n<p><br /><span style='text-decoration: underline\;'><s
 trong>PM Snack</strong></span></p>\n<p>1/4 cup Gold Fish<br />4 oz 1% Milk
  (8 oz for ages 6-12)</p>
END:VEVENT
BEGIN:VEVENT
UID:20191114T020000UTC-7836IXJcs3@http://www.denbighchristianacademy.com/
DTSTAMP:20260420T152843Z
CATEGORIES:School Menu
DESCRIPTION:<p><span style='text-decoration: underline\;'><strong>Breakfast
 </strong></span></p>\n<p>Pancakes<br />1/4-1/2 cup Peaches<br />Cereal (op
 tional)<br />6 oz. 1% Milk (8 oz for ages 6-12)</p>\n<p><br /><span style=
 'text-decoration: underline\;'><strong>AM Snack</strong></span></p>\n<p>1/
 4 Chex Mix<br />4 oz 1% Milk (8 oz for ages 6-12)</p>\n<p><br /><span styl
 e='text-decoration: underline\;'><strong>Lunch</strong></span></p>\n<p>1 1
 /2 oz Beef Franks<br />1 Whole Wheat Bread<br />1/4 cup Tater Tots<br />1/
 4 cup Applesauce<br />6 oz.1% Milk (ages 6-12 8 oz)</p>\n<p><br /><span st
 yle='text-decoration: underline\;'><strong>PM Snack</strong></span></p>\n<
 p>1/4 cup Pretzels<br />4 oz 1% Milk (8 oz for ages 6-12)</p>
DTSTART:20191114T000000Z
DTEND:20191114T235959Z
SUMMARY:Thursday
URL:https://denbighchristianacademy.com/index.php/school-calendar/lunch-men
 u/10-school-menu/113-thursday
X-ALT-DESC;FMTTYPE=TEXT/HTML:<p><span style='text-decoration: underline\;'>
 <strong>Breakfast</strong></span></p>\n<p>Pancakes<br />1/4-1/2 cup Peache
 s<br />Cereal (optional)<br />6 oz. 1% Milk (8 oz for ages 6-12)</p>\n<p><
 br /><span style='text-decoration: underline\;'><strong>AM Snack</strong><
 /span></p>\n<p>1/4 Chex Mix<br />4 oz 1% Milk (8 oz for ages 6-12)</p>\n<p
 ><br /><span style='text-decoration: underline\;'><strong>Lunch</strong></
 span></p>\n<p>1 1/2 oz Beef Franks<br />1 Whole Wheat Bread<br />1/4 cup T
 ater Tots<br />1/4 cup Applesauce<br />6 oz.1% Milk (ages 6-12 8 oz)</p>\n
 <p><br /><span style='text-decoration: underline\;'><strong>PM Snack</stro
 ng></span></p>\n<p>1/4 cup Pretzels<br />4 oz 1% Milk (8 oz for ages 6-12)
 </p>
END:VEVENT
BEGIN:VEVENT
UID:20191115T020000UTC-9706JSsRwR@http://www.denbighchristianacademy.com/
DTSTAMP:20260420T152843Z
CATEGORIES:School Menu
DESCRIPTION:<p><span style='text-decoration: underline\;'><strong>Breakfast
 </strong></span></p>\n<p>1/4 - 1/2 cup Oatmeal<br />1/4-1/2 cup Applesauce
 <br />Cereal (optional)<br />6 oz. 1% Milk (8 oz for ages 6-12)</p>\n<p><b
 r /><span style='text-decoration: underline\;'><strong>AM Snack</strong></
 span></p>\n<p>1/4 cup Ritz Crackers<br />4 oz 1% Milk (8 oz for ages 6-12)
 </p>\n<p><br /><span style='text-decoration: underline\;'><strong>Lunch</s
 trong></span></p>\n<p>1 Slice Ham and Cheese<br />1 Whole Wheat Bread<br /
 >1/4 cup Fresh Carrots<br />1/4 cup Broccoli<br />1/4 cup Orange Slices<br
  />6 oz.1% Milk (ages 6-12 8 oz)</p>\n<p><br /><span style='text-decoratio
 n: underline\;'><strong>PM Snack</strong></span></p>\n<p>1 Rice Krispy Tre
 at<br />4 oz 100% Apple Juice (8 oz for ages 6-12)</p>
DTSTART:20191115T000000Z
DTEND:20191115T235959Z
SUMMARY:Friday
URL:https://denbighchristianacademy.com/index.php/school-calendar/lunch-men
 u/10-school-menu/114-friday
X-ALT-DESC;FMTTYPE=TEXT/HTML:<p><span style='text-decoration: underline\;'>
 <strong>Breakfast</strong></span></p>\n<p>1/4 - 1/2 cup Oatmeal<br />1/4-1
 /2 cup Applesauce<br />Cereal (optional)<br />6 oz. 1% Milk (8 oz for ages
  6-12)</p>\n<p><br /><span style='text-decoration: underline\;'><strong>AM
  Snack</strong></span></p>\n<p>1/4 cup Ritz Crackers<br />4 oz 1% Milk (8 
 oz for ages 6-12)</p>\n<p><br /><span style='text-decoration: underline\;'
 ><strong>Lunch</strong></span></p>\n<p>1 Slice Ham and Cheese<br />1 Whole
  Wheat Bread<br />1/4 cup Fresh Carrots<br />1/4 cup Broccoli<br />1/4 cup
  Orange Slices<br />6 oz.1% Milk (ages 6-12 8 oz)</p>\n<p><br /><span styl
 e='text-decoration: underline\;'><strong>PM Snack</strong></span></p>\n<p>
 1 Rice Krispy Treat<br />4 oz 100% Apple Juice (8 oz for ages 6-12)</p>
END:VEVENT
END:VCALENDAR
