BEGIN:VCALENDAR
VERSION:2.0
PRODID:-//https://denbighchristianacademy.com//NONSGML kigkonsult.se iCalcr
 eator 2.29.29//
CALSCALE:GREGORIAN
METHOD:PUBLISH
UID:da859038-c3cd-4560-a07d-f6a23cce6527
X-WR-CALNAME:JCal Pro Calendar
X-WR-CALDESC:Your online events calendar
X-WR-TIMEZONE:UTC
BEGIN:VTIMEZONE
TZID:UTC
END:VTIMEZONE
BEGIN:VEVENT
UID:20191118T130000UTC-9556cG7mEX@http://www.denbighchristianacademy.com/
DTSTAMP:20260420T135009Z
CATEGORIES:School Menu
DESCRIPTION:<p><span style='text-decoration: underline\;'><strong>Breakfast
 </strong></span></p>\n<p>French Toast<br />1/4-1/2 cup Applesauce<br />Cer
 eal (optional)<br />6 oz. 1% Milk (8 oz for ages 6-12)</p>\n<p><br /><span
  style='text-decoration: underline\;'><strong>AM Snack</strong></span></p>
 \n<p>1/4 cup Orange Slices<br />4 oz Water (8 oz for ages 6-12)</p>\n<p><b
 r /><span style='text-decoration: underline\;'><strong>Lunch</strong></spa
 n></p>\n<p>1 1//2 oz Spaghetti w/Meat Sauce<br />1/4 cup Sweet Peas<br />1
 /4 cup Tropical Fruit<br />1 Whole Wheat Roll<br />6 oz.1% Milk (ages 6-12
  8 oz)</p>\n<p><br /><span style='text-decoration: underline\;'><strong>PM
  Snack</strong></span></p>\n<p>1/2 oz Chocolate Chip Bar<br />4 oz 1% Milk
  (8 oz for ages 6-12)</p>
DTSTART:20191118T000000Z
DTEND:20191118T235959Z
SUMMARY:Monday
URL:https://denbighchristianacademy.com/index.php/school-calendar/lunch-men
 u/10-school-menu/115-monday
X-ALT-DESC;FMTTYPE=TEXT/HTML:<p><span style='text-decoration: underline\;'>
 <strong>Breakfast</strong></span></p>\n<p>French Toast<br />1/4-1/2 cup Ap
 plesauce<br />Cereal (optional)<br />6 oz. 1% Milk (8 oz for ages 6-12)</p
 >\n<p><br /><span style='text-decoration: underline\;'><strong>AM Snack</s
 trong></span></p>\n<p>1/4 cup Orange Slices<br />4 oz Water (8 oz for ages
  6-12)</p>\n<p><br /><span style='text-decoration: underline\;'><strong>Lu
 nch</strong></span></p>\n<p>1 1//2 oz Spaghetti w/Meat Sauce<br />1/4 cup 
 Sweet Peas<br />1/4 cup Tropical Fruit<br />1 Whole Wheat Roll<br />6 oz.1
 % Milk (ages 6-12 8 oz)</p>\n<p><br /><span style='text-decoration: underl
 ine\;'><strong>PM Snack</strong></span></p>\n<p>1/2 oz Chocolate Chip Bar<
 br />4 oz 1% Milk (8 oz for ages 6-12)</p>
END:VEVENT
BEGIN:VEVENT
UID:20191119T130000UTC-4322D8vKBo@http://www.denbighchristianacademy.com/
DTSTAMP:20260420T135009Z
CATEGORIES:School Menu
DESCRIPTION:<p><span style='text-decoration: underline\;'><strong>Breakfast
 </strong></span></p>\n<p>1/4 - 1/2 cup Cream of Wheat<br />1/4-1/2 cup Pea
 ches<br />Cereal (optional)<br />6 oz. 1% Milk (8 oz for ages 6-12)</p>\n<
 p><br /><span style='text-decoration: underline\;'><strong>AM Snack</stron
 g></span></p>\n<p>1/4 cup Carrots &amp\; Ranch Dressing</p>\n<p>4 oz 1% Mi
 lk (8 oz for ages 6-12)</p>\n<p><br /><span style='text-decoration: underl
 ine\;'><strong>Lunch</strong></span></p>\n<p>1 1/2 oz Beef Franks<br />1 W
 hole Wheat Roll<br />1/4 cup Carrots<br />1/4 cup Applesauce<br />6 oz.1% 
 Milk (ages 6-12 8 oz)</p>\n<p><br /><span style='text-decoration: underlin
 e\;'><strong>PM Snack</strong></span></p>\n<p>1/4 cup Nilla Wafers<br />4 
 oz 1% Milk (8 oz for ages 6-12)</p>
DTSTART:20191119T000000Z
DTEND:20191119T235959Z
SUMMARY:Tuesday
URL:https://denbighchristianacademy.com/index.php/school-calendar/lunch-men
 u/10-school-menu/116-tuesday
X-ALT-DESC;FMTTYPE=TEXT/HTML:<p><span style='text-decoration: underline\;'>
 <strong>Breakfast</strong></span></p>\n<p>1/4 - 1/2 cup Cream of Wheat<br 
 />1/4-1/2 cup Peaches<br />Cereal (optional)<br />6 oz. 1% Milk (8 oz for 
 ages 6-12)</p>\n<p><br /><span style='text-decoration: underline\;'><stron
 g>AM Snack</strong></span></p>\n<p>1/4 cup Carrots &amp\; Ranch Dressing</
 p>\n<p>4 oz 1% Milk (8 oz for ages 6-12)</p>\n<p><br /><span style='text-d
 ecoration: underline\;'><strong>Lunch</strong></span></p>\n<p>1 1/2 oz Bee
 f Franks<br />1 Whole Wheat Roll<br />1/4 cup Carrots<br />1/4 cup Applesa
 uce<br />6 oz.1% Milk (ages 6-12 8 oz)</p>\n<p><br /><span style='text-dec
 oration: underline\;'><strong>PM Snack</strong></span></p>\n<p>1/4 cup Nil
 la Wafers<br />4 oz 1% Milk (8 oz for ages 6-12)</p>
END:VEVENT
BEGIN:VEVENT
UID:20191120T130000UTC-8591C74sZL@http://www.denbighchristianacademy.com/
DTSTAMP:20260420T135009Z
CATEGORIES:School Menu
DESCRIPTION:<p><span style='text-decoration: underline\;'><strong>Breakfast
 </strong></span></p>\n<p>1/4 - 1/2 cup Oatmeal<br />1/4-1/2 cup Apple Slic
 es<br />Cereal (optional)<br />6 oz. 1% Milk (8 oz for ages 6-12)</p>\n<p>
 <br /><span style='text-decoration: underline\;'><strong>AM Snack</strong>
 </span></p>\n<p>1/4 cup Pretzel Mix<br />4 oz 1% Milk (8 oz for ages 6-12)
 </p>\n<p><br /><span style='text-decoration: underline\;'><strong>Lunch</s
 trong></span></p>\n<p>1/2 cup Mac &amp\; Cheese<br />1/4 cup String Beans<
 br />1/4 cup Pineapples<br />6 oz.1% Milk (ages 6-12 8 oz)</p>\n<p><br /><
 span style='text-decoration: underline\;'><strong>PM Snack</strong></span>
 </p>\n<p>1/2 oz Cinnamon &amp\; Brown Sugar<br />Oatmeal Squares<br />4 oz
  1% Milk (8 oz for ages 6-12)</p>
DTSTART:20191120T000000Z
DTEND:20191120T235959Z
SUMMARY:Wednesday
URL:https://denbighchristianacademy.com/index.php/school-calendar/lunch-men
 u/10-school-menu/117-wednesday
X-ALT-DESC;FMTTYPE=TEXT/HTML:<p><span style='text-decoration: underline\;'>
 <strong>Breakfast</strong></span></p>\n<p>1/4 - 1/2 cup Oatmeal<br />1/4-1
 /2 cup Apple Slices<br />Cereal (optional)<br />6 oz. 1% Milk (8 oz for ag
 es 6-12)</p>\n<p><br /><span style='text-decoration: underline\;'><strong>
 AM Snack</strong></span></p>\n<p>1/4 cup Pretzel Mix<br />4 oz 1% Milk (8 
 oz for ages 6-12)</p>\n<p><br /><span style='text-decoration: underline\;'
 ><strong>Lunch</strong></span></p>\n<p>1/2 cup Mac &amp\; Cheese<br />1/4 
 cup String Beans<br />1/4 cup Pineapples<br />6 oz.1% Milk (ages 6-12 8 oz
 )</p>\n<p><br /><span style='text-decoration: underline\;'><strong>PM Snac
 k</strong></span></p>\n<p>1/2 oz Cinnamon &amp\; Brown Sugar<br />Oatmeal 
 Squares<br />4 oz 1% Milk (8 oz for ages 6-12)</p>
END:VEVENT
BEGIN:VEVENT
UID:20191121T130000UTC-2810O8jMtv@http://www.denbighchristianacademy.com/
DTSTAMP:20260420T135009Z
CATEGORIES:School Menu
DESCRIPTION:<p><span style='text-decoration: underline\;'><strong>Breakfast
 </strong></span></p>\n<p>Whole Wheat Toast<br />1/4-1/2 cup Pears<br />Cer
 eal (optional)<br />6 oz. 1% Milk (8 oz for ages 6-12)</p>\n<p><br /><span
  style='text-decoration: underline\;'><strong>AM Snack</strong></span></p>
 \n<p>Teddy Graham Crackers<br />4 oz 1% Milk (8 oz for ages 6-12)</p>\n<p>
 <br /><span style='text-decoration: underline\;'><strong>Lunch</strong></s
 pan></p>\n<p>1 1/2 oz Sweet Sour Meatballs<br />1/4 cup Peas &amp\; Carrot
 s<br />1/4 cup Fruit Cocktail<br />Whole Wheat Bread<br />6 oz.1% Milk (ag
 es 6-12 8 oz)</p>\n<p><br /><span style='text-decoration: underline\;'><st
 rong>PM Snack</strong></span></p>\n<p>1 Rice Krispie Treat<br />4 oz 1% Mi
 lk (8 oz for ages 6-12)</p>
DTSTART:20191121T000000Z
DTEND:20191121T235959Z
SUMMARY:Thursday
URL:https://denbighchristianacademy.com/index.php/school-calendar/lunch-men
 u/10-school-menu/118-thursday
X-ALT-DESC;FMTTYPE=TEXT/HTML:<p><span style='text-decoration: underline\;'>
 <strong>Breakfast</strong></span></p>\n<p>Whole Wheat Toast<br />1/4-1/2 c
 up Pears<br />Cereal (optional)<br />6 oz. 1% Milk (8 oz for ages 6-12)</p
 >\n<p><br /><span style='text-decoration: underline\;'><strong>AM Snack</s
 trong></span></p>\n<p>Teddy Graham Crackers<br />4 oz 1% Milk (8 oz for ag
 es 6-12)</p>\n<p><br /><span style='text-decoration: underline\;'><strong>
 Lunch</strong></span></p>\n<p>1 1/2 oz Sweet Sour Meatballs<br />1/4 cup P
 eas &amp\; Carrots<br />1/4 cup Fruit Cocktail<br />Whole Wheat Bread<br /
 >6 oz.1% Milk (ages 6-12 8 oz)</p>\n<p><br /><span style='text-decoration:
  underline\;'><strong>PM Snack</strong></span></p>\n<p>1 Rice Krispie Trea
 t<br />4 oz 1% Milk (8 oz for ages 6-12)</p>
END:VEVENT
BEGIN:VEVENT
UID:20191122T130000UTC-6950g0iFn4@http://www.denbighchristianacademy.com/
DTSTAMP:20260420T135009Z
CATEGORIES:School Menu
DESCRIPTION:<p><span style='text-decoration: underline\;'><strong>Breakfast
 </strong></span></p>\n<p>Pancakes<br />1/4-1/2 cup Mixed Fruit<br />Cereal
  (optional)<br />6 oz. 1% Milk (8 oz for ages 6-12)</p>\n<p><br /><span st
 yle='text-decoration: underline\;'><strong>AM Snack</strong></span></p>\n<
 p>1/4 cup Apple Slices<br />4 oz 1% Milk (8 oz for ages 6-12)</p>\n<p><br 
 /><span style='text-decoration: underline\;'><strong>Lunch</strong></span>
 </p>\n<p>Cheese Sandwich<br />on Whole Wheat Bread<br />1/4 cup Broccoli &
 amp\; Carrots<br />1/4 cup Pears<br />6 oz.1% Milk (ages 6-12 8 oz)</p>\n<
 p><br /><span style='text-decoration: underline\;'><strong>PM Snack</stron
 g></span></p>\n<p>1/4 cup Goldfish<br />4 oz 100% Apple Juice (8 oz for ag
 es 6-12)</p>
DTSTART:20191122T000000Z
DTEND:20191122T235959Z
SUMMARY:Friday
URL:https://denbighchristianacademy.com/index.php/school-calendar/lunch-men
 u/10-school-menu/119-friday
X-ALT-DESC;FMTTYPE=TEXT/HTML:<p><span style='text-decoration: underline\;'>
 <strong>Breakfast</strong></span></p>\n<p>Pancakes<br />1/4-1/2 cup Mixed 
 Fruit<br />Cereal (optional)<br />6 oz. 1% Milk (8 oz for ages 6-12)</p>\n
 <p><br /><span style='text-decoration: underline\;'><strong>AM Snack</stro
 ng></span></p>\n<p>1/4 cup Apple Slices<br />4 oz 1% Milk (8 oz for ages 6
 -12)</p>\n<p><br /><span style='text-decoration: underline\;'><strong>Lunc
 h</strong></span></p>\n<p>Cheese Sandwich<br />on Whole Wheat Bread<br />1
 /4 cup Broccoli &amp\; Carrots<br />1/4 cup Pears<br />6 oz.1% Milk (ages 
 6-12 8 oz)</p>\n<p><br /><span style='text-decoration: underline\;'><stron
 g>PM Snack</strong></span></p>\n<p>1/4 cup Goldfish<br />4 oz 100% Apple J
 uice (8 oz for ages 6-12)</p>
END:VEVENT
END:VCALENDAR
