BEGIN:VCALENDAR
VERSION:2.0
PRODID:-//https://denbighchristianacademy.com//NONSGML kigkonsult.se iCalcr
 eator 2.29.29//
CALSCALE:GREGORIAN
METHOD:PUBLISH
UID:664e324d-3cb8-4cfd-880d-0518b54f444c
X-WR-CALNAME:JCal Pro Calendar
X-WR-CALDESC:Your online events calendar
X-WR-TIMEZONE:UTC
BEGIN:VTIMEZONE
TZID:UTC
END:VTIMEZONE
BEGIN:VEVENT
UID:20191125T170000UTC-9148N5XoUA@http://www.denbighchristianacademy.com/
DTSTAMP:20260420T135000Z
CATEGORIES:School Menu
DESCRIPTION:<p><span style='text-decoration: underline\;'><strong>Breakfast
 </strong></span></p>\n<p>Wheat Toast<br />1/4-1/2 cup Pears<br />Cereal (o
 ptional)<br />6 oz. 1% Milk (8 oz for ages 6-12)</p>\n<p><br /><span style
 ='text-decoration: underline\;'><strong>AM Snack</strong></span></p>\n<p>1
 /4 cup Pretzels<br />4 oz 1% Milk (8 oz for ages 6-12)</p>\n<p><br /><span
  style='text-decoration: underline\;'><strong>Lunch</strong></span></p>\n<
 p>1 1/2 oz Meat Loaf<br />1/4 cup Brown Rice<br />1/4 cup Green Beans<br /
 >1/4 cup Pineapple<br />6 oz.1% Milk (ages 6-12 8 oz)</p>\n<p><br /><span 
 style='text-decoration: underline\;'><strong>PM Snack</strong></span></p>
 \n<p>1/4 cup Gold Fish Crackers<br />4 oz 1% Milk (8 oz for ages 6-12)</p>
DTSTART:20191125T000000Z
DTEND:20191125T235959Z
SUMMARY:Monday
URL:https://denbighchristianacademy.com/index.php/school-calendar/lunch-men
 u/10-school-menu/120-monday
X-ALT-DESC;FMTTYPE=TEXT/HTML:<p><span style='text-decoration: underline\;'>
 <strong>Breakfast</strong></span></p>\n<p>Wheat Toast<br />1/4-1/2 cup Pea
 rs<br />Cereal (optional)<br />6 oz. 1% Milk (8 oz for ages 6-12)</p>\n<p>
 <br /><span style='text-decoration: underline\;'><strong>AM Snack</strong>
 </span></p>\n<p>1/4 cup Pretzels<br />4 oz 1% Milk (8 oz for ages 6-12)</p
 >\n<p><br /><span style='text-decoration: underline\;'><strong>Lunch</stro
 ng></span></p>\n<p>1 1/2 oz Meat Loaf<br />1/4 cup Brown Rice<br />1/4 cup
  Green Beans<br />1/4 cup Pineapple<br />6 oz.1% Milk (ages 6-12 8 oz)</p>
 \n<p><br /><span style='text-decoration: underline\;'><strong>PM Snack</st
 rong></span></p>\n<p>1/4 cup Gold Fish Crackers<br />4 oz 1% Milk (8 oz fo
 r ages 6-12)</p>
END:VEVENT
BEGIN:VEVENT
UID:20191126T180000UTC-4592V84vVj@http://www.denbighchristianacademy.com/
DTSTAMP:20260420T135000Z
CATEGORIES:School Menu
DESCRIPTION:<p><span style='text-decoration: underline\;'><strong>Breakfast
 </strong></span></p>\n<p>1/4 -&nbsp\; 1/2 cup Cream of Wheat<br />1/4-1/2 
 cup Peaches<br />Cereal (optional)<br />6 oz. 1% Milk (8 oz for ages 6-12)
 </p>\n<p><br /><span style='text-decoration: underline\;'><strong>AM Snack
 </strong></span></p>\n<p>1/4 cup Apple Slices<br />1/2 oz Cheese<br />4 oz
  1% Milk (8 oz for ages 6-12)</p>\n<p><br /><span style='text-decoration: 
 underline\;'><strong>Lunch</strong></span></p>\n<p>1 1/2 oz Beef Frank<br 
 />1/4 cup Baked Beans<br />1/4 cup Fruit Cocktail<br />Whole Wheat Bread<b
 r />6 oz.1% Milk (ages 6-12 8 oz)</p>\n<p><br /><span style='text-decorati
 on: underline\;'><strong>PM Snack</strong></span></p>\n<p>Lorna Doone Cook
 ies<br />4 oz 1% Milk (8 oz for ages 6-12)</p>
DTSTART:20191126T000000Z
DTEND:20191126T235959Z
SUMMARY:Tuesday
URL:https://denbighchristianacademy.com/index.php/school-calendar/lunch-men
 u/10-school-menu/121-tuesday
X-ALT-DESC;FMTTYPE=TEXT/HTML:<p><span style='text-decoration: underline\;'>
 <strong>Breakfast</strong></span></p>\n<p>1/4 -&nbsp\; 1/2 cup Cream of Wh
 eat<br />1/4-1/2 cup Peaches<br />Cereal (optional)<br />6 oz. 1% Milk (8 
 oz for ages 6-12)</p>\n<p><br /><span style='text-decoration: underline\;'
 ><strong>AM Snack</strong></span></p>\n<p>1/4 cup Apple Slices<br />1/2 oz
  Cheese<br />4 oz 1% Milk (8 oz for ages 6-12)</p>\n<p><br /><span style='
 text-decoration: underline\;'><strong>Lunch</strong></span></p>\n<p>1 1/2 
 oz Beef Frank<br />1/4 cup Baked Beans<br />1/4 cup Fruit Cocktail<br />Wh
 ole Wheat Bread<br />6 oz.1% Milk (ages 6-12 8 oz)</p>\n<p><br /><span sty
 le='text-decoration: underline\;'><strong>PM Snack</strong></span></p>\n<p
 >Lorna Doone Cookies<br />4 oz 1% Milk (8 oz for ages 6-12)</p>
END:VEVENT
BEGIN:VEVENT
UID:20191127T180000UTC-1621uUualh@http://www.denbighchristianacademy.com/
DTSTAMP:20260420T135000Z
CATEGORIES:School Menu
DESCRIPTION:<p><span style='text-decoration: underline\;'><strong>Breakfast
 </strong></span></p>\n<p>Bagels and Cream Cheese<br />1/4-1/2 cup Fruit Mi
 x<br />Cereal (optional)<br />6 oz. 1% Milk (8 oz for ages 6-12)</p>\n<p><
 br /><span style='text-decoration: underline\;'><strong>AM Snack</strong><
 /span></p>\n<p>1 Cheez-It Crackers<br />4 oz 1% Milk (8 oz for ages 6-12)<
 /p>\n<p><br /><span style='text-decoration: underline\;'><strong>Lunch</st
 rong></span></p>\n<p>1 1/2 oz Pollack Fish Sticks<br />1/4 Sweet Peas<br /
 >1/4 cup Parlsey Noodles<br />1/4 cup Pears<br />6 oz.1% Milk (ages 6-12 8
  oz)</p>\n<p><br /><span style='text-decoration: underline\;'><strong>PM S
 nack</strong></span></p>\n<p>1/4 cup Chex Mix<br />4 oz 100% Apple Juice (
 8 oz for ages 6-12)</p>
DTSTART:20191127T000000Z
DTEND:20191127T235959Z
SUMMARY:Wednesday
URL:https://denbighchristianacademy.com/index.php/school-calendar/lunch-men
 u/10-school-menu/122-wednesday
X-ALT-DESC;FMTTYPE=TEXT/HTML:<p><span style='text-decoration: underline\;'>
 <strong>Breakfast</strong></span></p>\n<p>Bagels and Cream Cheese<br />1/4
 -1/2 cup Fruit Mix<br />Cereal (optional)<br />6 oz. 1% Milk (8 oz for age
 s 6-12)</p>\n<p><br /><span style='text-decoration: underline\;'><strong>A
 M Snack</strong></span></p>\n<p>1 Cheez-It Crackers<br />4 oz 1% Milk (8 o
 z for ages 6-12)</p>\n<p><br /><span style='text-decoration: underline\;'>
 <strong>Lunch</strong></span></p>\n<p>1 1/2 oz Pollack Fish Sticks<br />1/
 4 Sweet Peas<br />1/4 cup Parlsey Noodles<br />1/4 cup Pears<br />6 oz.1% 
 Milk (ages 6-12 8 oz)</p>\n<p><br /><span style='text-decoration: underlin
 e\;'><strong>PM Snack</strong></span></p>\n<p>1/4 cup Chex Mix<br />4 oz 1
 00% Apple Juice (8 oz for ages 6-12)</p>
END:VEVENT
END:VCALENDAR
