BEGIN:VCALENDAR
VERSION:2.0
PRODID:-//https://denbighchristianacademy.com//NONSGML kigkonsult.se iCalcr
 eator 2.29.29//
CALSCALE:GREGORIAN
METHOD:PUBLISH
UID:fb11cd85-506e-4265-aa74-3aec9cf28788
X-WR-CALNAME:JCal Pro Calendar
X-WR-CALDESC:Your online events calendar
X-WR-TIMEZONE:UTC
BEGIN:VTIMEZONE
TZID:UTC
END:VTIMEZONE
BEGIN:VEVENT
UID:20220314T190000UTC-3405dOGV8i@http://www.denbighchristianacademy.com/
DTSTAMP:20260425T002900Z
CATEGORIES:School Menu
DESCRIPTION:<p><span style='text-decoration: underline\;'><strong>Breakfast
 </strong></span></p>\n<p>1 1/2 oz Belgian Waffle<br />1/4-1/2 cup Mandarin
  Orange<br />1/4-1/2 cup Cereal (optional)<br />6 oz. 1% Milk (8 oz for ag
 es 6-12)</p>\n<p><br /><span style='text-decoration: underline\;'><strong>
 AM Snack</strong></span></p>\n<p>1/4-1/2 cup WG Ritz Crackers &amp\; Chees
 e Cubes<br />4 oz Water (8 oz for ages 6-12)</p>\n<p><br /><span style='te
 xt-decoration: underline\;'><strong>Lunch</strong></span></p>\n<p>1 1/2 - 
 2 oz Chicken &amp\; Dumplings<br />1/4-1/2 cup Mixed Vegetables<br />1/4 c
 up Tropical Fruit<br />6 oz.1% Milk (ages 6-12 8 oz)</p>\n<p><br /><span s
 tyle='text-decoration: underline\;'><strong>PM Snack</strong></span></p>\n
 <p>1.3 oz Nutri Grain Bar<br />4 oz 1% Milk (8 oz for ages 6-12)</p>
DTSTART:20220314T000000Z
DTEND:20220314T235959Z
SUMMARY:Monday
URL:https://denbighchristianacademy.com/index.php/school-calendar/lunch-men
 u/10-school-menu/818-monday
X-ALT-DESC;FMTTYPE=TEXT/HTML:<p><span style='text-decoration: underline\;'>
 <strong>Breakfast</strong></span></p>\n<p>1 1/2 oz Belgian Waffle<br />1/4
 -1/2 cup Mandarin Orange<br />1/4-1/2 cup Cereal (optional)<br />6 oz. 1% 
 Milk (8 oz for ages 6-12)</p>\n<p><br /><span style='text-decoration: unde
 rline\;'><strong>AM Snack</strong></span></p>\n<p>1/4-1/2 cup WG Ritz Crac
 kers &amp\; Cheese Cubes<br />4 oz Water (8 oz for ages 6-12)</p>\n<p><br 
 /><span style='text-decoration: underline\;'><strong>Lunch</strong></span>
 </p>\n<p>1 1/2 - 2 oz Chicken &amp\; Dumplings<br />1/4-1/2 cup Mixed Vege
 tables<br />1/4 cup Tropical Fruit<br />6 oz.1% Milk (ages 6-12 8 oz)</p>
 \n<p><br /><span style='text-decoration: underline\;'><strong>PM Snack</st
 rong></span></p>\n<p>1.3 oz Nutri Grain Bar<br />4 oz 1% Milk (8 oz for ag
 es 6-12)</p>
END:VEVENT
BEGIN:VEVENT
UID:20220315T190000UTC-81949AtuZM@http://www.denbighchristianacademy.com/
DTSTAMP:20260425T002900Z
CATEGORIES:School Menu
DESCRIPTION:<p><span style='text-decoration: underline\;'><strong>Breakfast
 </strong></span></p>\n<p>Wheat Toast<br />1 - 2 oz Turkey Sausage<br />1/4
 -1/2 cup Tropical Fruit<br />1/4-1/2 cup Cereal (optional)<br />6 oz. 1% M
 ilk (8 oz for ages 6-12)</p>\n<p><br /><span style='text-decoration: under
 line\;'><strong>AM Snack</strong></span></p>\n<p>1/4-1/2 cup WG Cheese Puf
 fs<br />4 oz 1% Milk (8 oz for ages 6-12)</p>\n<p><br /><span style='text-
 decoration: underline\;'><strong>Lunch</strong></span></p>\n<p>1 1/2 - 2 o
 z Beef Franks<br />1/4-1/2 cup Baked Beans<br />1/4 cup Pineapples<br />6 
 oz.1% Milk (ages 6-12 8 oz)</p>\n<p><br /><span style='text-decoration: un
 derline\;'><strong>PM Snack</strong></span></p>\n<p>1 1/2 oz Package Lorne
  Doone Cookies<br />4 oz 1% Milk (8 oz for ages 6-12)</p>
DTSTART:20220315T000000Z
DTEND:20220315T235959Z
SUMMARY:Tuesday
URL:https://denbighchristianacademy.com/index.php/school-calendar/lunch-men
 u/10-school-menu/819-tuesday
X-ALT-DESC;FMTTYPE=TEXT/HTML:<p><span style='text-decoration: underline\;'>
 <strong>Breakfast</strong></span></p>\n<p>Wheat Toast<br />1 - 2 oz Turkey
  Sausage<br />1/4-1/2 cup Tropical Fruit<br />1/4-1/2 cup Cereal (optional
 )<br />6 oz. 1% Milk (8 oz for ages 6-12)</p>\n<p><br /><span style='text-
 decoration: underline\;'><strong>AM Snack</strong></span></p>\n<p>1/4-1/2 
 cup WG Cheese Puffs<br />4 oz 1% Milk (8 oz for ages 6-12)</p>\n<p><br /><
 span style='text-decoration: underline\;'><strong>Lunch</strong></span></p
 >\n<p>1 1/2 - 2 oz Beef Franks<br />1/4-1/2 cup Baked Beans<br />1/4 cup P
 ineapples<br />6 oz.1% Milk (ages 6-12 8 oz)</p>\n<p><br /><span style='te
 xt-decoration: underline\;'><strong>PM Snack</strong></span></p>\n<p>1 1/2
  oz Package Lorne Doone Cookies<br />4 oz 1% Milk (8 oz for ages 6-12)</p>
END:VEVENT
BEGIN:VEVENT
UID:20220316T190000UTC-1788TeTuAV@http://www.denbighchristianacademy.com/
DTSTAMP:20260425T002900Z
CATEGORIES:School Menu
DESCRIPTION:<p><span style='text-decoration: underline\;'><strong>Breakfast
 </strong></span></p>\n<p>1 1/2 oz (2) Pancakes<br />1/4-1/2 cup Pears<br /
 >1/4-1/2 cup Cereal (optional)<br />6 oz. 1% Milk (8 oz for ages 6-12)</p>
 \n<p><br /><span style='text-decoration: underline\;'><strong>AM Snack</st
 rong></span></p>\n<p>1/4-1/2 cup WG Fig Newtons<br />4 oz 1% Milk (8 oz fo
 r ages 6-12)</p>\n<p><br /><span style='text-decoration: underline\;'><str
 ong>Lunch</strong></span></p>\n<p>1 1/2 - 2 oz Chicken Alfredo<br />WW Bre
 ad<br />1/4-1/2 cup Salad Mix w/Dressing<br />1/4 cup Mixed Fruit<br />6 o
 z.1% Milk (ages 6-12 8 oz)</p>\n<p><br /><span style='text-decoration: und
 erline\;'><strong>PM Snack</strong></span></p>\n<p>1/4 cup Chocolate Chip 
 Cookies<br />4 oz 1% Milk (8 oz for ages 6-12)</p>
DTSTART:20220316T000000Z
DTEND:20220316T235959Z
SUMMARY:Wednesday
URL:https://denbighchristianacademy.com/index.php/school-calendar/lunch-men
 u/10-school-menu/820-wednesday
X-ALT-DESC;FMTTYPE=TEXT/HTML:<p><span style='text-decoration: underline\;'>
 <strong>Breakfast</strong></span></p>\n<p>1 1/2 oz (2) Pancakes<br />1/4-1
 /2 cup Pears<br />1/4-1/2 cup Cereal (optional)<br />6 oz. 1% Milk (8 oz f
 or ages 6-12)</p>\n<p><br /><span style='text-decoration: underline\;'><st
 rong>AM Snack</strong></span></p>\n<p>1/4-1/2 cup WG Fig Newtons<br />4 oz
  1% Milk (8 oz for ages 6-12)</p>\n<p><br /><span style='text-decoration: 
 underline\;'><strong>Lunch</strong></span></p>\n<p>1 1/2 - 2 oz Chicken Al
 fredo<br />WW Bread<br />1/4-1/2 cup Salad Mix w/Dressing<br />1/4 cup Mix
 ed Fruit<br />6 oz.1% Milk (ages 6-12 8 oz)</p>\n<p><br /><span style='tex
 t-decoration: underline\;'><strong>PM Snack</strong></span></p>\n<p>1/4 cu
 p Chocolate Chip Cookies<br />4 oz 1% Milk (8 oz for ages 6-12)</p>
END:VEVENT
BEGIN:VEVENT
UID:20220317T190000UTC-73787E0wDp@http://www.denbighchristianacademy.com/
DTSTAMP:20260425T002900Z
CATEGORIES:School Menu
DESCRIPTION:<p><span style='text-decoration: underline\;'><strong>Breakfast
 </strong></span></p>\n<p>1/4-1/2 cup Oatmeal<br />1/4-1/2 cup Fruit Cockta
 il<br />1/4-1/2 cup Cereal (optional)<br />6 oz. 1% Milk (8 oz for ages 6-
 12)</p>\n<p><br /><span style='text-decoration: underline\;'><strong>AM Sn
 ack</strong></span></p>\n<p>1/4-1/2 cup Graham Crackers<br />4 oz 1% Milk 
 (8 oz for ages 6-12)</p>\n<p><br /><span style='text-decoration: underline
 \;'><strong>Lunch</strong></span></p>\n<p>1 1/2 - 2 oz Salisbury Steak<br 
 />1/4-1/2 cup California Vegetable Blend<br />1/4 cup Fruit Cocktail<br />
 6 oz.1% Milk (ages 6-12 8 oz)</p>\n<p><br /><span style='text-decoration: 
 underline\;'><strong>PM Snack</strong></span></p>\n<p>1 (.78 oz) Bar Rice 
 Krispy Treat<br />4 oz 100% Apple Juice (8 oz for ages 6-12)</p>
DTSTART:20220317T000000Z
DTEND:20220317T235959Z
SUMMARY:Thursday
URL:https://denbighchristianacademy.com/index.php/school-calendar/lunch-men
 u/10-school-menu/821-thursday
X-ALT-DESC;FMTTYPE=TEXT/HTML:<p><span style='text-decoration: underline\;'>
 <strong>Breakfast</strong></span></p>\n<p>1/4-1/2 cup Oatmeal<br />1/4-1/2
  cup Fruit Cocktail<br />1/4-1/2 cup Cereal (optional)<br />6 oz. 1% Milk 
 (8 oz for ages 6-12)</p>\n<p><br /><span style='text-decoration: underline
 \;'><strong>AM Snack</strong></span></p>\n<p>1/4-1/2 cup Graham Crackers<b
 r />4 oz 1% Milk (8 oz for ages 6-12)</p>\n<p><br /><span style='text-deco
 ration: underline\;'><strong>Lunch</strong></span></p>\n<p>1 1/2 - 2 oz Sa
 lisbury Steak<br />1/4-1/2 cup California Vegetable Blend<br />1/4 cup Fru
 it Cocktail<br />6 oz.1% Milk (ages 6-12 8 oz)</p>\n<p><br /><span style='
 text-decoration: underline\;'><strong>PM Snack</strong></span></p>\n<p>1 (
 .78 oz) Bar Rice Krispy Treat<br />4 oz 100% Apple Juice (8 oz for ages 6-
 12)</p>
END:VEVENT
BEGIN:VEVENT
UID:20220318T190000UTC-8158Jlve8g@http://www.denbighchristianacademy.com/
DTSTAMP:20260425T002900Z
CATEGORIES:School Menu
DESCRIPTION:<p><span style='text-decoration: underline\;'><strong>Breakfast
 </strong></span></p>\n<p>1 - 2 oz Turkey &amp\; Sausage Biscuit<br />1/4-1
 /2 cup Peaches<br />1/4-1/2 cup Cereal (optional)<br />6 oz. 1% Milk (8 oz
  for ages 6-12)</p>\n<p><br /><span style='text-decoration: underline\;'><
 strong>AM Snack</strong></span></p>\n<p>1/4-1/2 cup WG Ritz Bites w/Cheese
 <br />4 oz 1% Milk (8 oz for ages 6-12)</p>\n<p><br /><span style='text-de
 coration: underline\;'><strong>Lunch</strong></span></p>\n<p>1 1/2 - 2 oz 
 Breaded Fish<br />1/4-1/2 cup Mashed Potatoes<br />1/4-1/2 cup Green Beans
 <br />1/4 cup Mixed Fruit<br />6 oz.1% Milk (ages 6-12 8 oz)</p>\n<p><br /
 ><span style='text-decoration: underline\;'><strong>PM Snack</strong></spa
 n></p>\n<p>1 oz Oatmeal Cookie<br />4 oz 1% Milk (8 oz for ages 6-12)</p>
DTSTART:20220318T000000Z
DTEND:20220318T235959Z
SUMMARY:Friday
URL:https://denbighchristianacademy.com/index.php/school-calendar/lunch-men
 u/10-school-menu/822-friday
X-ALT-DESC;FMTTYPE=TEXT/HTML:<p><span style='text-decoration: underline\;'>
 <strong>Breakfast</strong></span></p>\n<p>1 - 2 oz Turkey &amp\; Sausage B
 iscuit<br />1/4-1/2 cup Peaches<br />1/4-1/2 cup Cereal (optional)<br />6 
 oz. 1% Milk (8 oz for ages 6-12)</p>\n<p><br /><span style='text-decoratio
 n: underline\;'><strong>AM Snack</strong></span></p>\n<p>1/4-1/2 cup WG Ri
 tz Bites w/Cheese<br />4 oz 1% Milk (8 oz for ages 6-12)</p>\n<p><br /><sp
 an style='text-decoration: underline\;'><strong>Lunch</strong></span></p>
 \n<p>1 1/2 - 2 oz Breaded Fish<br />1/4-1/2 cup Mashed Potatoes<br />1/4-1
 /2 cup Green Beans<br />1/4 cup Mixed Fruit<br />6 oz.1% Milk (ages 6-12 8
  oz)</p>\n<p><br /><span style='text-decoration: underline\;'><strong>PM S
 nack</strong></span></p>\n<p>1 oz Oatmeal Cookie<br />4 oz 1% Milk (8 oz f
 or ages 6-12)</p>
END:VEVENT
END:VCALENDAR
