BEGIN:VCALENDAR
VERSION:2.0
PRODID:-//https://denbighchristianacademy.com//NONSGML kigkonsult.se iCalcr
 eator 2.29.29//
CALSCALE:GREGORIAN
METHOD:PUBLISH
UID:b536594b-ca6f-44b4-997a-4d9da7d3d156
X-WR-CALNAME:JCal Pro Calendar
X-WR-CALDESC:Your online events calendar
X-WR-TIMEZONE:UTC
BEGIN:VTIMEZONE
TZID:UTC
END:VTIMEZONE
BEGIN:VEVENT
UID:20220321T180000UTC-0137ML74SS@http://www.denbighchristianacademy.com/
DTSTAMP:20260425T002859Z
CATEGORIES:School Menu
DESCRIPTION:<p><span style='text-decoration: underline\;'><strong>Breakfast
 </strong></span></p>\n<p>1 1/2 oz Belgian Waffle<br />1/4-1/2 cup Peaches<
 br />1/4-1/2 cup Cereal (optional)<br />6 oz. 1% Milk (8 oz for ages 6-12)
 </p>\n<p><br /><span style='text-decoration: underline\;'><strong>AM Snack
 </strong></span></p>\n<p>1/4-1/2 cup Apple Slices<br />4 oz 1% Milk (8 oz 
 for ages 6-12)</p>\n<p><br /><span style='text-decoration: underline\;'><s
 trong>Lunch</strong></span></p>\n<p>1 1/2 - 2 oz Chicken Fajita<br />1/4-1
 /2 cup Succotash<br />1/4-1/2 cup WG Brown Rice<br />1/4 cup Pineapple<br 
 />6 oz.1% Milk (ages 6-12 8 oz)</p>\n<p><br /><span style='text-decoration
 : underline\;'><strong>PM Snack</strong></span></p>\n<p>1/4-1/2 cup Chocol
 ate Chip Cookies<br />4 oz 1% Milk (8 oz for ages 6-12)</p>
DTSTART:20220321T000000Z
DTEND:20220321T235959Z
SUMMARY:Monday
URL:https://denbighchristianacademy.com/index.php/school-calendar/lunch-men
 u/10-school-menu/823-monday
X-ALT-DESC;FMTTYPE=TEXT/HTML:<p><span style='text-decoration: underline\;'>
 <strong>Breakfast</strong></span></p>\n<p>1 1/2 oz Belgian Waffle<br />1/4
 -1/2 cup Peaches<br />1/4-1/2 cup Cereal (optional)<br />6 oz. 1% Milk (8 
 oz for ages 6-12)</p>\n<p><br /><span style='text-decoration: underline\;'
 ><strong>AM Snack</strong></span></p>\n<p>1/4-1/2 cup Apple Slices<br />4 
 oz 1% Milk (8 oz for ages 6-12)</p>\n<p><br /><span style='text-decoration
 : underline\;'><strong>Lunch</strong></span></p>\n<p>1 1/2 - 2 oz Chicken 
 Fajita<br />1/4-1/2 cup Succotash<br />1/4-1/2 cup WG Brown Rice<br />1/4 
 cup Pineapple<br />6 oz.1% Milk (ages 6-12 8 oz)</p>\n<p><br /><span style
 ='text-decoration: underline\;'><strong>PM Snack</strong></span></p>\n<p>1
 /4-1/2 cup Chocolate Chip Cookies<br />4 oz 1% Milk (8 oz for ages 6-12)</
 p>
END:VEVENT
BEGIN:VEVENT
UID:20220322T180000UTC-2928AmoDHV@http://www.denbighchristianacademy.com/
DTSTAMP:20260425T002859Z
CATEGORIES:School Menu
DESCRIPTION:<p><span style='text-decoration: underline\;'><strong>Breakfast
 </strong></span></p>\n<p>1 oz Turkey &amp\; Sausage Biscuit<br />1/4-1/2 c
 up Peaches<br />1/4-1/2 cup Cereal (optional)<br />6 oz. 1% Milk (8 oz for
  ages 6-12)</p>\n<p><br /><span style='text-decoration: underline\;'><stro
 ng>AM Snack</strong></span></p>\n<p>1/4-1/2 cup WG Graham Crackers<br />4 
 oz 1% Milk (8 oz for ages 6-12)</p>\n<p><br /><span style='text-decoration
 : underline\;'><strong>Lunch</strong></span></p>\n<p>1/2 - 3/4 cup Mac &am
 p\; Cheese<br />1 - 2 oz WW Rolls<br />1/4-1/2 cup Green Beans<br />1/4 cu
 p Pears<br />6 oz.1% Milk (ages 6-12 8 oz)</p>\n<p><br /><span style='text
 -decoration: underline\;'><strong>PM Snack</strong></span></p>\n<p>1/4-1/2
  cup Pretzels<br />4 oz 1% Milk (8 oz for ages 6-12)</p>
DTSTART:20220322T000000Z
DTEND:20220322T235959Z
SUMMARY:Tuesday
URL:https://denbighchristianacademy.com/index.php/school-calendar/lunch-men
 u/10-school-menu/824-tuesday
X-ALT-DESC;FMTTYPE=TEXT/HTML:<p><span style='text-decoration: underline\;'>
 <strong>Breakfast</strong></span></p>\n<p>1 oz Turkey &amp\; Sausage Biscu
 it<br />1/4-1/2 cup Peaches<br />1/4-1/2 cup Cereal (optional)<br />6 oz. 
 1% Milk (8 oz for ages 6-12)</p>\n<p><br /><span style='text-decoration: u
 nderline\;'><strong>AM Snack</strong></span></p>\n<p>1/4-1/2 cup WG Graham
  Crackers<br />4 oz 1% Milk (8 oz for ages 6-12)</p>\n<p><br /><span style
 ='text-decoration: underline\;'><strong>Lunch</strong></span></p>\n<p>1/2 
 - 3/4 cup Mac &amp\; Cheese<br />1 - 2 oz WW Rolls<br />1/4-1/2 cup Green 
 Beans<br />1/4 cup Pears<br />6 oz.1% Milk (ages 6-12 8 oz)</p>\n<p><br />
 <span style='text-decoration: underline\;'><strong>PM Snack</strong></span
 ></p>\n<p>1/4-1/2 cup Pretzels<br />4 oz 1% Milk (8 oz for ages 6-12)</p>
END:VEVENT
BEGIN:VEVENT
UID:20220323T180000UTC-2540LOZn59@http://www.denbighchristianacademy.com/
DTSTAMP:20260425T002859Z
CATEGORIES:School Menu
DESCRIPTION:<p><span style='text-decoration: underline\;'><strong>Breakfast
 </strong></span></p>\n<p>2 - 4 French Toast Sticks<br />1/4-1/2 cup Pears<
 br />1/4-1/2 cup Cereal (optional)<br />6 oz. 1% Milk (8 oz for ages 6-12)
 </p>\n<p><br /><span style='text-decoration: underline\;'><strong>AM Snack
 </strong></span></p>\n<p>1/4-1/2 cup Ritz Cracker &amp\; Cheese Cubes<br /
 >4 oz Water (8 oz for ages 6-12)</p>\n<p><br /><span style='text-decoratio
 n: underline\;'><strong>Lunch</strong></span></p>\n<p>1 1/2 - 2 oz Beef &a
 mp\; Bean Burrito<br />WW Roll<br />1/4-1/2 cup Brown Rice<br />1/4-1/2 cu
 p Peas &amp\; Carrots<br />1/4 cup Mixed Fruit<br />6 oz.1% Milk (ages 6-1
 2 8 oz)</p>\n<p><br /><span style='text-decoration: underline\;'><strong>P
 M Snack</strong></span></p>\n<p>1 - 2 oz Oatmeal Cookies<br />4 oz 100% Ap
 ple Juice (8 oz for ages 6-12)</p>
DTSTART:20220323T000000Z
DTEND:20220323T235959Z
SUMMARY:Wednesday
URL:https://denbighchristianacademy.com/index.php/school-calendar/lunch-men
 u/10-school-menu/825-wednesday
X-ALT-DESC;FMTTYPE=TEXT/HTML:<p><span style='text-decoration: underline\;'>
 <strong>Breakfast</strong></span></p>\n<p>2 - 4 French Toast Sticks<br />1
 /4-1/2 cup Pears<br />1/4-1/2 cup Cereal (optional)<br />6 oz. 1% Milk (8 
 oz for ages 6-12)</p>\n<p><br /><span style='text-decoration: underline\;'
 ><strong>AM Snack</strong></span></p>\n<p>1/4-1/2 cup Ritz Cracker &amp\; 
 Cheese Cubes<br />4 oz Water (8 oz for ages 6-12)</p>\n<p><br /><span styl
 e='text-decoration: underline\;'><strong>Lunch</strong></span></p>\n<p>1 1
 /2 - 2 oz Beef &amp\; Bean Burrito<br />WW Roll<br />1/4-1/2 cup Brown Ric
 e<br />1/4-1/2 cup Peas &amp\; Carrots<br />1/4 cup Mixed Fruit<br />6 oz.
 1% Milk (ages 6-12 8 oz)</p>\n<p><br /><span style='text-decoration: under
 line\;'><strong>PM Snack</strong></span></p>\n<p>1 - 2 oz Oatmeal Cookies<
 br />4 oz 100% Apple Juice (8 oz for ages 6-12)</p>
END:VEVENT
BEGIN:VEVENT
UID:20220324T180000UTC-7237gHaHj9@http://www.denbighchristianacademy.com/
DTSTAMP:20260425T002859Z
CATEGORIES:School Menu
DESCRIPTION:<p><span style='text-decoration: underline\;'><strong>Breakfast
 </strong></span></p>\n<p>1/4-1/2 cup Oatmeal<br />1/4-1/2 cup Fruit Cockta
 il<br />1/4-1/2 cup Cereal (optional)<br />6 oz. 1% Milk (8 oz for ages 6-
 12)</p>\n<p><br /><span style='text-decoration: underline\;'><strong>AM Sn
 ack</strong></span></p>\n<p>1 Banana<br />4 oz 1% Milk (8 oz for ages 6-12
 )</p>\n<p><br /><span style='text-decoration: underline\;'><strong>Lunch</
 strong></span></p>\n<p>1 1/2 - 2 oz Pulled Chicken BBQ<br />WW Bread<br />
 1/4 cup Mixed Vegetables<br />1/4 cup Mixed Fruit<br />6 oz.1% Milk (ages 
 6-12 8 oz)</p>\n<p><br /><span style='text-decoration: underline\;'><stron
 g>PM Snack</strong></span></p>\n<p>1 oz Little Bites Muffins<br />4 oz 1% 
 Milk (8 oz for ages 6-12)</p>
DTSTART:20220324T000000Z
DTEND:20220324T235959Z
SUMMARY:Thursday
URL:https://denbighchristianacademy.com/index.php/school-calendar/lunch-men
 u/10-school-menu/826-thursday
X-ALT-DESC;FMTTYPE=TEXT/HTML:<p><span style='text-decoration: underline\;'>
 <strong>Breakfast</strong></span></p>\n<p>1/4-1/2 cup Oatmeal<br />1/4-1/2
  cup Fruit Cocktail<br />1/4-1/2 cup Cereal (optional)<br />6 oz. 1% Milk 
 (8 oz for ages 6-12)</p>\n<p><br /><span style='text-decoration: underline
 \;'><strong>AM Snack</strong></span></p>\n<p>1 Banana<br />4 oz 1% Milk (8
  oz for ages 6-12)</p>\n<p><br /><span style='text-decoration: underline\;
 '><strong>Lunch</strong></span></p>\n<p>1 1/2 - 2 oz Pulled Chicken BBQ<br
  />WW Bread<br />1/4 cup Mixed Vegetables<br />1/4 cup Mixed Fruit<br />6 
 oz.1% Milk (ages 6-12 8 oz)</p>\n<p><br /><span style='text-decoration: un
 derline\;'><strong>PM Snack</strong></span></p>\n<p>1 oz Little Bites Muff
 ins<br />4 oz 1% Milk (8 oz for ages 6-12)</p>
END:VEVENT
BEGIN:VEVENT
UID:20220325T180000UTC-5377RdPwWv@http://www.denbighchristianacademy.com/
DTSTAMP:20260425T002859Z
CATEGORIES:School Menu
DESCRIPTION:<p><span style='text-decoration: underline\;'><strong>Breakfast
 </strong></span></p>\n<p>1 1/2 oz (2) Pancakes<br />1/4-1/2 cup Mixed Frui
 t<br />1/4-1/2 cup Cereal (optional)<br />6 oz. 1% Milk (8 oz for ages 6-1
 2)</p>\n<p><br /><span style='text-decoration: underline\;'><strong>AM Sna
 ck</strong></span></p>\n<p>1.62 oz Assorted Fruit Pack<br />4 oz 1% Milk (
 8 oz for ages 6-12)</p>\n<p><br /><span style='text-decoration: underline\
 ;'><strong>Lunch</strong></span></p>\n<p>1 1/2 - 2 oz Hamburger/Cheeseburg
 er<br />on WW Bun<br />1/4-1/2 cup Potato Chips<br />1/4 cup Mixed Fruit<b
 r />6 oz.1% Milk (ages 6-12 8 oz)</p>\n<p><br /><span style='text-decorati
 on: underline\;'><strong>PM Snack</strong></span></p>\n<p>1/4-1/2 cup Gold
 fish<br />4 oz 1% Milk (8 oz for ages 6-12)</p>
DTSTART:20220325T000000Z
DTEND:20220325T235959Z
SUMMARY:Friday
URL:https://denbighchristianacademy.com/index.php/school-calendar/lunch-men
 u/10-school-menu/827-friday
X-ALT-DESC;FMTTYPE=TEXT/HTML:<p><span style='text-decoration: underline\;'>
 <strong>Breakfast</strong></span></p>\n<p>1 1/2 oz (2) Pancakes<br />1/4-1
 /2 cup Mixed Fruit<br />1/4-1/2 cup Cereal (optional)<br />6 oz. 1% Milk (
 8 oz for ages 6-12)</p>\n<p><br /><span style='text-decoration: underline\
 ;'><strong>AM Snack</strong></span></p>\n<p>1.62 oz Assorted Fruit Pack<br
  />4 oz 1% Milk (8 oz for ages 6-12)</p>\n<p><br /><span style='text-decor
 ation: underline\;'><strong>Lunch</strong></span></p>\n<p>1 1/2 - 2 oz Ham
 burger/Cheeseburger<br />on WW Bun<br />1/4-1/2 cup Potato Chips<br />1/4 
 cup Mixed Fruit<br />6 oz.1% Milk (ages 6-12 8 oz)</p>\n<p><br /><span sty
 le='text-decoration: underline\;'><strong>PM Snack</strong></span></p>\n<p
 >1/4-1/2 cup Goldfish<br />4 oz 1% Milk (8 oz for ages 6-12)</p>
END:VEVENT
END:VCALENDAR
