BEGIN:VCALENDAR
VERSION:2.0
PRODID:-//https://denbighchristianacademy.com//NONSGML kigkonsult.se iCalcr
 eator 2.29.29//
CALSCALE:GREGORIAN
METHOD:PUBLISH
UID:8320ed20-31cc-4eee-80c9-c8425f356c48
X-WR-CALNAME:JCal Pro Calendar
X-WR-CALDESC:Your online events calendar
X-WR-TIMEZONE:UTC
BEGIN:VTIMEZONE
TZID:UTC
END:VTIMEZONE
BEGIN:VEVENT
UID:20220711T120000UTC-4927P0Asti@https://www.denbighchristianacademy.com/
DTSTAMP:20260424T215931Z
CATEGORIES:School Menu
DESCRIPTION:<p><span style='text-decoration: underline\;'><strong>Breakfast
 </strong></span></p>\n<p>1 1/2 oz Belgian Waffle<br />1/4-1/2 cup Pineappl
 e<br />1/4-1/2 cup Cereal (optional)<br />6 oz. 1% Milk (8 oz for ages 6-1
 2)</p>\n<p><br /><span style='text-decoration: underline\;'><strong>AM Sna
 ck</strong></span></p>\n<p>1/4-1/2 cup Pretzels<br />4 oz 1% Milk (8 oz fo
 r ages 6-12)</p>\n<p><br /><span style='text-decoration: underline\;'><str
 ong>Lunch</strong></span></p>\n<p>1/2-3/4 cup Mac and Cheese<br />WW Bread
 <br />1/4-1/2 cup Green Beans<br />1/4 cup Pineapple<br />6 oz.1% Milk (ag
 es 6-12 8 oz)</p>\n<p><br /><span style='text-decoration: underline\;'><st
 rong>PM Snack</strong></span></p>\n<p>1/4-1/2 cup Animal Crackers<br />4 o
 z 1% Milk (8 oz for ages 6-12)</p>
DTSTART:20220711T000000Z
DTEND:20220711T235959Z
SUMMARY:Monday
URL:https://denbighchristianacademy.com/index.php/school-calendar/lunch-men
 u/10-school-menu/892-monday
X-ALT-DESC;FMTTYPE=TEXT/HTML:<p><span style='text-decoration: underline\;'>
 <strong>Breakfast</strong></span></p>\n<p>1 1/2 oz Belgian Waffle<br />1/4
 -1/2 cup Pineapple<br />1/4-1/2 cup Cereal (optional)<br />6 oz. 1% Milk (
 8 oz for ages 6-12)</p>\n<p><br /><span style='text-decoration: underline\
 ;'><strong>AM Snack</strong></span></p>\n<p>1/4-1/2 cup Pretzels<br />4 oz
  1% Milk (8 oz for ages 6-12)</p>\n<p><br /><span style='text-decoration: 
 underline\;'><strong>Lunch</strong></span></p>\n<p>1/2-3/4 cup Mac and Che
 ese<br />WW Bread<br />1/4-1/2 cup Green Beans<br />1/4 cup Pineapple<br /
 >6 oz.1% Milk (ages 6-12 8 oz)</p>\n<p><br /><span style='text-decoration:
  underline\;'><strong>PM Snack</strong></span></p>\n<p>1/4-1/2 cup Animal 
 Crackers<br />4 oz 1% Milk (8 oz for ages 6-12)</p>
END:VEVENT
BEGIN:VEVENT
UID:20220712T120000UTC-3232DgpBz4@https://www.denbighchristianacademy.com/
DTSTAMP:20260424T215931Z
CATEGORIES:School Menu
DESCRIPTION:<p><span style='text-decoration: underline\;'><strong>Breakfast
 </strong></span></p>\n<p>1 oz Turkey Sausage Biscuit<br />1/4-1/2 cup Peac
 hes<br />1/4-1/2 cup Cereal (optional)<br />6 oz. 1% Milk (8 oz for ages 6
 -12)</p>\n<p><br /><span style='text-decoration: underline\;'><strong>AM S
 nack</strong></span></p>\n<p>1/4-1/2 cup WG Fig Newtons<br />4 oz 1% Milk 
 (8 oz for ages 6-12)</p>\n<p><br /><span style='text-decoration: underline
 \;'><strong>Lunch</strong></span></p>\n<p>1 1/2 - 2 oz Beef Frank<br />1/4
 -1/2 cup Baked Beans<br />1 - 2 oz WW Rolls<br />1/4 cup Mixed Fruit<br />
 6 oz.1% Milk (ages 6-12 8 oz)</p>\n<p><br /><span style='text-decoration: 
 underline\;'><strong>PM Snack</strong></span></p>\n<p>1/4-1/2 cup Chocolat
 e Chip Cookies<br />4 oz 1% Milk (8 oz for ages 6-12)</p>
DTSTART:20220712T000000Z
DTEND:20220712T235959Z
SUMMARY:Tuesday
URL:https://denbighchristianacademy.com/index.php/school-calendar/lunch-men
 u/10-school-menu/893-tuesday
X-ALT-DESC;FMTTYPE=TEXT/HTML:<p><span style='text-decoration: underline\;'>
 <strong>Breakfast</strong></span></p>\n<p>1 oz Turkey Sausage Biscuit<br /
 >1/4-1/2 cup Peaches<br />1/4-1/2 cup Cereal (optional)<br />6 oz. 1% Milk
  (8 oz for ages 6-12)</p>\n<p><br /><span style='text-decoration: underlin
 e\;'><strong>AM Snack</strong></span></p>\n<p>1/4-1/2 cup WG Fig Newtons<b
 r />4 oz 1% Milk (8 oz for ages 6-12)</p>\n<p><br /><span style='text-deco
 ration: underline\;'><strong>Lunch</strong></span></p>\n<p>1 1/2 - 2 oz Be
 ef Frank<br />1/4-1/2 cup Baked Beans<br />1 - 2 oz WW Rolls<br />1/4 cup 
 Mixed Fruit<br />6 oz.1% Milk (ages 6-12 8 oz)</p>\n<p><br /><span style='
 text-decoration: underline\;'><strong>PM Snack</strong></span></p>\n<p>1/4
 -1/2 cup Chocolate Chip Cookies<br />4 oz 1% Milk (8 oz for ages 6-12)</p>
END:VEVENT
BEGIN:VEVENT
UID:20220713T120000UTC-3549NvVfAv@https://www.denbighchristianacademy.com/
DTSTAMP:20260424T215931Z
CATEGORIES:School Menu
DESCRIPTION:<p><span style='text-decoration: underline\;'><strong>Breakfast
 </strong></span></p>\n<p>1/4-1/2 cup Oatmeal<br />1/4-1/2 cup Pears<br />1
 /4-1/2 cup Cereal (optional)<br />6 oz. 1% Milk (8 oz for ages 6-12)</p>\n
 <p><br /><span style='text-decoration: underline\;'><strong>AM Snack</stro
 ng></span></p>\n<p>1/4-1/2 cup Cinnamon Graham Crackers<br />4 oz 1% Milk 
 (8 oz for ages 6-12)</p>\n<p><br /><span style='text-decoration: underline
 \;'><strong>Lunch</strong></span></p>\n<p>1/2-3/4 cup Chicken &amp\; Dumpl
 ings<br />WW Roll<br />1/4-1/2 cup Broccoli<br />1/4 cup Mixed Fruit<br />
 6 oz.1% Milk (ages 6-12 8 oz)</p>\n<p><br /><span style='text-decoration: 
 underline\;'><strong>PM Snack</strong></span></p>\n<p>1-2 oz Lorna Doone C
 ookies<br />4 oz 100% Apple Juice (8 oz for ages 6-12)</p>
DTSTART:20220713T000000Z
DTEND:20220713T235959Z
SUMMARY:Wednesday
URL:https://denbighchristianacademy.com/index.php/school-calendar/lunch-men
 u/10-school-menu/894-wednesday
X-ALT-DESC;FMTTYPE=TEXT/HTML:<p><span style='text-decoration: underline\;'>
 <strong>Breakfast</strong></span></p>\n<p>1/4-1/2 cup Oatmeal<br />1/4-1/2
  cup Pears<br />1/4-1/2 cup Cereal (optional)<br />6 oz. 1% Milk (8 oz for
  ages 6-12)</p>\n<p><br /><span style='text-decoration: underline\;'><stro
 ng>AM Snack</strong></span></p>\n<p>1/4-1/2 cup Cinnamon Graham Crackers<b
 r />4 oz 1% Milk (8 oz for ages 6-12)</p>\n<p><br /><span style='text-deco
 ration: underline\;'><strong>Lunch</strong></span></p>\n<p>1/2-3/4 cup Chi
 cken &amp\; Dumplings<br />WW Roll<br />1/4-1/2 cup Broccoli<br />1/4 cup 
 Mixed Fruit<br />6 oz.1% Milk (ages 6-12 8 oz)</p>\n<p><br /><span style='
 text-decoration: underline\;'><strong>PM Snack</strong></span></p>\n<p>1-2
  oz Lorna Doone Cookies<br />4 oz 100% Apple Juice (8 oz for ages 6-12)</p
 >
END:VEVENT
BEGIN:VEVENT
UID:20220714T120000UTC-6497Ul1V0n@https://www.denbighchristianacademy.com/
DTSTAMP:20260424T215931Z
CATEGORIES:School Menu
DESCRIPTION:<p><span style='text-decoration: underline\;'><strong>Breakfast
 </strong></span></p>\n<p>3.5 oz Cheese Omelet<br />1 - 2 oz Turkey Sausage
 <br />1 1/2 - 2 oz WW Toast<br />1/4-1/2 cup Fruit Cocktail<br />1/4-1/2 c
 up Cereal (optional)<br />6 oz. 1% Milk (8 oz for ages 6-12)</p>\n<p><br /
 ><span style='text-decoration: underline\;'><strong>AM Snack</strong></spa
 n></p>\n<p>1 oz WG Ritz Bits w/Cheese<br />4 oz 1% Milk (8 oz for ages 6-1
 2)</p>\n<p><br /><span style='text-decoration: underline\;'><strong>Lunch<
 /strong></span></p>\n<p>1 1/2 - 2 oz Salisbury Steak<br />1/4-1/2 cup Mash
 ed Potatoes<br />1/4-1/2 cup Mixed Vegetables<br />1/4 cup Sugar Free Jell
 o w/Fruit Cocktail<br />6 oz.1% Milk (ages 6-12 8 oz)</p>\n<p><br /><span 
 style='text-decoration: underline\;'><strong>PM Snack</strong></span></p>
 \n<p>1 oz Little Bites Muffins<br />4 oz 1% Milk (8 oz for ages 6-12)</p>
DTSTART:20220714T000000Z
DTEND:20220714T235959Z
SUMMARY:Thursday
URL:https://denbighchristianacademy.com/index.php/school-calendar/lunch-men
 u/10-school-menu/895-thursday
X-ALT-DESC;FMTTYPE=TEXT/HTML:<p><span style='text-decoration: underline\;'>
 <strong>Breakfast</strong></span></p>\n<p>3.5 oz Cheese Omelet<br />1 - 2 
 oz Turkey Sausage<br />1 1/2 - 2 oz WW Toast<br />1/4-1/2 cup Fruit Cockta
 il<br />1/4-1/2 cup Cereal (optional)<br />6 oz. 1% Milk (8 oz for ages 6-
 12)</p>\n<p><br /><span style='text-decoration: underline\;'><strong>AM Sn
 ack</strong></span></p>\n<p>1 oz WG Ritz Bits w/Cheese<br />4 oz 1% Milk (
 8 oz for ages 6-12)</p>\n<p><br /><span style='text-decoration: underline\
 ;'><strong>Lunch</strong></span></p>\n<p>1 1/2 - 2 oz Salisbury Steak<br /
 >1/4-1/2 cup Mashed Potatoes<br />1/4-1/2 cup Mixed Vegetables<br />1/4 cu
 p Sugar Free Jello w/Fruit Cocktail<br />6 oz.1% Milk (ages 6-12 8 oz)</p>
 \n<p><br /><span style='text-decoration: underline\;'><strong>PM Snack</st
 rong></span></p>\n<p>1 oz Little Bites Muffins<br />4 oz 1% Milk (8 oz for
  ages 6-12)</p>
END:VEVENT
BEGIN:VEVENT
UID:20220715T120000UTC-2271LzTlJH@https://www.denbighchristianacademy.com/
DTSTAMP:20260424T215931Z
CATEGORIES:School Menu
DESCRIPTION:<p><span style='text-decoration: underline\;'><strong>Breakfast
 </strong></span></p>\n<p>1 1/2 oz (2) Pancakes<br />1/4-1/2 cup Mixed Frui
 t<br />1/4-1/2 cup Cereal (optional)<br />6 oz. 1% Milk (8 oz for ages 6-1
 2)</p>\n<p><br /><span style='text-decoration: underline\;'><strong>AM Sna
 ck</strong></span></p>\n<p>14-1/2 cup Cheez-it Crackers<br />4 oz 1% Milk 
 (8 oz for ages 6-12)</p>\n<p><br /><span style='text-decoration: underline
 \;'><strong>Lunch</strong></span></p>\n<p>1 1/2 - 2 oz Breaded Fish<br />1
 /4-1/2 cup WG Brown Rice<br />1/4-1/2 cup California Blend<br />1/4 cup Mi
 xed Fruit<br />6 oz.1% Milk (ages 6-12 8 oz)</p>\n<p><br /><span style='te
 xt-decoration: underline\;'><strong>PM Snack</strong></span></p>\n<p>1/4-1
 /2 cup Goldfish<br />4 oz 1% Milk (8 oz for ages 6-12)</p>
DTSTART:20220715T000000Z
DTEND:20220715T235959Z
SUMMARY:Friday
URL:https://denbighchristianacademy.com/index.php/school-calendar/lunch-men
 u/10-school-menu/896-friday
X-ALT-DESC;FMTTYPE=TEXT/HTML:<p><span style='text-decoration: underline\;'>
 <strong>Breakfast</strong></span></p>\n<p>1 1/2 oz (2) Pancakes<br />1/4-1
 /2 cup Mixed Fruit<br />1/4-1/2 cup Cereal (optional)<br />6 oz. 1% Milk (
 8 oz for ages 6-12)</p>\n<p><br /><span style='text-decoration: underline\
 ;'><strong>AM Snack</strong></span></p>\n<p>14-1/2 cup Cheez-it Crackers<b
 r />4 oz 1% Milk (8 oz for ages 6-12)</p>\n<p><br /><span style='text-deco
 ration: underline\;'><strong>Lunch</strong></span></p>\n<p>1 1/2 - 2 oz Br
 eaded Fish<br />1/4-1/2 cup WG Brown Rice<br />1/4-1/2 cup California Blen
 d<br />1/4 cup Mixed Fruit<br />6 oz.1% Milk (ages 6-12 8 oz)</p>\n<p><br 
 /><span style='text-decoration: underline\;'><strong>PM Snack</strong></sp
 an></p>\n<p>1/4-1/2 cup Goldfish<br />4 oz 1% Milk (8 oz for ages 6-12)</p
 >
END:VEVENT
END:VCALENDAR
