BEGIN:VCALENDAR
VERSION:2.0
PRODID:-//https://denbighchristianacademy.com//NONSGML kigkonsult.se iCalcr
 eator 2.29.29//
CALSCALE:GREGORIAN
METHOD:PUBLISH
UID:727ebee4-33c2-4aa8-813a-91d5ededc8be
X-WR-CALNAME:JCal Pro Calendar
X-WR-CALDESC:Your online events calendar
X-WR-TIMEZONE:UTC
BEGIN:VTIMEZONE
TZID:UTC
END:VTIMEZONE
BEGIN:VEVENT
UID:20221031T120000UTC-9021HuAvdm@https://www.denbighchristianacademy.com/
DTSTAMP:20260424T203530Z
CATEGORIES:School Menu
DESCRIPTION:<p><span style='text-decoration: underline\;'><strong>Breakfast
 </strong></span></p>\n<p>1/2 - 1 Bagel w/Cream Cheese<br />1/4-1/2 cup Pea
 ches<br />1/4-1/2 cup Cereal (optional)<br />6 oz. 1% Milk (8 oz for ages 
 6-12)</p>\n<p><br /><span style='text-decoration: underline\;'><strong>AM 
 Snack</strong></span></p>\n<p>1/4-1/2 cup WG Graham Bug Bites Crackers<br 
 />4 oz 1% Milk (8 oz for ages 6-12)</p>\n<p><br /><span style='text-decora
 tion: underline\;'><strong>Lunch</strong></span></p>\n<p>1 1/2 - 2 oz Beef
  &amp\; Noodles<br />WW Bread<br />1/4-1/2 cup Succotash<br />1/4 cup Mixe
 d Fruit<br />6 oz.1% Milk (ages 6-12 8 oz)</p>\n<p><br /><span style='text
 -decoration: underline\;'><strong>PM Snack</strong></span></p>\n<p>2 indiv
 idual pks Fruit Snacks<br />4 oz 1% Milk (8 oz for ages 6-12)</p>
DTSTART:20221031T000000Z
DTEND:20221031T235959Z
SUMMARY:Monday
URL:https://denbighchristianacademy.com/index.php/school-calendar/lunch-men
 u/10-school-menu/1018-monday
X-ALT-DESC;FMTTYPE=TEXT/HTML:<p><span style='text-decoration: underline\;'>
 <strong>Breakfast</strong></span></p>\n<p>1/2 - 1 Bagel w/Cream Cheese<br 
 />1/4-1/2 cup Peaches<br />1/4-1/2 cup Cereal (optional)<br />6 oz. 1% Mil
 k (8 oz for ages 6-12)</p>\n<p><br /><span style='text-decoration: underli
 ne\;'><strong>AM Snack</strong></span></p>\n<p>1/4-1/2 cup WG Graham Bug B
 ites Crackers<br />4 oz 1% Milk (8 oz for ages 6-12)</p>\n<p><br /><span s
 tyle='text-decoration: underline\;'><strong>Lunch</strong></span></p>\n<p>
 1 1/2 - 2 oz Beef &amp\; Noodles<br />WW Bread<br />1/4-1/2 cup Succotash<
 br />1/4 cup Mixed Fruit<br />6 oz.1% Milk (ages 6-12 8 oz)</p>\n<p><br />
 <span style='text-decoration: underline\;'><strong>PM Snack</strong></span
 ></p>\n<p>2 individual pks Fruit Snacks<br />4 oz 1% Milk (8 oz for ages 6
 -12)</p>
END:VEVENT
BEGIN:VEVENT
UID:20221101T120000UTC-99478rGFb5@https://www.denbighchristianacademy.com/
DTSTAMP:20260424T203530Z
CATEGORIES:School Menu
DESCRIPTION:<p><span style='text-decoration: underline\;'><strong>Breakfast
 </strong></span></p>\n<p>1 oz Turkey Sausage Biscuit<br />1/4-1/2 cup Peac
 hes<br />1/4-1/2 cup Cereal (optional)<br />6 oz. 1% Milk (8 oz for ages 6
 -12)</p>\n<p><br /><span style='text-decoration: underline\;'><strong>AM S
 nack</strong></span></p>\n<p>1/4-1/2 cup WG Fig Newtons<br />4 oz 1% Milk 
 (8 oz for ages 6-12)</p>\n<p><br /><span style='text-decoration: underline
 \;'><strong>Lunch</strong></span></p>\n<p>1 1/2 - 2 oz Mac &amp\; Cheese<b
 r />1 - 2 oz WW Rolls<br />1/4-1/2 cup French Green Beans<br />1/4 cup Mix
 ed Fruit<br />6 oz.1% Milk (ages 6-12 8 oz)</p>\n<p><br /><span style='tex
 t-decoration: underline\;'><strong>PM Snack</strong></span></p>\n<p>1/4-1/
 2 cup Chocolate Chip Cookies<br />4 oz 1% Milk (8 oz for ages 6-12)</p>
DTSTART:20221101T000000Z
DTEND:20221101T235959Z
SUMMARY:Tuesday
URL:https://denbighchristianacademy.com/index.php/school-calendar/lunch-men
 u/10-school-menu/1019-tuesday
X-ALT-DESC;FMTTYPE=TEXT/HTML:<p><span style='text-decoration: underline\;'>
 <strong>Breakfast</strong></span></p>\n<p>1 oz Turkey Sausage Biscuit<br /
 >1/4-1/2 cup Peaches<br />1/4-1/2 cup Cereal (optional)<br />6 oz. 1% Milk
  (8 oz for ages 6-12)</p>\n<p><br /><span style='text-decoration: underlin
 e\;'><strong>AM Snack</strong></span></p>\n<p>1/4-1/2 cup WG Fig Newtons<b
 r />4 oz 1% Milk (8 oz for ages 6-12)</p>\n<p><br /><span style='text-deco
 ration: underline\;'><strong>Lunch</strong></span></p>\n<p>1 1/2 - 2 oz Ma
 c &amp\; Cheese<br />1 - 2 oz WW Rolls<br />1/4-1/2 cup French Green Beans
 <br />1/4 cup Mixed Fruit<br />6 oz.1% Milk (ages 6-12 8 oz)</p>\n<p><br /
 ><span style='text-decoration: underline\;'><strong>PM Snack</strong></spa
 n></p>\n<p>1/4-1/2 cup Chocolate Chip Cookies<br />4 oz 1% Milk (8 oz for 
 ages 6-12)</p>
END:VEVENT
BEGIN:VEVENT
UID:20221102T120000UTC-36347dEwji@https://www.denbighchristianacademy.com/
DTSTAMP:20260424T203530Z
CATEGORIES:School Menu
DESCRIPTION:<p><span style='text-decoration: underline\;'><strong>Breakfast
 </strong></span></p>\n<p>1/4-1/2 cup Oatmeal<br />1/4-1/2 cup Pears<br />1
 /4-1/2 cup Cereal (optional)<br />6 oz. 1% Milk (8 oz for ages 6-12)</p>\n
 <p><br /><span style='text-decoration: underline\;'><strong>AM Snack</stro
 ng></span></p>\n<p>1/4-1/2 cup Cinnamon Graham Crackers<br />4 oz 1% Milk 
 (8 oz for ages 6-12)</p>\n<p><br /><span style='text-decoration: underline
 \;'><strong>Lunch</strong></span></p>\n<p>1/2-3/4 cup Pulled BBQ Chicken<b
 r />WW Roll<br />1/4-1/2 cup Broccoli<br />1/4 cup Cole Slaw<br />1/4 cup 
 Mixed Fruit<br />6 oz.1% Milk (ages 6-12 8 oz)</p>\n<p><br /><span style='
 text-decoration: underline\;'><strong>PM Snack</strong></span></p>\n<p>1 -
  2 oz Lorne Doone Cookies<br />4 oz 100% Apple Juice (8 oz for ages 6-12)<
 /p>
DTSTART:20221102T000000Z
DTEND:20221102T235959Z
SUMMARY:Wednesday
URL:https://denbighchristianacademy.com/index.php/school-calendar/lunch-men
 u/10-school-menu/1020-wednesday
X-ALT-DESC;FMTTYPE=TEXT/HTML:<p><span style='text-decoration: underline\;'>
 <strong>Breakfast</strong></span></p>\n<p>1/4-1/2 cup Oatmeal<br />1/4-1/2
  cup Pears<br />1/4-1/2 cup Cereal (optional)<br />6 oz. 1% Milk (8 oz for
  ages 6-12)</p>\n<p><br /><span style='text-decoration: underline\;'><stro
 ng>AM Snack</strong></span></p>\n<p>1/4-1/2 cup Cinnamon Graham Crackers<b
 r />4 oz 1% Milk (8 oz for ages 6-12)</p>\n<p><br /><span style='text-deco
 ration: underline\;'><strong>Lunch</strong></span></p>\n<p>1/2-3/4 cup Pul
 led BBQ Chicken<br />WW Roll<br />1/4-1/2 cup Broccoli<br />1/4 cup Cole S
 law<br />1/4 cup Mixed Fruit<br />6 oz.1% Milk (ages 6-12 8 oz)</p>\n<p><b
 r /><span style='text-decoration: underline\;'><strong>PM Snack</strong></
 span></p>\n<p>1 - 2 oz Lorne Doone Cookies<br />4 oz 100% Apple Juice (8 o
 z for ages 6-12)</p>
END:VEVENT
BEGIN:VEVENT
UID:20221103T120000UTC-9766bkKL84@https://www.denbighchristianacademy.com/
DTSTAMP:20260424T203530Z
CATEGORIES:School Menu
DESCRIPTION:<p><span style='text-decoration: underline\;'><strong>Breakfast
 </strong></span></p>\n<p>3.5 oz Cheese Omelet or<br />1 - 2 oz Turkey Saus
 age<br />1/4-1/2 cup Fruit Cocktail<br />1/4-1/2 cup Cereal (optional)<br 
 />6 oz. 1% Milk (8 oz for ages 6-12)</p>\n<p><br /><span style='text-decor
 ation: underline\;'><strong>AM Snack</strong></span></p>\n<p>1 oz WG Ritz 
 Bits w/Cheese<br />4 oz 1% Milk (8 oz for ages 6-12)</p>\n<p><br /><span s
 tyle='text-decoration: underline\;'><strong>Lunch</strong></span></p>\n<p>
 1 1/2 - 2 oz Salisbury Steak<br />WW Roll<br />1/4 cup Mixed Vegetables<br
  />1/4-1/2 cup Mashed Potatoes<br />1/4 cup Fruit Cocktail<br />6 oz.1% Mi
 lk (ages 6-12 8 oz)</p>\n<p><br /><span style='text-decoration: underline\
 ;'><strong>PM Snack</strong></span></p>\n<p>1 oz Little Bites Muffins<br /
 >4 oz 1% Milk (8 oz for ages 6-12)</p>
DTSTART:20221103T000000Z
DTEND:20221103T235959Z
SUMMARY:Thursday
URL:https://denbighchristianacademy.com/index.php/school-calendar/lunch-men
 u/10-school-menu/1021-thursday
X-ALT-DESC;FMTTYPE=TEXT/HTML:<p><span style='text-decoration: underline\;'>
 <strong>Breakfast</strong></span></p>\n<p>3.5 oz Cheese Omelet or<br />1 -
  2 oz Turkey Sausage<br />1/4-1/2 cup Fruit Cocktail<br />1/4-1/2 cup Cere
 al (optional)<br />6 oz. 1% Milk (8 oz for ages 6-12)</p>\n<p><br /><span 
 style='text-decoration: underline\;'><strong>AM Snack</strong></span></p>
 \n<p>1 oz WG Ritz Bits w/Cheese<br />4 oz 1% Milk (8 oz for ages 6-12)</p>
 \n<p><br /><span style='text-decoration: underline\;'><strong>Lunch</stron
 g></span></p>\n<p>1 1/2 - 2 oz Salisbury Steak<br />WW Roll<br />1/4 cup M
 ixed Vegetables<br />1/4-1/2 cup Mashed Potatoes<br />1/4 cup Fruit Cockta
 il<br />6 oz.1% Milk (ages 6-12 8 oz)</p>\n<p><br /><span style='text-deco
 ration: underline\;'><strong>PM Snack</strong></span></p>\n<p>1 oz Little 
 Bites Muffins<br />4 oz 1% Milk (8 oz for ages 6-12)</p>
END:VEVENT
BEGIN:VEVENT
UID:20221104T120000UTC-3415UZV3Mj@https://www.denbighchristianacademy.com/
DTSTAMP:20260424T203530Z
CATEGORIES:School Menu
DESCRIPTION:<p><span style='text-decoration: underline\;'><strong>Breakfast
 </strong></span></p>\n<p>1 1/2 - 2 oz French Toast Sticks<br />1/4-1/2 cup
  Mixed Fruit<br />1/4-1/2 cup Cereal (optional)<br />6 oz. 1% Milk (8 oz f
 or ages 6-12)</p>\n<p><br /><span style='text-decoration: underline\;'><st
 rong>AM Snack</strong></span></p>\n<p>1/4-1/2 cup Cheez-it Crackers<br />4
  oz 1% Milk (8 oz for ages 6-12)</p>\n<p><br /><span style='text-decoratio
 n: underline\;'><strong>Lunch</strong></span></p>\n<p>1 1/2 -&nbsp\; 2 oz 
 Chicken Tenders<br />1/4-1/2 cup WG Brown Rice<br />1/4-1/2 cup Peas &amp\
 ; Carrots<br />1/4 cup Mixed Fruit<br />6 oz.1% Milk (ages 6-12 8 oz)</p>
 \n<p><br /><span style='text-decoration: underline\;'><strong>PM Snack</st
 rong></span></p>\n<p>1/4-1/2 cup Goldfish Crackers<br />4 oz 1% Milk (8 oz
  for ages 6-12)</p>
DTSTART:20221104T000000Z
DTEND:20221104T235959Z
SUMMARY:Friday
URL:https://denbighchristianacademy.com/index.php/school-calendar/lunch-men
 u/10-school-menu/1022-friday
X-ALT-DESC;FMTTYPE=TEXT/HTML:<p><span style='text-decoration: underline\;'>
 <strong>Breakfast</strong></span></p>\n<p>1 1/2 - 2 oz French Toast Sticks
 <br />1/4-1/2 cup Mixed Fruit<br />1/4-1/2 cup Cereal (optional)<br />6 oz
 . 1% Milk (8 oz for ages 6-12)</p>\n<p><br /><span style='text-decoration:
  underline\;'><strong>AM Snack</strong></span></p>\n<p>1/4-1/2 cup Cheez-i
 t Crackers<br />4 oz 1% Milk (8 oz for ages 6-12)</p>\n<p><br /><span styl
 e='text-decoration: underline\;'><strong>Lunch</strong></span></p>\n<p>1 1
 /2 -&nbsp\; 2 oz Chicken Tenders<br />1/4-1/2 cup WG Brown Rice<br />1/4-1
 /2 cup Peas &amp\; Carrots<br />1/4 cup Mixed Fruit<br />6 oz.1% Milk (age
 s 6-12 8 oz)</p>\n<p><br /><span style='text-decoration: underline\;'><str
 ong>PM Snack</strong></span></p>\n<p>1/4-1/2 cup Goldfish Crackers<br />4 
 oz 1% Milk (8 oz for ages 6-12)</p>
END:VEVENT
END:VCALENDAR
