BEGIN:VCALENDAR
VERSION:2.0
PRODID:-//https://denbighchristianacademy.com//NONSGML kigkonsult.se iCalcr
 eator 2.29.29//
CALSCALE:GREGORIAN
METHOD:PUBLISH
UID:a19be24a-04f9-4d88-ae84-ada0c1ac7224
X-WR-CALNAME:JCal Pro Calendar
X-WR-CALDESC:Your online events calendar
X-WR-TIMEZONE:UTC
BEGIN:VTIMEZONE
TZID:UTC
END:VTIMEZONE
BEGIN:VEVENT
UID:20230320T180000UTC-4166RJUsnL@https://www.denbighchristianacademy.com/
DTSTAMP:20260424T201048Z
CATEGORIES:School Menu
DESCRIPTION:<p><span style='text-decoration: underline\;'><strong>Breakfast
 </strong></span></p>\n<p>1 1/2 oz Belgian Waflle<br />1/4-1/2 cup Diced Pe
 ars<br />1/4-1/2 cup Cereal (optional)<br />6 oz. 1% Milk (8 oz for ages 6
 -12)</p>\n<p><br /><span style='text-decoration: underline\;'><strong>AM S
 nack</strong></span></p>\n<p>1/4-1/2 cup WG Bug Bites Crackers<br />4 oz 1
 % Milk (8 oz for ages 6-12)</p>\n<p><br /><span style='text-decoration: un
 derline\;'><strong>Lunch</strong></span></p>\n<p>1 1/2 - 2 oz Beef Ravioli
 <br />WW Roll<br />1/4-1/2 cup California Veggie Blend<br />1/4 cup Tropic
 al Fruit<br />6 oz.1% Milk (ages 6-12 8 oz)</p>\n<p><br /><span style='tex
 t-decoration: underline\;'><strong>PM Snack</strong></span></p>\n<p>1/4-1/
 2 cup Vanilla Wafer Cookies<br />4 oz 1% Milk (8 oz for ages 6-12)</p>
DTSTART:20230320T000000Z
DTEND:20230320T235959Z
SUMMARY:Monday
URL:https://denbighchristianacademy.com/index.php/school-calendar/lunch-men
 u/10-school-menu/1108-monday
X-ALT-DESC;FMTTYPE=TEXT/HTML:<p><span style='text-decoration: underline\;'>
 <strong>Breakfast</strong></span></p>\n<p>1 1/2 oz Belgian Waflle<br />1/4
 -1/2 cup Diced Pears<br />1/4-1/2 cup Cereal (optional)<br />6 oz. 1% Milk
  (8 oz for ages 6-12)</p>\n<p><br /><span style='text-decoration: underlin
 e\;'><strong>AM Snack</strong></span></p>\n<p>1/4-1/2 cup WG Bug Bites Cra
 ckers<br />4 oz 1% Milk (8 oz for ages 6-12)</p>\n<p><br /><span style='te
 xt-decoration: underline\;'><strong>Lunch</strong></span></p>\n<p>1 1/2 - 
 2 oz Beef Ravioli<br />WW Roll<br />1/4-1/2 cup California Veggie Blend<br
  />1/4 cup Tropical Fruit<br />6 oz.1% Milk (ages 6-12 8 oz)</p>\n<p><br /
 ><span style='text-decoration: underline\;'><strong>PM Snack</strong></spa
 n></p>\n<p>1/4-1/2 cup Vanilla Wafer Cookies<br />4 oz 1% Milk (8 oz for a
 ges 6-12)</p>
END:VEVENT
BEGIN:VEVENT
UID:20230321T180000UTC-6322VfBWZC@https://www.denbighchristianacademy.com/
DTSTAMP:20260424T201048Z
CATEGORIES:School Menu
DESCRIPTION:<p><span style='text-decoration: underline\;'><strong>Breakfast
 </strong></span></p>\n<p>1 - 2 oz Turkey Bacon<br />1 1/2 - 2 oz WW Toast<
 br />1/4-1/2 cup Peaches<br />1/4-1/2 cup Cereal (optional)<br />6 oz. 1% 
 Milk (8 oz for ages 6-12)</p>\n<p><br /><span style='text-decoration: unde
 rline\;'><strong>AM Snack</strong></span></p>\n<p>1.62 oz Assorted Fruit S
 nacks ( 2pks)<br />4 oz 1% Milk (8 oz for ages 6-12)</p>\n<p><br /><span s
 tyle='text-decoration: underline\;'><strong>Lunch</strong></span></p>\n<p>
 1 1/2 - 2 oz Baked Chicken Drumstick<br />WW Roll<br />1/4-1/2 cup Veggie 
 Fried Rice<br />1/4 cup Mixed Fruit<br />6 oz.1% Milk (ages 6-12 8 oz)</p>
 \n<p><br /><span style='text-decoration: underline\;'><strong>PM Snack</st
 rong></span></p>\n<p>1 pk Lorne Doone Cookies<br />4 oz 1% Milk (8 oz for 
 ages 6-12)</p>
DTSTART:20230321T000000Z
DTEND:20230321T235959Z
SUMMARY:Tuesday
URL:https://denbighchristianacademy.com/index.php/school-calendar/lunch-men
 u/10-school-menu/1109-tuesday
X-ALT-DESC;FMTTYPE=TEXT/HTML:<p><span style='text-decoration: underline\;'>
 <strong>Breakfast</strong></span></p>\n<p>1 - 2 oz Turkey Bacon<br />1 1/2
  - 2 oz WW Toast<br />1/4-1/2 cup Peaches<br />1/4-1/2 cup Cereal (optiona
 l)<br />6 oz. 1% Milk (8 oz for ages 6-12)</p>\n<p><br /><span style='text
 -decoration: underline\;'><strong>AM Snack</strong></span></p>\n<p>1.62 oz
  Assorted Fruit Snacks ( 2pks)<br />4 oz 1% Milk (8 oz for ages 6-12)</p>
 \n<p><br /><span style='text-decoration: underline\;'><strong>Lunch</stron
 g></span></p>\n<p>1 1/2 - 2 oz Baked Chicken Drumstick<br />WW Roll<br />1
 /4-1/2 cup Veggie Fried Rice<br />1/4 cup Mixed Fruit<br />6 oz.1% Milk (a
 ges 6-12 8 oz)</p>\n<p><br /><span style='text-decoration: underline\;'><s
 trong>PM Snack</strong></span></p>\n<p>1 pk Lorne Doone Cookies<br />4 oz 
 1% Milk (8 oz for ages 6-12)</p>
END:VEVENT
BEGIN:VEVENT
UID:20230322T180000UTC-2650cCuvgG@https://www.denbighchristianacademy.com/
DTSTAMP:20260424T201048Z
CATEGORIES:School Menu
DESCRIPTION:<p><span style='text-decoration: underline\;'><strong>Breakfast
 </strong></span></p>\n<p>1 1/2 oz (2) Pancakes<br />1/4-1/2 cup Pineapple<
 br />1/4-1/2 cup Cereal (optional)<br />6 oz. 1% Milk (8 oz for ages 6-12)
 </p>\n<p><br /><span style='text-decoration: underline\;'><strong>AM Snack
 </strong></span></p>\n<p>1/4-1/2 cup Ritz Crackers &amp\; Cheese Cubes<br 
 />4 oz Water (8 oz for ages 6-12)</p>\n<p><br /><span style='text-decorati
 on: underline\;'><strong>Lunch</strong></span></p>\n<p>1 1/2 - 2 oz Beef &
 amp\; Buttered Noodles<br />WW Bread<br />1/4-1/2 cup Mashed Potatoes<br /
 >1/4-1/2 cup Cauliflower Rice<br />1/4 cup Fruit Cocktail<br />6 oz.1% Mil
 k (ages 6-12 8 oz)</p>\n<p><br /><span style='text-decoration: underline\;
 '><strong>PM Snack</strong></span></p>\n<p>1/4-1/2 cup Chocolate Chip Cook
 ies<br />4 oz 1% Milk (8 oz for ages 6-12)</p>
DTSTART:20230322T000000Z
DTEND:20230322T235959Z
SUMMARY:Wednesday
URL:https://denbighchristianacademy.com/index.php/school-calendar/lunch-men
 u/10-school-menu/1110-wednesday
X-ALT-DESC;FMTTYPE=TEXT/HTML:<p><span style='text-decoration: underline\;'>
 <strong>Breakfast</strong></span></p>\n<p>1 1/2 oz (2) Pancakes<br />1/4-1
 /2 cup Pineapple<br />1/4-1/2 cup Cereal (optional)<br />6 oz. 1% Milk (8 
 oz for ages 6-12)</p>\n<p><br /><span style='text-decoration: underline\;'
 ><strong>AM Snack</strong></span></p>\n<p>1/4-1/2 cup Ritz Crackers &amp\;
  Cheese Cubes<br />4 oz Water (8 oz for ages 6-12)</p>\n<p><br /><span sty
 le='text-decoration: underline\;'><strong>Lunch</strong></span></p>\n<p>1 
 1/2 - 2 oz Beef &amp\; Buttered Noodles<br />WW Bread<br />1/4-1/2 cup Mas
 hed Potatoes<br />1/4-1/2 cup Cauliflower Rice<br />1/4 cup Fruit Cocktail
 <br />6 oz.1% Milk (ages 6-12 8 oz)</p>\n<p><br /><span style='text-decora
 tion: underline\;'><strong>PM Snack</strong></span></p>\n<p>1/4-1/2 cup Ch
 ocolate Chip Cookies<br />4 oz 1% Milk (8 oz for ages 6-12)</p>
END:VEVENT
BEGIN:VEVENT
UID:20230323T180000UTC-7980tUm91V@https://www.denbighchristianacademy.com/
DTSTAMP:20260424T201048Z
CATEGORIES:School Menu
DESCRIPTION:<p><span style='text-decoration: underline\;'><strong>Breakfast
 </strong></span></p>\n<p>1/4-1/2 cup Oatmeal<br />1/4-1/2 cup Apple Sauce<
 br />1/4-1/2 cup Cereal (optional)<br />6 oz. 1% Milk (8 oz for ages 6-12)
 </p>\n<p><br /><span style='text-decoration: underline\;'><strong>AM Snack
 </strong></span></p>\n<p>1 WG Nutri Grain Bar (1.3 oz)<br />4 oz 1% Milk (
 8 oz for ages 6-12)</p>\n<p><br /><span style='text-decoration: underline\
 ;'><strong>Lunch</strong></span></p>\n<p>1 1/2 - 2 oz Chicken Fajita<br />
 WW Bread<br />1/4-1/2 cup WG Brown Rice<br />1/4-1/2 cup Mixed Vegetables<
 br />1/4 cup Mixed Fruit<br />6 oz.1% Milk (ages 6-12 8 oz)</p>\n<p><br />
 <span style='text-decoration: underline\;'><strong>PM Snack</strong></span
 ></p>\n<p>1 (.78 oz) Bar Rice Krispy Treat<br />4 oz 100% Apple Juice (8 o
 z for ages 6-12)</p>
DTSTART:20230323T000000Z
DTEND:20230323T235959Z
SUMMARY:Thursday
URL:https://denbighchristianacademy.com/index.php/school-calendar/lunch-men
 u/10-school-menu/1111-thursday
X-ALT-DESC;FMTTYPE=TEXT/HTML:<p><span style='text-decoration: underline\;'>
 <strong>Breakfast</strong></span></p>\n<p>1/4-1/2 cup Oatmeal<br />1/4-1/2
  cup Apple Sauce<br />1/4-1/2 cup Cereal (optional)<br />6 oz. 1% Milk (8 
 oz for ages 6-12)</p>\n<p><br /><span style='text-decoration: underline\;'
 ><strong>AM Snack</strong></span></p>\n<p>1 WG Nutri Grain Bar (1.3 oz)<br
  />4 oz 1% Milk (8 oz for ages 6-12)</p>\n<p><br /><span style='text-decor
 ation: underline\;'><strong>Lunch</strong></span></p>\n<p>1 1/2 - 2 oz Chi
 cken Fajita<br />WW Bread<br />1/4-1/2 cup WG Brown Rice<br />1/4-1/2 cup 
 Mixed Vegetables<br />1/4 cup Mixed Fruit<br />6 oz.1% Milk (ages 6-12 8 o
 z)</p>\n<p><br /><span style='text-decoration: underline\;'><strong>PM Sna
 ck</strong></span></p>\n<p>1 (.78 oz) Bar Rice Krispy Treat<br />4 oz 100%
  Apple Juice (8 oz for ages 6-12)</p>
END:VEVENT
BEGIN:VEVENT
UID:20230324T180000UTC-3979M6skJv@https://www.denbighchristianacademy.com/
DTSTAMP:20260424T201048Z
CATEGORIES:School Menu
DESCRIPTION:<p><span style='text-decoration: underline\;'><strong>Breakfast
 </strong></span></p>\n<p>2 - 4 French Toast Sticks<br />1/4-1/2 cup Mixed 
 Fruit<br />1/4-1/2 cup Cereal (optional)<br />6 oz. 1% Milk (8 oz for ages
  6-12)</p>\n<p><br /><span style='text-decoration: underline\;'><strong>AM
  Snack</strong></span></p>\n<p>1/4-1/2 cup WG Cheez-it Crackers<br />4 oz 
 1% Milk (8 oz for ages 6-12)</p>\n<p><br /><span style='text-decoration: u
 nderline\;'><strong>Lunch</strong></span></p>\n<p>1 1/2 - 2 oz Breaded Fis
 h<br />WW Bread<br />1/4-1/2 cup Broccoli<br />1/4 cup Fruit Cocktail<br /
 >6 oz.1% Milk (ages 6-12 8 oz)</p>\n<p><br /><span style='text-decoration:
  underline\;'><strong>PM Snack</strong></span></p>\n<p>1/4-1/2 cup Oatmeal
  Cookies<br />4 oz 1% Milk (8 oz for ages 6-12)</p>
DTSTART:20230324T000000Z
DTEND:20230324T235959Z
SUMMARY:Friday
URL:https://denbighchristianacademy.com/index.php/school-calendar/lunch-men
 u/10-school-menu/1112-friday
X-ALT-DESC;FMTTYPE=TEXT/HTML:<p><span style='text-decoration: underline\;'>
 <strong>Breakfast</strong></span></p>\n<p>2 - 4 French Toast Sticks<br />1
 /4-1/2 cup Mixed Fruit<br />1/4-1/2 cup Cereal (optional)<br />6 oz. 1% Mi
 lk (8 oz for ages 6-12)</p>\n<p><br /><span style='text-decoration: underl
 ine\;'><strong>AM Snack</strong></span></p>\n<p>1/4-1/2 cup WG Cheez-it Cr
 ackers<br />4 oz 1% Milk (8 oz for ages 6-12)</p>\n<p><br /><span style='t
 ext-decoration: underline\;'><strong>Lunch</strong></span></p>\n<p>1 1/2 -
  2 oz Breaded Fish<br />WW Bread<br />1/4-1/2 cup Broccoli<br />1/4 cup Fr
 uit Cocktail<br />6 oz.1% Milk (ages 6-12 8 oz)</p>\n<p><br /><span style=
 'text-decoration: underline\;'><strong>PM Snack</strong></span></p>\n<p>1/
 4-1/2 cup Oatmeal Cookies<br />4 oz 1% Milk (8 oz for ages 6-12)</p>
END:VEVENT
END:VCALENDAR
