BEGIN:VCALENDAR
VERSION:2.0
PRODID:-//https://denbighchristianacademy.com//NONSGML kigkonsult.se iCalcr
 eator 2.29.29//
CALSCALE:GREGORIAN
METHOD:PUBLISH
UID:83e74e83-1c09-4db1-882e-b3e5c655e790
X-WR-CALNAME:JCal Pro Calendar
X-WR-CALDESC:Your online events calendar
X-WR-TIMEZONE:UTC
BEGIN:VTIMEZONE
TZID:UTC
END:VTIMEZONE
BEGIN:VEVENT
UID:20230327T170000UTC-2908ZUnuV9@https://www.denbighchristianacademy.com/
DTSTAMP:20260424T201048Z
CATEGORIES:School Menu
DESCRIPTION:<p><span style='text-decoration: underline\;'><strong>Breakfast
 </strong></span></p>\n<p>1 1/2 oz French Toast<br />1/4-1/2 cup Diced Pear
 s<br />1/4-1/2 cup Cereal (optional)<br />6 oz. 1% Milk (8 oz for ages 6-1
 2)</p>\n<p><br /><span style='text-decoration: underline\;'><strong>AM Sna
 ck</strong></span></p>\n<p>1/4-1/2 cup Animal Crackers<br />4 oz 1% Milk (
 8 oz for ages 6-12)</p>\n<p><br /><span style='text-decoration: underline\
 ;'><strong>Lunch</strong></span></p>\n<p>1 1/2 - 2 oz Chicken &amp\; Dumpl
 ings<br />WW Roll<br />1/4-1/2 cup Mixed Vegetables<br />1/4 cup Mixed Fru
 it<br />6 oz.1% Milk (ages 6-12 8 oz)</p>\n<p><br /><span style='text-deco
 ration: underline\;'><strong>PM Snack</strong></span></p>\n<p>1/4-1/2 cup 
 Cauliflower Stalks<br />4 oz 1% Milk (8 oz for ages 6-12)</p>
DTSTART:20230327T000000Z
DTEND:20230327T235959Z
SUMMARY:Monday
URL:https://denbighchristianacademy.com/index.php/school-calendar/lunch-men
 u/10-school-menu/1113-monday
X-ALT-DESC;FMTTYPE=TEXT/HTML:<p><span style='text-decoration: underline\;'>
 <strong>Breakfast</strong></span></p>\n<p>1 1/2 oz French Toast<br />1/4-1
 /2 cup Diced Pears<br />1/4-1/2 cup Cereal (optional)<br />6 oz. 1% Milk (
 8 oz for ages 6-12)</p>\n<p><br /><span style='text-decoration: underline\
 ;'><strong>AM Snack</strong></span></p>\n<p>1/4-1/2 cup Animal Crackers<br
  />4 oz 1% Milk (8 oz for ages 6-12)</p>\n<p><br /><span style='text-decor
 ation: underline\;'><strong>Lunch</strong></span></p>\n<p>1 1/2 - 2 oz Chi
 cken &amp\; Dumplings<br />WW Roll<br />1/4-1/2 cup Mixed Vegetables<br />
 1/4 cup Mixed Fruit<br />6 oz.1% Milk (ages 6-12 8 oz)</p>\n<p><br /><span
  style='text-decoration: underline\;'><strong>PM Snack</strong></span></p>
 \n<p>1/4-1/2 cup Cauliflower Stalks<br />4 oz 1% Milk (8 oz for ages 6-12)
 </p>
END:VEVENT
BEGIN:VEVENT
UID:20230328T170000UTC-0727V1TCOr@https://www.denbighchristianacademy.com/
DTSTAMP:20260424T201048Z
CATEGORIES:School Menu
DESCRIPTION:<p><span style='text-decoration: underline\;'><strong>Breakfast
 </strong></span></p>\n<p>3.5 oz Cheese Omelet or<br />1 - 2 oz Turkey Baco
 n<br />1/4-1/2 cup Apple Sauce<br />1/4-1/2 cup Cereal (optional)<br />6 o
 z. 1% Milk (8 oz for ages 6-12)</p>\n<p><br /><span style='text-decoration
 : underline\;'><strong>AM Snack</strong></span></p>\n<p>1/4-1/2 cup Graham
  Bug Bites Crackers<br />4 oz 1% Milk (8 oz for ages 6-12)</p>\n<p><br /><
 span style='text-decoration: underline\;'><strong>Lunch</strong></span></p
 >\n<p>1 1/2 - 2 oz Meat &amp\; Sauce Nachos<br />1/4-1/2 cup Seasoned Corn
 <br />1/4 cup Mixed Fruit<br />6 oz.1% Milk (ages 6-12 8 oz)</p>\n<p><br /
 ><span style='text-decoration: underline\;'><strong>PM Snack</strong></spa
 n></p>\n<p>1 oz Vanilla Waffer Cookies<br />4 oz 1% Milk (8 oz for ages 6-
 12)</p>
DTSTART:20230328T000000Z
DTEND:20230328T235959Z
SUMMARY:Tuesday
URL:https://denbighchristianacademy.com/index.php/school-calendar/lunch-men
 u/10-school-menu/1114-tuesday
X-ALT-DESC;FMTTYPE=TEXT/HTML:<p><span style='text-decoration: underline\;'>
 <strong>Breakfast</strong></span></p>\n<p>3.5 oz Cheese Omelet or<br />1 -
  2 oz Turkey Bacon<br />1/4-1/2 cup Apple Sauce<br />1/4-1/2 cup Cereal (o
 ptional)<br />6 oz. 1% Milk (8 oz for ages 6-12)</p>\n<p><br /><span style
 ='text-decoration: underline\;'><strong>AM Snack</strong></span></p>\n<p>1
 /4-1/2 cup Graham Bug Bites Crackers<br />4 oz 1% Milk (8 oz for ages 6-12
 )</p>\n<p><br /><span style='text-decoration: underline\;'><strong>Lunch</
 strong></span></p>\n<p>1 1/2 - 2 oz Meat &amp\; Sauce Nachos<br />1/4-1/2 
 cup Seasoned Corn<br />1/4 cup Mixed Fruit<br />6 oz.1% Milk (ages 6-12 8 
 oz)</p>\n<p><br /><span style='text-decoration: underline\;'><strong>PM Sn
 ack</strong></span></p>\n<p>1 oz Vanilla Waffer Cookies<br />4 oz 1% Milk 
 (8 oz for ages 6-12)</p>
END:VEVENT
BEGIN:VEVENT
UID:20230329T170000UTC-8220BLllRt@https://www.denbighchristianacademy.com/
DTSTAMP:20260424T201048Z
CATEGORIES:School Menu
DESCRIPTION:<p><span style='text-decoration: underline\;'><strong>Breakfast
 </strong></span></p>\n<p>1 1/2 oz (2) Pancakes<br />1/4-1/2 cup Pears<br /
 >1/4-1/2 cup Cereal (optional)<br />6 oz. 1% Milk (8 oz for ages 6-12)</p>
 \n<p><br /><span style='text-decoration: underline\;'><strong>AM Snack</st
 rong></span></p>\n<p>1/4-1/2 cup Fruit Snacks<br />4 oz 1% Milk (8 oz for 
 ages 6-12)</p>\n<p><br /><span style='text-decoration: underline\;'><stron
 g>Lunch</strong></span></p>\n<p>1 1/2 - 2 oz Chicken Tenders<br />WW Bread
 <br />1/4-1/2 cup Green Beans<br />1/4 cup Mixed Fruit<br />6 oz.1% Milk (
 ages 6-12 8 oz)</p>\n<p><br /><span style='text-decoration: underline\;'><
 strong>PM Snack</strong></span></p>\n<p>1/4-1/2 cup Pretzels<br />4 oz 100
 % Apple Juice (8 oz for ages 6-12)</p>
DTSTART:20230329T000000Z
DTEND:20230329T235959Z
SUMMARY:Wednesday
URL:https://denbighchristianacademy.com/index.php/school-calendar/lunch-men
 u/10-school-menu/1115-wednesday
X-ALT-DESC;FMTTYPE=TEXT/HTML:<p><span style='text-decoration: underline\;'>
 <strong>Breakfast</strong></span></p>\n<p>1 1/2 oz (2) Pancakes<br />1/4-1
 /2 cup Pears<br />1/4-1/2 cup Cereal (optional)<br />6 oz. 1% Milk (8 oz f
 or ages 6-12)</p>\n<p><br /><span style='text-decoration: underline\;'><st
 rong>AM Snack</strong></span></p>\n<p>1/4-1/2 cup Fruit Snacks<br />4 oz 1
 % Milk (8 oz for ages 6-12)</p>\n<p><br /><span style='text-decoration: un
 derline\;'><strong>Lunch</strong></span></p>\n<p>1 1/2 - 2 oz Chicken Tend
 ers<br />WW Bread<br />1/4-1/2 cup Green Beans<br />1/4 cup Mixed Fruit<br
  />6 oz.1% Milk (ages 6-12 8 oz)</p>\n<p><br /><span style='text-decoratio
 n: underline\;'><strong>PM Snack</strong></span></p>\n<p>1/4-1/2 cup Pretz
 els<br />4 oz 100% Apple Juice (8 oz for ages 6-12)</p>
END:VEVENT
BEGIN:VEVENT
UID:20230330T170000UTC-4669eR8X5v@https://www.denbighchristianacademy.com/
DTSTAMP:20260424T201048Z
CATEGORIES:School Menu
DESCRIPTION:<p><span style='text-decoration: underline\;'><strong>Breakfast
 </strong></span></p>\n<p>1/4-1/2 cup Oatmeal<br />1/4-1/2 cup Fruit Cockta
 il<br />1/4-1/2 cup Cereal (optional)<br />6 oz. 1% Milk (8 oz for ages 6-
 12)</p>\n<p><br /><span style='text-decoration: underline\;'><strong>AM Sn
 ack</strong></span></p>\n<p>1/4-1/2 cup WG Ritz Bits w/Cheese<br />4 oz 1%
  Milk (8 oz for ages 6-12)</p>\n<p><br /><span style='text-decoration: und
 erline\;'><strong>Lunch</strong></span></p>\n<p>1 1/2 - 2 oz Pizza<br />WW
  Bread<br />1/4-1/2 cup Broccoli<br />1/4 cup Fruit Cocktail<br />6 oz.1% 
 Milk (ages 6-12 8 oz)</p>\n<p><br /><span style='text-decoration: underlin
 e\;'><strong>PM Snack</strong></span></p>\n<p>1 (.78 oz) Bar Rice Krispy T
 reat<br />4 oz 1% Milk (8 oz for ages 6-12)</p>
DTSTART:20230330T000000Z
DTEND:20230330T235959Z
SUMMARY:Thursday
URL:https://denbighchristianacademy.com/index.php/school-calendar/lunch-men
 u/10-school-menu/1116-thursday
X-ALT-DESC;FMTTYPE=TEXT/HTML:<p><span style='text-decoration: underline\;'>
 <strong>Breakfast</strong></span></p>\n<p>1/4-1/2 cup Oatmeal<br />1/4-1/2
  cup Fruit Cocktail<br />1/4-1/2 cup Cereal (optional)<br />6 oz. 1% Milk 
 (8 oz for ages 6-12)</p>\n<p><br /><span style='text-decoration: underline
 \;'><strong>AM Snack</strong></span></p>\n<p>1/4-1/2 cup WG Ritz Bits w/Ch
 eese<br />4 oz 1% Milk (8 oz for ages 6-12)</p>\n<p><br /><span style='tex
 t-decoration: underline\;'><strong>Lunch</strong></span></p>\n<p>1 1/2 - 2
  oz Pizza<br />WW Bread<br />1/4-1/2 cup Broccoli<br />1/4 cup Fruit Cockt
 ail<br />6 oz.1% Milk (ages 6-12 8 oz)</p>\n<p><br /><span style='text-dec
 oration: underline\;'><strong>PM Snack</strong></span></p>\n<p>1 (.78 oz) 
 Bar Rice Krispy Treat<br />4 oz 1% Milk (8 oz for ages 6-12)</p>
END:VEVENT
BEGIN:VEVENT
UID:20230331T170000UTC-1442xmhzwi@https://www.denbighchristianacademy.com/
DTSTAMP:20260424T201048Z
CATEGORIES:School Menu
DESCRIPTION:<p><span style='text-decoration: underline\;'><strong>Breakfast
 </strong></span></p>\n<p>1 - 2 oz Turkery Sausage Biscuit<br />1/4-1/2 cup
  Peaches<br />1/4-1/2 cup Cereal (optional)<br />6 oz. 1% Milk (8 oz for a
 ges 6-12)</p>\n<p><br /><span style='text-decoration: underline\;'><strong
 >AM Snack</strong></span></p>\n<p>1/4-1/2 cup Fig Newtons<br />4 oz Water 
 (8 oz for ages 6-12)</p>\n<p><br /><span style='text-decoration: underline
 \;'><strong>Lunch</strong></span></p>\n<p>1 1/2 - 2 oz Hamburger/Cheesebur
 tger on<br />WW Bun<br />1/4-1/2 cup Potato Chips<br />1/4 cup Mixed Fruit
 <br />6 oz.1% Milk (ages 6-12 8 oz)</p>\n<p><br /><span style='text-decora
 tion: underline\;'><strong>PM Snack</strong></span></p>\n<p>1 pk (1.5 oz) 
 Lorne Doone Cookies<br />4 oz 1% Milk (8 oz for ages 6-12)</p>
DTSTART:20230331T000000Z
DTEND:20230331T235959Z
SUMMARY:Friday
URL:https://denbighchristianacademy.com/index.php/school-calendar/lunch-men
 u/10-school-menu/1117-friday
X-ALT-DESC;FMTTYPE=TEXT/HTML:<p><span style='text-decoration: underline\;'>
 <strong>Breakfast</strong></span></p>\n<p>1 - 2 oz Turkery Sausage Biscuit
 <br />1/4-1/2 cup Peaches<br />1/4-1/2 cup Cereal (optional)<br />6 oz. 1%
  Milk (8 oz for ages 6-12)</p>\n<p><br /><span style='text-decoration: und
 erline\;'><strong>AM Snack</strong></span></p>\n<p>1/4-1/2 cup Fig Newtons
 <br />4 oz Water (8 oz for ages 6-12)</p>\n<p><br /><span style='text-deco
 ration: underline\;'><strong>Lunch</strong></span></p>\n<p>1 1/2 - 2 oz Ha
 mburger/Cheeseburtger on<br />WW Bun<br />1/4-1/2 cup Potato Chips<br />1/
 4 cup Mixed Fruit<br />6 oz.1% Milk (ages 6-12 8 oz)</p>\n<p><br /><span s
 tyle='text-decoration: underline\;'><strong>PM Snack</strong></span></p>\n
 <p>1 pk (1.5 oz) Lorne Doone Cookies<br />4 oz 1% Milk (8 oz for ages 6-12
 )</p>
END:VEVENT
END:VCALENDAR
