BEGIN:VCALENDAR
VERSION:2.0
PRODID:-//https://denbighchristianacademy.com//NONSGML kigkonsult.se iCalcr
 eator 2.29.29//
CALSCALE:GREGORIAN
METHOD:PUBLISH
UID:f74ae8a9-df39-4dde-a2a1-9da7876e1a2c
X-WR-CALNAME:JCal Pro Calendar
X-WR-CALDESC:Your online events calendar
X-WR-TIMEZONE:UTC
BEGIN:VTIMEZONE
TZID:UTC
END:VTIMEZONE
BEGIN:VEVENT
UID:20231218T160000UTC-7245wvcUmT@https://www.denbighchristianacademy.com/
DTSTAMP:20260424T201048Z
CATEGORIES:School Menu
DTSTART:20231218T000000Z
DTEND:20231218T235959Z
SUMMARY:Monday - Closed for Christmas Break
URL:https://denbighchristianacademy.com/index.php/school-calendar/lunch-men
 u/10-school-menu/1358-monday-closed-for-christmas-break
END:VEVENT
BEGIN:VEVENT
UID:20231207T160000UTC-0393Ihh7Pv@https://www.denbighchristianacademy.com/
DTSTAMP:20260424T201048Z
CATEGORIES:School Menu
DTSTART:20231219T000000Z
DTEND:20231219T235959Z
SUMMARY:Tuesday - Closed for Christmas Break
URL:https://denbighchristianacademy.com/index.php/school-calendar/lunch-men
 u/10-school-menu/1359-tuesday-closed-for-christmas-break
END:VEVENT
BEGIN:VEVENT
UID:20231220T160000UTC-4995aNPXgZ@https://www.denbighchristianacademy.com/
DTSTAMP:20260424T201048Z
CATEGORIES:School Menu
DTSTART:20231220T000000Z
DTEND:20231220T235959Z
SUMMARY:Wednesday - Closed for Christmas Break
URL:https://denbighchristianacademy.com/index.php/school-calendar/lunch-men
 u/10-school-menu/1360-wednesday-closed-for-christmas-break
END:VEVENT
BEGIN:VEVENT
UID:20231221T160000UTC-4777Hcxkvv@https://www.denbighchristianacademy.com/
DTSTAMP:20260424T201048Z
CATEGORIES:School Menu
DTSTART:20231221T000000Z
DTEND:20231221T235959Z
SUMMARY:Thursday - Closed for Christmas Break
URL:https://denbighchristianacademy.com/index.php/school-calendar/lunch-men
 u/10-school-menu/1361-thursday-closed-for-christmas-break
END:VEVENT
BEGIN:VEVENT
UID:20231222T160000UTC-4406XajP4S@https://www.denbighchristianacademy.com/
DTSTAMP:20260424T201048Z
CATEGORIES:School Menu
DTSTART:20231222T000000Z
DTEND:20231222T235959Z
SUMMARY:Friday - Closed for Christmas Break
URL:https://denbighchristianacademy.com/index.php/school-calendar/lunch-men
 u/10-school-menu/1362-friday-closed-for-christmas-break
END:VEVENT
END:VCALENDAR
