BEGIN:VCALENDAR
VERSION:2.0
PRODID:-//https://denbighchristianacademy.com//NONSGML kigkonsult.se iCalcr
 eator 2.29.29//
CALSCALE:GREGORIAN
METHOD:PUBLISH
UID:db93db12-8101-4e72-87d1-13a892572e4b
X-WR-CALNAME:JCal Pro Calendar
X-WR-CALDESC:Your online events calendar
X-WR-TIMEZONE:UTC
BEGIN:VTIMEZONE
TZID:UTC
END:VTIMEZONE
BEGIN:VEVENT
UID:20240219T150000UTC-0532xuvURw@https://www.denbighchristianacademy.com/
DTSTAMP:20260424T181028Z
CATEGORIES:School Menu
DESCRIPTION:<p>DCA Closed for Presidents Day.</p>
DTSTART:20240219T000000Z
DTEND:20240219T235959Z
SUMMARY:Monday - Closed for Presidents Day
URL:https://denbighchristianacademy.com/index.php/school-calendar/lunch-men
 u/10-school-menu/1399-monday-closed-for-presidents-day
X-ALT-DESC;FMTTYPE=TEXT/HTML:<p>DCA Closed for Presidents Day.</p>
END:VEVENT
BEGIN:VEVENT
UID:20240220T150000UTC-8760Xdg0Ma@https://www.denbighchristianacademy.com/
DTSTAMP:20260424T181028Z
CATEGORIES:School Menu
DESCRIPTION:<p><span style='text-decoration: underline\;'><strong>Breakfast
 </strong></span></p>\n<p>3.5 oz Biscuit<br />1 - 2 oz Turkey Bacon<br />1/
 4-1/2 cup Apple Sauce<br />1/4-1/2 cup Cereal (optional)<br />6 oz. 1% Mil
 k (8 oz for ages 6-12)</p>\n<p><br /><span style='text-decoration: underli
 ne\;'><strong>AM Snack</strong></span></p>\n<p>1 - 2 oz WG Animal Crackers
 <br />4 oz 1% Milk (8 oz for ages 6-12)</p>\n<p><br /><span style='text-de
 coration: underline\;'><strong>Lunch</strong></span></p>\n<p>1 1/2 - 2 oz 
 Mac &amp\; Cheese<br />WW Bread<br />1/4-1/2 cup Green Beans<br />1/4 cup 
 Mixed Fruit<br />6 oz.1% Milk (ages 6-12 8 oz)</p>\n<p><br /><span style='
 text-decoration: underline\;'><strong>PM Snack</strong></span></p>\n<p>1.3
 7 oz Captain's Wafer Sandwich Crackers<br />4 oz 100% Grape Juice (8 oz fo
 r ages 6-12)</p>
DTSTART:20240220T000000Z
DTEND:20240220T235959Z
SUMMARY:Tuesday
URL:https://denbighchristianacademy.com/index.php/school-calendar/lunch-men
 u/10-school-menu/1400-tuesday
X-ALT-DESC;FMTTYPE=TEXT/HTML:<p><span style='text-decoration: underline\;'>
 <strong>Breakfast</strong></span></p>\n<p>3.5 oz Biscuit<br />1 - 2 oz Tur
 key Bacon<br />1/4-1/2 cup Apple Sauce<br />1/4-1/2 cup Cereal (optional)<
 br />6 oz. 1% Milk (8 oz for ages 6-12)</p>\n<p><br /><span style='text-de
 coration: underline\;'><strong>AM Snack</strong></span></p>\n<p>1 - 2 oz W
 G Animal Crackers<br />4 oz 1% Milk (8 oz for ages 6-12)</p>\n<p><br /><sp
 an style='text-decoration: underline\;'><strong>Lunch</strong></span></p>
 \n<p>1 1/2 - 2 oz Mac &amp\; Cheese<br />WW Bread<br />1/4-1/2 cup Green B
 eans<br />1/4 cup Mixed Fruit<br />6 oz.1% Milk (ages 6-12 8 oz)</p>\n<p><
 br /><span style='text-decoration: underline\;'><strong>PM Snack</strong><
 /span></p>\n<p>1.37 oz Captain's Wafer Sandwich Crackers<br />4 oz 100% Gr
 ape Juice (8 oz for ages 6-12)</p>
END:VEVENT
BEGIN:VEVENT
UID:20240221T150000UTC-64003t5TKe@https://www.denbighchristianacademy.com/
DTSTAMP:20260424T181028Z
CATEGORIES:School Menu
DESCRIPTION:<p><span style='text-decoration: underline\;'><strong>Breakfast
 </strong></span></p>\n<p>1 ½ oz (2) Pancakes<br />1/4-1/2 cup Fruit Cockta
 il<br />1/4-1/2 cup Cereal (optional)<br />6 oz. 1% Milk (8 oz for ages 6-
 12)</p>\n<p><br /><span style='text-decoration: underline\;'><strong>AM Sn
 ack</strong></span></p>\n<p>1/4-1/2 cup Apple Slices<br />4 oz 1% Milk (8 
 oz for ages 6-12)</p>\n<p><br /><span style='text-decoration: underline\;'
 ><strong>Lunch</strong></span></p>\n<p>1 1/2 - 2 oz Spaghetti w/Meat Sauce
 <br />1/4-1/2 cup Tossed Salad w/Dressing<br />1/2 - 1 WW Garlic Bread Sti
 ck<br />1/4 cup Mixed Fruit<br />6 oz.1% Milk (ages 6-12 8 oz)</p>\n<p><br
  /><span style='text-decoration: underline\;'><strong>PM Snack</strong></s
 pan></p>\n<p>3 oz Chocolate Donuts<br />4 oz 1% Milk (8 oz for ages 6-12)<
 /p>
DTSTART:20240221T000000Z
DTEND:20240221T235959Z
SUMMARY:Wednesday
URL:https://denbighchristianacademy.com/index.php/school-calendar/lunch-men
 u/10-school-menu/1401-wednesday
X-ALT-DESC;FMTTYPE=TEXT/HTML:<p><span style='text-decoration: underline\;'>
 <strong>Breakfast</strong></span></p>\n<p>1 ½ oz (2) Pancakes<br />1/4-1/2
  cup Fruit Cocktail<br />1/4-1/2 cup Cereal (optional)<br />6 oz. 1% Milk 
 (8 oz for ages 6-12)</p>\n<p><br /><span style='text-decoration: underline
 \;'><strong>AM Snack</strong></span></p>\n<p>1/4-1/2 cup Apple Slices<br /
 >4 oz 1% Milk (8 oz for ages 6-12)</p>\n<p><br /><span style='text-decorat
 ion: underline\;'><strong>Lunch</strong></span></p>\n<p>1 1/2 - 2 oz Spagh
 etti w/Meat Sauce<br />1/4-1/2 cup Tossed Salad w/Dressing<br />1/2 - 1 WW
  Garlic Bread Stick<br />1/4 cup Mixed Fruit<br />6 oz.1% Milk (ages 6-12 
 8 oz)</p>\n<p><br /><span style='text-decoration: underline\;'><strong>PM 
 Snack</strong></span></p>\n<p>3 oz Chocolate Donuts<br />4 oz 1% Milk (8 o
 z for ages 6-12)</p>
END:VEVENT
BEGIN:VEVENT
UID:20240222T150000UTC-4360VFm2Vv@https://www.denbighchristianacademy.com/
DTSTAMP:20260424T181028Z
CATEGORIES:School Menu
DESCRIPTION:<p><span style='text-decoration: underline\;'><strong>Breakfast
 </strong></span></p>\n<p>1 1/2 - 2 oz Oatmeal<br />1/4-1/2 cup Peaches<br 
 />1/4-1/2 cup Cereal (optional)<br />6 oz. 1% Milk (8 oz for ages 6-12)</p
 >\n<p><br /><span style='text-decoration: underline\;'><strong>AM Snack</s
 trong></span></p>\n<p>1/4-1/2 cup WG Ritz Bits Crackers<br />4 oz Water (8
  oz for ages 6-12)</p>\n<p><br /><span style='text-decoration: underline\;
 '><strong>Lunch</strong></span></p>\n<p>1 1/2 - 2 oz Chicken BBQ<br />WW R
 oll<br />1/4-1/2 cup Broccoli<br />1/4 cup Fruit Cocktail<br />6 oz.1% Mil
 k (ages 6-12 8 oz)</p>\n<p><br /><span style='text-decoration: underline\;
 '><strong>PM Snack</strong></span></p>\n<p>1 pk Lorne Doone Cookies 1.5 oz
 <br />4 oz 1% Milk (8 oz for ages 6-12)</p>
DTSTART:20240222T000000Z
DTEND:20240222T235959Z
SUMMARY:Thursday
URL:https://denbighchristianacademy.com/index.php/school-calendar/lunch-men
 u/10-school-menu/1402-thursday
X-ALT-DESC;FMTTYPE=TEXT/HTML:<p><span style='text-decoration: underline\;'>
 <strong>Breakfast</strong></span></p>\n<p>1 1/2 - 2 oz Oatmeal<br />1/4-1/
 2 cup Peaches<br />1/4-1/2 cup Cereal (optional)<br />6 oz. 1% Milk (8 oz 
 for ages 6-12)</p>\n<p><br /><span style='text-decoration: underline\;'><s
 trong>AM Snack</strong></span></p>\n<p>1/4-1/2 cup WG Ritz Bits Crackers<b
 r />4 oz Water (8 oz for ages 6-12)</p>\n<p><br /><span style='text-decora
 tion: underline\;'><strong>Lunch</strong></span></p>\n<p>1 1/2 - 2 oz Chic
 ken BBQ<br />WW Roll<br />1/4-1/2 cup Broccoli<br />1/4 cup Fruit Cocktail
 <br />6 oz.1% Milk (ages 6-12 8 oz)</p>\n<p><br /><span style='text-decora
 tion: underline\;'><strong>PM Snack</strong></span></p>\n<p>1 pk Lorne Doo
 ne Cookies 1.5 oz<br />4 oz 1% Milk (8 oz for ages 6-12)</p>
END:VEVENT
BEGIN:VEVENT
UID:20240223T150000UTC-8813Ctvk5U@https://www.denbighchristianacademy.com/
DTSTAMP:20260424T181028Z
CATEGORIES:School Menu
DESCRIPTION:<p><span style='text-decoration: underline\;'><strong>Breakfast
 </strong></span></p>\n<p>1 oz Turkey Sausage w/WW Toast<br />1/4-1/2 cup M
 ixed Fruit<br />1/4-1/2 cup Cereal (optional)<br />6 oz. 1% Milk (8 oz for
  ages 6-12)</p>\n<p><br /><span style='text-decoration: underline\;'><stro
 ng>AM Snack</strong></span></p>\n<p>1/4-1/2 cup WW Gold Fish Crackers<br /
 >4 oz 1% Milk (8 oz for ages 6-12)</p>\n<p><br /><span style='text-decorat
 ion: underline\;'><strong>Lunch</strong></span></p>\n<p>1 1/2 - 2 oz Hambu
 rger/Cheeseburger<br />on WW Bun<br />1 oz Potato Chips<br />1/4 cup Mixed
  Fruit<br />6 oz.1% Milk (ages 6-12 8 oz)</p>\n<p><br /><span style='text-
 decoration: underline\;'><strong>PM Snack</strong></span></p>\n<p>1 (.78 o
 z) Bar Rice Krispy Treat<br />4 oz 1% Milk (8 oz for ages 6-12)</p>
DTSTART:20240223T000000Z
DTEND:20240223T235959Z
SUMMARY:Friday
URL:https://denbighchristianacademy.com/index.php/school-calendar/lunch-men
 u/10-school-menu/1403-friday
X-ALT-DESC;FMTTYPE=TEXT/HTML:<p><span style='text-decoration: underline\;'>
 <strong>Breakfast</strong></span></p>\n<p>1 oz Turkey Sausage w/WW Toast<b
 r />1/4-1/2 cup Mixed Fruit<br />1/4-1/2 cup Cereal (optional)<br />6 oz. 
 1% Milk (8 oz for ages 6-12)</p>\n<p><br /><span style='text-decoration: u
 nderline\;'><strong>AM Snack</strong></span></p>\n<p>1/4-1/2 cup WW Gold F
 ish Crackers<br />4 oz 1% Milk (8 oz for ages 6-12)</p>\n<p><br /><span st
 yle='text-decoration: underline\;'><strong>Lunch</strong></span></p>\n<p>1
  1/2 - 2 oz Hamburger/Cheeseburger<br />on WW Bun<br />1 oz Potato Chips<b
 r />1/4 cup Mixed Fruit<br />6 oz.1% Milk (ages 6-12 8 oz)</p>\n<p><br /><
 span style='text-decoration: underline\;'><strong>PM Snack</strong></span>
 </p>\n<p>1 (.78 oz) Bar Rice Krispy Treat<br />4 oz 1% Milk (8 oz for ages
  6-12)</p>
END:VEVENT
END:VCALENDAR
