BEGIN:VCALENDAR
VERSION:2.0
PRODID:-//https://denbighchristianacademy.com//NONSGML kigkonsult.se iCalcr
 eator 2.29.29//
CALSCALE:GREGORIAN
METHOD:PUBLISH
UID:ef6359e4-9d52-4581-8bf6-3b04377f3552
X-WR-CALNAME:JCal Pro Calendar
X-WR-CALDESC:Your online events calendar
X-WR-TIMEZONE:UTC
BEGIN:VTIMEZONE
TZID:UTC
END:VTIMEZONE
BEGIN:VEVENT
UID:20241001T200000UTC-40443GpHHk@https://www.denbighchristianacademy.com/
DTSTAMP:20260424T164521Z
CATEGORIES:School Menu
DESCRIPTION:<p><span style='text-decoration: underline\;'><strong>Breakfast
 </strong></span></p>\n<p>1/4-1/2 cup Cream of Wheat<br />1/4-1/2 cup Pinea
 pple<br />1/4-1/2 cup Cereal (optional)<br />6 oz. 1% Milk (8 oz for ages 
 6-12)</p>\n<p><br /><span style='text-decoration: underline\;'><strong>AM 
 Snack</strong></span></p>\n<p>3.9 oz Applesauce<br />2 oz Saltine Crackers
 <br />4 oz Water (8 oz for ages 6-12)</p>\n<p><br /><span style='text-deco
 ration: underline\;'><strong>Lunch</strong></span></p>\n<p>1 1/2 - 2 oz Ch
 eese Pizza<br />1/4-1/2 cup Tossed Salad<br />1/4 cup Mixed Fruit<br />6 o
 z.1% Milk (ages 6-12 8 oz)</p>\n<p><br /><span style='text-decoration: und
 erline\;'><strong>PM Snack</strong></span></p>\n<p>1 pk WG Cheez-it Cracke
 rs<br />4 oz 1% Milk (8 oz for ages 6-12)</p>
DTSTART:20241007T000000Z
DTEND:20241007T235959Z
SUMMARY:Monday
URL:https://denbighchristianacademy.com/index.php/school-calendar/lunch-men
 u/10-school-menu/1611-monday
X-ALT-DESC;FMTTYPE=TEXT/HTML:<p><span style='text-decoration: underline\;'>
 <strong>Breakfast</strong></span></p>\n<p>1/4-1/2 cup Cream of Wheat<br />
 1/4-1/2 cup Pineapple<br />1/4-1/2 cup Cereal (optional)<br />6 oz. 1% Mil
 k (8 oz for ages 6-12)</p>\n<p><br /><span style='text-decoration: underli
 ne\;'><strong>AM Snack</strong></span></p>\n<p>3.9 oz Applesauce<br />2 oz
  Saltine Crackers<br />4 oz Water (8 oz for ages 6-12)</p>\n<p><br /><span
  style='text-decoration: underline\;'><strong>Lunch</strong></span></p>\n<
 p>1 1/2 - 2 oz Cheese Pizza<br />1/4-1/2 cup Tossed Salad<br />1/4 cup Mix
 ed Fruit<br />6 oz.1% Milk (ages 6-12 8 oz)</p>\n<p><br /><span style='tex
 t-decoration: underline\;'><strong>PM Snack</strong></span></p>\n<p>1 pk W
 G Cheez-it Crackers<br />4 oz 1% Milk (8 oz for ages 6-12)</p>
END:VEVENT
BEGIN:VEVENT
UID:20241008T200000UTC-9997N8g8O1@https://www.denbighchristianacademy.com/
DTSTAMP:20260424T164521Z
CATEGORIES:School Menu
DESCRIPTION:<p><span style='text-decoration: underline\;'><strong>Breakfast
 </strong></span></p>\n<p>1 - 2 oz Waffles<br />1/4-1/2 cup Peaches<br />1/
 4-1/2 cup Cereal (optional)<br />6 oz. 1% Milk (8 oz for ages 6-12)</p>\n<
 p><br /><span style='text-decoration: underline\;'><strong>AM Snack</stron
 g></span></p>\n<p>1/2 - 1 whole Orange<br />2 oz Graham Crackers<br />4 oz
  Water (8 oz for ages 6-12)</p>\n<p><br /><span style='text-decoration: un
 derline\;'><strong>Lunch</strong></span></p>\n<p>1 1/2 - 2 oz Hamburger/Ch
 eeseburger<br />on WW Bun<br />1/4-1/2 cup Corn<br />1/4 cup Fruit Cocktai
 l<br />6 oz.1% Milk (ages 6-12 8 oz)</p>\n<p><br /><span style='text-decor
 ation: underline\;'><strong>PM Snack</strong></span></p>\n<p>1 Fruit Pop T
 art<br />4 oz 1% Milk (8 oz for ages 6-12)</p>
DTSTART:20241008T000000Z
DTEND:20241008T235959Z
SUMMARY:Tuesday
URL:https://denbighchristianacademy.com/index.php/school-calendar/lunch-men
 u/10-school-menu/1612-tuesday
X-ALT-DESC;FMTTYPE=TEXT/HTML:<p><span style='text-decoration: underline\;'>
 <strong>Breakfast</strong></span></p>\n<p>1 - 2 oz Waffles<br />1/4-1/2 cu
 p Peaches<br />1/4-1/2 cup Cereal (optional)<br />6 oz. 1% Milk (8 oz for 
 ages 6-12)</p>\n<p><br /><span style='text-decoration: underline\;'><stron
 g>AM Snack</strong></span></p>\n<p>1/2 - 1 whole Orange<br />2 oz Graham C
 rackers<br />4 oz Water (8 oz for ages 6-12)</p>\n<p><br /><span style='te
 xt-decoration: underline\;'><strong>Lunch</strong></span></p>\n<p>1 1/2 - 
 2 oz Hamburger/Cheeseburger<br />on WW Bun<br />1/4-1/2 cup Corn<br />1/4 
 cup Fruit Cocktail<br />6 oz.1% Milk (ages 6-12 8 oz)</p>\n<p><br /><span 
 style='text-decoration: underline\;'><strong>PM Snack</strong></span></p>
 \n<p>1 Fruit Pop Tart<br />4 oz 1% Milk (8 oz for ages 6-12)</p>
END:VEVENT
BEGIN:VEVENT
UID:20241009T200000UTC-2956w0ieTD@https://www.denbighchristianacademy.com/
DTSTAMP:20260424T164521Z
CATEGORIES:School Menu
DESCRIPTION:<p><span style='text-decoration: underline\;'><strong>Breakfast
 </strong></span></p>\n<p>1 ½ - 2 oz Turkey Bacon Biscuit<br />1/4-1/2 cup 
 Mixed Fruit<br />1/4-1/2 cup Cereal (optional)<br />6 oz. 1% Milk (8 oz fo
 r ages 6-12)</p>\n<p><br /><span style='text-decoration: underline\;'><str
 ong>AM Snack</strong></span></p>\n<p>1/4-1/2 cup Cheese Cubes w/ Ritz Crac
 kers<br />4 oz Water (8 oz for ages 6-12)</p>\n<p><br /><span style='text-
 decoration: underline\;'><strong>Lunch</strong></span></p>\n<p>1 1/2 - 2 o
 z Chicken Leg<br />1/4-1/2 cup Peas &amp\; Carrots<br />1/4 cup Mixed Frui
 t<br />WW Roll<br />6 oz.1% Milk (ages 6-12 8 oz)</p>\n<p><br /><span styl
 e='text-decoration: underline\;'><strong>PM Snack</strong></span></p>\n<p>
 1 oz WG Pretzels<br />4 oz 1% Milk (8 oz for ages 6-12)</p>
DTSTART:20241009T000000Z
DTEND:20241009T235959Z
SUMMARY:Wednesday
URL:https://denbighchristianacademy.com/index.php/school-calendar/lunch-men
 u/10-school-menu/1613-wednesday
X-ALT-DESC;FMTTYPE=TEXT/HTML:<p><span style='text-decoration: underline\;'>
 <strong>Breakfast</strong></span></p>\n<p>1 ½ - 2 oz Turkey Bacon Biscuit<
 br />1/4-1/2 cup Mixed Fruit<br />1/4-1/2 cup Cereal (optional)<br />6 oz.
  1% Milk (8 oz for ages 6-12)</p>\n<p><br /><span style='text-decoration: 
 underline\;'><strong>AM Snack</strong></span></p>\n<p>1/4-1/2 cup Cheese C
 ubes w/ Ritz Crackers<br />4 oz Water (8 oz for ages 6-12)</p>\n<p><br /><
 span style='text-decoration: underline\;'><strong>Lunch</strong></span></p
 >\n<p>1 1/2 - 2 oz Chicken Leg<br />1/4-1/2 cup Peas &amp\; Carrots<br />1
 /4 cup Mixed Fruit<br />WW Roll<br />6 oz.1% Milk (ages 6-12 8 oz)</p>\n<p
 ><br /><span style='text-decoration: underline\;'><strong>PM Snack</strong
 ></span></p>\n<p>1 oz WG Pretzels<br />4 oz 1% Milk (8 oz for ages 6-12)</
 p>
END:VEVENT
BEGIN:VEVENT
UID:20241010T140000UTC-6363FK76uj@https://www.denbighchristianacademy.com/
DTSTAMP:20260424T164521Z
CATEGORIES:School Menu
DESCRIPTION:<p><span style='text-decoration: underline\;'><strong>Breakfast
 </strong></span></p>\n<p>2 - 4 French Toast Sticks<br />1/4-1/2 cup Pineap
 ple<br />1/4-1/2 cup Cereal (optional)<br />6 oz. 1% Milk (8 oz for ages 6
 -12)</p>\n<p><br /><span style='text-decoration: underline\;'><strong>AM S
 nack</strong></span></p>\n<p>2 oz Seedless Grapes<br />2 oz Saltine Cracke
 rs<br />4 oz Water (8 oz for ages 6-12)</p>\n<p><br /><span style='text-de
 coration: underline\;'><strong>Lunch</strong></span></p>\n<p>1 - 2 oz Maca
 roni &amp\; Beef<br />WW Bread<br />1/4-1/2 cup Green Beans<br />1/4 cup M
 ixed Fruit<br />6 oz.1% Milk (ages 6-12 8 oz)</p>\n<p><br /><span style='t
 ext-decoration: underline\;'><strong>PM Snack</strong></span></p>\n<p>1.3 
 oz Nutri Grain Bar<br />4 oz 1% Milk (8 oz for ages 6-12)</p>
DTSTART:20241010T000000Z
DTEND:20241010T235959Z
SUMMARY:Thursday
URL:https://denbighchristianacademy.com/index.php/school-calendar/lunch-men
 u/10-school-menu/1614-thursday
X-ALT-DESC;FMTTYPE=TEXT/HTML:<p><span style='text-decoration: underline\;'>
 <strong>Breakfast</strong></span></p>\n<p>2 - 4 French Toast Sticks<br />1
 /4-1/2 cup Pineapple<br />1/4-1/2 cup Cereal (optional)<br />6 oz. 1% Milk
  (8 oz for ages 6-12)</p>\n<p><br /><span style='text-decoration: underlin
 e\;'><strong>AM Snack</strong></span></p>\n<p>2 oz Seedless Grapes<br />2 
 oz Saltine Crackers<br />4 oz Water (8 oz for ages 6-12)</p>\n<p><br /><sp
 an style='text-decoration: underline\;'><strong>Lunch</strong></span></p>
 \n<p>1 - 2 oz Macaroni &amp\; Beef<br />WW Bread<br />1/4-1/2 cup Green Be
 ans<br />1/4 cup Mixed Fruit<br />6 oz.1% Milk (ages 6-12 8 oz)</p>\n<p><b
 r /><span style='text-decoration: underline\;'><strong>PM Snack</strong></
 span></p>\n<p>1.3 oz Nutri Grain Bar<br />4 oz 1% Milk (8 oz for ages 6-12
 )</p>
END:VEVENT
BEGIN:VEVENT
UID:20241011T140000UTC-9078Ut7mHC@https://www.denbighchristianacademy.com/
DTSTAMP:20260424T164521Z
CATEGORIES:School Menu
DESCRIPTION:<p><span style='text-decoration: underline\;'><strong>Breakfast
 </strong></span></p>\n<p>1/4-1/2 cup Oatmeal<br />1/4-1/2 cup Mixed Fruit<
 br />1/4-1/2 cup Cereal (optional)<br />6 oz. 1% Milk (8 oz for ages 6-12)
 </p>\n<p><br /><span style='text-decoration: underline\;'><strong>AM Snack
 </strong></span></p>\n<p>1/2 - 1 whole Banana<br />4 oz Water (8 oz for ag
 es 6-12)</p>\n<p><br /><span style='text-decoration: underline\;'><strong>
 Lunch</strong></span></p>\n<p>1 1/2 - 2 oz Corn Dog Nuggets<br />1/4-1/2 c
 up Mixed Vegetables<br />1/4 cup Applesauce<br />6 oz.1% Milk (ages 6-12 8
  oz)</p>\n<p><br /><span style='text-decoration: underline\;'><strong>PM S
 nack</strong></span></p>\n<p>1 oz pk Ritz Bits Crackers w/Cheese<br />4 oz
  1% Milk (8 oz for ages 6-12)</p>
DTSTART:20241011T000000Z
DTEND:20241011T235959Z
SUMMARY:Friday
URL:https://denbighchristianacademy.com/index.php/school-calendar/lunch-men
 u/10-school-menu/1615-friday
X-ALT-DESC;FMTTYPE=TEXT/HTML:<p><span style='text-decoration: underline\;'>
 <strong>Breakfast</strong></span></p>\n<p>1/4-1/2 cup Oatmeal<br />1/4-1/2
  cup Mixed Fruit<br />1/4-1/2 cup Cereal (optional)<br />6 oz. 1% Milk (8 
 oz for ages 6-12)</p>\n<p><br /><span style='text-decoration: underline\;'
 ><strong>AM Snack</strong></span></p>\n<p>1/2 - 1 whole Banana<br />4 oz W
 ater (8 oz for ages 6-12)</p>\n<p><br /><span style='text-decoration: unde
 rline\;'><strong>Lunch</strong></span></p>\n<p>1 1/2 - 2 oz Corn Dog Nugge
 ts<br />1/4-1/2 cup Mixed Vegetables<br />1/4 cup Applesauce<br />6 oz.1% 
 Milk (ages 6-12 8 oz)</p>\n<p><br /><span style='text-decoration: underlin
 e\;'><strong>PM Snack</strong></span></p>\n<p>1 oz pk Ritz Bits Crackers w
 /Cheese<br />4 oz 1% Milk (8 oz for ages 6-12)</p>
END:VEVENT
END:VCALENDAR
