BEGIN:VCALENDAR
VERSION:2.0
PRODID:-//https://denbighchristianacademy.com//NONSGML kigkonsult.se iCalcr
 eator 2.29.29//
CALSCALE:GREGORIAN
METHOD:PUBLISH
UID:d6f31276-e6c8-4651-a16f-e4e8fc6f2bb6
X-WR-CALNAME:JCal Pro Calendar
X-WR-CALDESC:Your online events calendar
X-WR-TIMEZONE:UTC
BEGIN:VTIMEZONE
TZID:UTC
END:VTIMEZONE
BEGIN:VEVENT
UID:20250310T170000UTC-6565tdujRB@https://www.denbighchristianacademy.com/
DTSTAMP:20260424T223449Z
CATEGORIES:School Menu
DESCRIPTION:<p><span style='text-decoration: underline\;'><strong>Breakfast
 </strong></span></p>\n<p><br />1 - 2 oz Waffles<br />1/4-1/2 cup Fruit<br 
 />1/4-1/2 cup Cereal (optional)<br />6 oz. 1% Milk (8 oz for ages 6-12)</p
 >\n<p><br /><span style='text-decoration: underline\;'><strong>AM Snack</s
 trong></span></p>\n<p>3.9 oz Applesauce<br />2 oz Graham Crackers<br />4 o
 z Water (8 oz for ages 6-12)</p>\n<p><br /><span style='text-decoration: u
 nderline\;'><strong>Lunch</strong></span></p>\n<p>1 1/2 - 3 oz Hamburger S
 teak in Gravy<br />WW Roll<br />1/4-1/2 cup Mashed Potatoes<br />1/4-1/2 c
 up Green Beans<br />1/4 cup Fruit<br />6 oz.1% Milk (ages 6-12 8 oz)</p>\n
 <p><br /><span style='text-decoration: underline\;'><strong>PM Snack</stro
 ng></span></p>\n<p>1 oz bag Pretzels<br />4 oz 1% Milk (8 oz for ages 6-12
 )</p>
DTSTART:20250310T000000Z
DTEND:20250310T235959Z
SUMMARY:Monday
URL:https://denbighchristianacademy.com/index.php/school-calendar/lunch-men
 u/10-school-menu/1706-monday
X-ALT-DESC;FMTTYPE=TEXT/HTML:<p><span style='text-decoration: underline\;'>
 <strong>Breakfast</strong></span></p>\n<p><br />1 - 2 oz Waffles<br />1/4-
 1/2 cup Fruit<br />1/4-1/2 cup Cereal (optional)<br />6 oz. 1% Milk (8 oz 
 for ages 6-12)</p>\n<p><br /><span style='text-decoration: underline\;'><s
 trong>AM Snack</strong></span></p>\n<p>3.9 oz Applesauce<br />2 oz Graham 
 Crackers<br />4 oz Water (8 oz for ages 6-12)</p>\n<p><br /><span style='t
 ext-decoration: underline\;'><strong>Lunch</strong></span></p>\n<p>1 1/2 -
  3 oz Hamburger Steak in Gravy<br />WW Roll<br />1/4-1/2 cup Mashed Potato
 es<br />1/4-1/2 cup Green Beans<br />1/4 cup Fruit<br />6 oz.1% Milk (ages
  6-12 8 oz)</p>\n<p><br /><span style='text-decoration: underline\;'><stro
 ng>PM Snack</strong></span></p>\n<p>1 oz bag Pretzels<br />4 oz 1% Milk (8
  oz for ages 6-12)</p>
END:VEVENT
BEGIN:VEVENT
UID:20250311T170000UTC-3095NAoiH5@https://www.denbighchristianacademy.com/
DTSTAMP:20260424T223449Z
CATEGORIES:School Menu
DESCRIPTION:<p><span style='text-decoration: underline\;'><strong>Breakfast
 </strong></span></p>\n<p><br />1/4-1/2 cup&nbsp\;Oatmeal<br />1/4-1/2 cup 
 Fruit<br />1/4-1/2 cup Cereal (optional)<br />6 oz. 1% Milk (8 oz for ages
  6-12)</p>\n<p><br /><span style='text-decoration: underline\;'><strong>AM
  Snack</strong></span></p>\n<p>1/2 - 1 Orange<br />2 oz Saltine Crackers<b
 r />4 oz Water (8 oz for ages 6-12)</p>\n<p><br /><span style='text-decora
 tion: underline\;'><strong>Lunch</strong></span></p>\n<p>2 oz Beef Hot Dog
  on WW Bun<br />1/4-1/2 cup Corn<br />1/4 cup Fruit<br />6 oz.1% Milk (age
 s 6-12 8 oz)</p>\n<p><br /><span style='text-decoration: underline\;'><str
 ong>PM Snack</strong></span></p>\n<p>1 oz bag of Cheez-it Crackers<br />4 
 oz 1% Milk (8 oz for ages 6-12)</p>
DTSTART:20250311T000000Z
DTEND:20250311T235959Z
SUMMARY:Tuesday
URL:https://denbighchristianacademy.com/index.php/school-calendar/lunch-men
 u/10-school-menu/1707-tuesday
X-ALT-DESC;FMTTYPE=TEXT/HTML:<p><span style='text-decoration: underline\;'>
 <strong>Breakfast</strong></span></p>\n<p><br />1/4-1/2 cup&nbsp\;Oatmeal<
 br />1/4-1/2 cup Fruit<br />1/4-1/2 cup Cereal (optional)<br />6 oz. 1% Mi
 lk (8 oz for ages 6-12)</p>\n<p><br /><span style='text-decoration: underl
 ine\;'><strong>AM Snack</strong></span></p>\n<p>1/2 - 1 Orange<br />2 oz S
 altine Crackers<br />4 oz Water (8 oz for ages 6-12)</p>\n<p><br /><span s
 tyle='text-decoration: underline\;'><strong>Lunch</strong></span></p>\n<p>
 2 oz Beef Hot Dog on WW Bun<br />1/4-1/2 cup Corn<br />1/4 cup Fruit<br />
 6 oz.1% Milk (ages 6-12 8 oz)</p>\n<p><br /><span style='text-decoration: 
 underline\;'><strong>PM Snack</strong></span></p>\n<p>1 oz bag of Cheez-it
  Crackers<br />4 oz 1% Milk (8 oz for ages 6-12)</p>
END:VEVENT
BEGIN:VEVENT
UID:20250312T170000UTC-96330AUn99@https://www.denbighchristianacademy.com/
DTSTAMP:20260424T223449Z
CATEGORIES:School Menu
DESCRIPTION:<p><span style='text-decoration: underline\;'><strong>Breakfast
 </strong></span></p>\n<p><br />1 1/2 oz WW Pancakes<br />1/4-1/2 cup Fruit
 <br />1/4-1/2 cup Cereal (optional)<br />6 oz. 1% Milk (8 oz for ages 6-12
 )</p>\n<p><br /><span style='text-decoration: underline\;'><strong>AM Snac
 k</strong></span></p>\n<p>1 oz Cheese<br />2 oz Ritz Crackers<br />4 oz Wa
 ter (8 oz for ages 6-12)</p>\n<p><br /><span style='text-decoration: under
 line\;'><strong>Lunch</strong></span></p>\n<p>1/2 - 1 cup Beef and Macaron
 i<br />WW Roll<br />1/4-1/2 cup Peas and Carrots<br />1/4 cup Fruit<br />6
  oz.1% Milk (ages 6-12 8 oz)</p>\n<p><br /><span style='text-decoration: u
 nderline\;'><strong>PM Snack</strong></span></p>\n<p>1 oz Ritz Bits Cracke
 rs w/Cheese<br />4 oz 1% Milk (8 oz for ages 6-12)</p>
DTSTART:20250312T000000Z
DTEND:20250312T235959Z
SUMMARY:Wednesday
URL:https://denbighchristianacademy.com/index.php/school-calendar/lunch-men
 u/10-school-menu/1708-wednesday
X-ALT-DESC;FMTTYPE=TEXT/HTML:<p><span style='text-decoration: underline\;'>
 <strong>Breakfast</strong></span></p>\n<p><br />1 1/2 oz WW Pancakes<br />
 1/4-1/2 cup Fruit<br />1/4-1/2 cup Cereal (optional)<br />6 oz. 1% Milk (8
  oz for ages 6-12)</p>\n<p><br /><span style='text-decoration: underline\;
 '><strong>AM Snack</strong></span></p>\n<p>1 oz Cheese<br />2 oz Ritz Crac
 kers<br />4 oz Water (8 oz for ages 6-12)</p>\n<p><br /><span style='text-
 decoration: underline\;'><strong>Lunch</strong></span></p>\n<p>1/2 - 1 cup
  Beef and Macaroni<br />WW Roll<br />1/4-1/2 cup Peas and Carrots<br />1/4
  cup Fruit<br />6 oz.1% Milk (ages 6-12 8 oz)</p>\n<p><br /><span style='t
 ext-decoration: underline\;'><strong>PM Snack</strong></span></p>\n<p>1 oz
  Ritz Bits Crackers w/Cheese<br />4 oz 1% Milk (8 oz for ages 6-12)</p>
END:VEVENT
BEGIN:VEVENT
UID:20250313T170000UTC-8439ZGKE2d@https://www.denbighchristianacademy.com/
DTSTAMP:20260424T223449Z
CATEGORIES:School Menu
DESCRIPTION:<p><span style='text-decoration: underline\;'><strong>Breakfast
 </strong></span></p>\n<p><br />1 1/2 oz Blueberry Muffin<br />1/4-1/2 cup 
 Fruit<br />1/4-1/2 cup Cereal (optional)<br />6 oz. 1% Milk (8 oz for ages
  6-12)</p>\n<p><br /><span style='text-decoration: underline\;'><strong>AM
  Snack</strong></span></p>\n<p>2 oz Seedless Grapes<br />2 oz Graham Crack
 ers<br />4 oz Water (8 oz for ages 6-12)</p>\n<p><br /><span style='text-d
 ecoration: underline\;'><strong>Lunch</strong></span></p>\n<p>1 1/2 - 3 oz
  Chicken Nuggets<br />WW Bread<br />1/4-1/2 cup Mixed Vegetables<br />1/4 
 cup Fruit<br />6 oz.1% Milk (ages 6-12 8 oz)</p>\n<p><br /><span style='te
 xt-decoration: underline\;'><strong>PM Snack</strong></span></p>\n<p>1.3 o
 z Nutri Grain Bar<br />4 oz 1% Milk (8 oz for ages 6-12)</p>
DTSTART:20250313T000000Z
DTEND:20250313T235959Z
SUMMARY:Thursday
URL:https://denbighchristianacademy.com/index.php/school-calendar/lunch-men
 u/10-school-menu/1709-thursday
X-ALT-DESC;FMTTYPE=TEXT/HTML:<p><span style='text-decoration: underline\;'>
 <strong>Breakfast</strong></span></p>\n<p><br />1 1/2 oz Blueberry Muffin<
 br />1/4-1/2 cup Fruit<br />1/4-1/2 cup Cereal (optional)<br />6 oz. 1% Mi
 lk (8 oz for ages 6-12)</p>\n<p><br /><span style='text-decoration: underl
 ine\;'><strong>AM Snack</strong></span></p>\n<p>2 oz Seedless Grapes<br />
 2 oz Graham Crackers<br />4 oz Water (8 oz for ages 6-12)</p>\n<p><br /><s
 pan style='text-decoration: underline\;'><strong>Lunch</strong></span></p>
 \n<p>1 1/2 - 3 oz Chicken Nuggets<br />WW Bread<br />1/4-1/2 cup Mixed Veg
 etables<br />1/4 cup Fruit<br />6 oz.1% Milk (ages 6-12 8 oz)</p>\n<p><br 
 /><span style='text-decoration: underline\;'><strong>PM Snack</strong></sp
 an></p>\n<p>1.3 oz Nutri Grain Bar<br />4 oz 1% Milk (8 oz for ages 6-12)<
 /p>
END:VEVENT
BEGIN:VEVENT
UID:20250314T170000UTC-34231HxgXZ@https://www.denbighchristianacademy.com/
DTSTAMP:20260424T223449Z
CATEGORIES:School Menu
DESCRIPTION:<p><span style='text-decoration: underline\;'><strong>Breakfast
 </strong></span></p>\n<p><br />1 1/2 oz Biscuit w/Turkey Sausage<br />1/4-
 1/2 cup Fruit<br />1/4-1/2 cup Cereal (optional)<br />6 oz. 1% Milk (8 oz 
 for ages 6-12)</p>\n<p><br /><span style='text-decoration: underline\;'><s
 trong>AM Snack</strong></span></p>\n<p>1/2 -1 whole Banana<br />2 oz Salti
 ne Crackers<br />4 oz Water (8 oz for ages 6-12)</p>\n<p><br /><span style
 ='text-decoration: underline\;'><strong>Lunch</strong></span></p>\n<p>1 1/
 2 -2 oz Turkey Sandwich on<br />WW Bread w/Cheese<br />1 oz bag Potato Chi
 ps<br />1/4 cup Fruit<br />6 oz.1% Milk (ages 6-12 8 oz)</p>\n<p><br /><sp
 an style='text-decoration: underline\;'><strong>PM Snack</strong></span></
 p>\n<p>1 oz Fig Newton Bar<br />4 oz 1% Milk (8 oz for ages 6-12)</p>
DTSTART:20250314T000000Z
DTEND:20250314T235959Z
SUMMARY:Friday
URL:https://denbighchristianacademy.com/index.php/school-calendar/lunch-men
 u/10-school-menu/1710-friday
X-ALT-DESC;FMTTYPE=TEXT/HTML:<p><span style='text-decoration: underline\;'>
 <strong>Breakfast</strong></span></p>\n<p><br />1 1/2 oz Biscuit w/Turkey 
 Sausage<br />1/4-1/2 cup Fruit<br />1/4-1/2 cup Cereal (optional)<br />6 o
 z. 1% Milk (8 oz for ages 6-12)</p>\n<p><br /><span style='text-decoration
 : underline\;'><strong>AM Snack</strong></span></p>\n<p>1/2 -1 whole Banan
 a<br />2 oz Saltine Crackers<br />4 oz Water (8 oz for ages 6-12)</p>\n<p>
 <br /><span style='text-decoration: underline\;'><strong>Lunch</strong></s
 pan></p>\n<p>1 1/2 -2 oz Turkey Sandwich on<br />WW Bread w/Cheese<br />1 
 oz bag Potato Chips<br />1/4 cup Fruit<br />6 oz.1% Milk (ages 6-12 8 oz)<
 /p>\n<p><br /><span style='text-decoration: underline\;'><strong>PM Snack<
 /strong></span></p>\n<p>1 oz Fig Newton Bar<br />4 oz 1% Milk (8 oz for ag
 es 6-12)</p>
END:VEVENT
END:VCALENDAR
