BEGIN:VCALENDAR
VERSION:2.0
PRODID:-//https://denbighchristianacademy.com//NONSGML kigkonsult.se iCalcr
 eator 2.29.29//
CALSCALE:GREGORIAN
METHOD:PUBLISH
UID:90588f79-a0a3-4e66-9d64-de2f528ec7f1
X-WR-CALNAME:JCal Pro Calendar
X-WR-CALDESC:Your online events calendar
X-WR-TIMEZONE:UTC
BEGIN:VTIMEZONE
TZID:UTC
END:VTIMEZONE
BEGIN:VEVENT
UID:20250317T160000UTC-3356vvK9Xx@https://www.denbighchristianacademy.com/
DTSTAMP:20260424T223345Z
CATEGORIES:School Menu
DESCRIPTION:<p><span style='text-decoration: underline\;'><strong>Breakfast
 </strong></span></p>\n<p><br />1/4-1/2 cup&nbsp\;Oatmeal<br />1/4-1/2 cup 
 Fruit<br />1/4-1/2 cup Cereal (optional)<br />6 oz. 1% Milk (8 oz for ages
  6-12)</p>\n<p><br /><span style='text-decoration: underline\;'><strong>AM
  Snack</strong></span></p>\n<p>3.9 oz Applesauce<br />2 oz Saltine Cracker
 s<br />4 oz Water (8 oz for ages 6-12)</p>\n<p><br /><span style='text-dec
 oration: underline\;'><strong>Lunch</strong></span></p>\n<p>1 - 2 oz BBQ C
 hicken<br />WW Roll&nbsp\;<br />w./Cole Slaw<br />1/4-1/2 cup Green Beans<
 br />1/4 cup Fruit<br />6 oz.1% Milk (ages 6-12 8 oz)</p>\n<p><br /><span 
 style='text-decoration: underline\;'><strong>PM Snack</strong></span></p>
 \n<p>1 oz bag of WW Cheez-it Crackers<br />4 oz 1% Milk (8 oz for ages 6-1
 2)</p>
DTSTART:20250317T000000Z
DTEND:20250317T235959Z
SUMMARY:Monday
URL:https://denbighchristianacademy.com/index.php/school-calendar/lunch-men
 u/10-school-menu/1711-monday
X-ALT-DESC;FMTTYPE=TEXT/HTML:<p><span style='text-decoration: underline\;'>
 <strong>Breakfast</strong></span></p>\n<p><br />1/4-1/2 cup&nbsp\;Oatmeal<
 br />1/4-1/2 cup Fruit<br />1/4-1/2 cup Cereal (optional)<br />6 oz. 1% Mi
 lk (8 oz for ages 6-12)</p>\n<p><br /><span style='text-decoration: underl
 ine\;'><strong>AM Snack</strong></span></p>\n<p>3.9 oz Applesauce<br />2 o
 z Saltine Crackers<br />4 oz Water (8 oz for ages 6-12)</p>\n<p><br /><spa
 n style='text-decoration: underline\;'><strong>Lunch</strong></span></p>\n
 <p>1 - 2 oz BBQ Chicken<br />WW Roll&nbsp\;<br />w./Cole Slaw<br />1/4-1/2
  cup Green Beans<br />1/4 cup Fruit<br />6 oz.1% Milk (ages 6-12 8 oz)</p>
 \n<p><br /><span style='text-decoration: underline\;'><strong>PM Snack</st
 rong></span></p>\n<p>1 oz bag of WW Cheez-it Crackers<br />4 oz 1% Milk (8
  oz for ages 6-12)</p>
END:VEVENT
BEGIN:VEVENT
UID:20250318T160000UTC-77814mnkV7@https://www.denbighchristianacademy.com/
DTSTAMP:20260424T223345Z
CATEGORIES:School Menu
DESCRIPTION:<p><span style='text-decoration: underline\;'><strong>Breakfast
 </strong></span></p>\n<p><br />1 1/2 oz Pancakes<br />1/4-1/2 cup Fruit<br
  />1/4-1/2 cup Cereal (optional)<br />6 oz. 1% Milk (8 oz for ages 6-12)</
 p>\n<p><br /><span style='text-decoration: underline\;'><strong>AM Snack</
 strong></span></p>\n<p>2 oz WG Ritz Crackers<br />1/2 - 1 whole Orange<br 
 />4 oz Water (8 oz for ages 6-12)</p>\n<p><br /><span style='text-decorati
 on: underline\;'><strong>Lunch</strong></span></p>\n<p>1 1/2 - 3 oz Cheese
  Pizza<br />1/4-1/2 cup Peas &amp\; Carrots<br />1/4 cup Fruit<br />6 oz.1
 % Milk (ages 6-12 8 oz)</p>\n<p><br /><span style='text-decoration: underl
 ine\;'><strong>PM Snack</strong></span></p>\n<p>1.3 oz Nutri Grain Bar<br 
 />4 oz 1% Milk (8 oz for ages 6-12)</p>
DTSTART:20250318T000000Z
DTEND:20250318T235959Z
SUMMARY:Tuesday
URL:https://denbighchristianacademy.com/index.php/school-calendar/lunch-men
 u/10-school-menu/1712-tuesday
X-ALT-DESC;FMTTYPE=TEXT/HTML:<p><span style='text-decoration: underline\;'>
 <strong>Breakfast</strong></span></p>\n<p><br />1 1/2 oz Pancakes<br />1/4
 -1/2 cup Fruit<br />1/4-1/2 cup Cereal (optional)<br />6 oz. 1% Milk (8 oz
  for ages 6-12)</p>\n<p><br /><span style='text-decoration: underline\;'><
 strong>AM Snack</strong></span></p>\n<p>2 oz WG Ritz Crackers<br />1/2 - 1
  whole Orange<br />4 oz Water (8 oz for ages 6-12)</p>\n<p><br /><span sty
 le='text-decoration: underline\;'><strong>Lunch</strong></span></p>\n<p>1 
 1/2 - 3 oz Cheese Pizza<br />1/4-1/2 cup Peas &amp\; Carrots<br />1/4 cup 
 Fruit<br />6 oz.1% Milk (ages 6-12 8 oz)</p>\n<p><br /><span style='text-d
 ecoration: underline\;'><strong>PM Snack</strong></span></p>\n<p>1.3 oz Nu
 tri Grain Bar<br />4 oz 1% Milk (8 oz for ages 6-12)</p>
END:VEVENT
BEGIN:VEVENT
UID:20250319T160000UTC-5740thLc3n@https://www.denbighchristianacademy.com/
DTSTAMP:20260424T223345Z
CATEGORIES:School Menu
DESCRIPTION:<p><span style='text-decoration: underline\;'><strong>Breakfast
 </strong></span></p>\n<p><br />1/2 oz Blueberry Muffin<br />1/4-1/2 cup Ap
 plesauce<br />1/4-1/2 cup Cereal (optional)<br />6 oz. 1% Milk (8 oz for a
 ges 6-12)</p>\n<p><br /><span style='text-decoration: underline\;'><strong
 >AM Snack</strong></span></p>\n<p>1/2 - 1 whole Apple<br />2 oz Graham Cra
 ckers<br />4 oz Water (8 oz for ages 6-12)</p>\n<p><br /><span style='text
 -decoration: underline\;'><strong>Lunch</strong></span></p>\n<p>1/2 - 1 cu
 p Macaroni &amp\; Cheese<br />WW Roll<br />1/4-1/2 cup Green Beans<br />1/
 4 cup Fruit<br />6 oz.1% Milk (ages 6-12 8 oz)</p>\n<p><br /><span style='
 text-decoration: underline\;'><strong>PM Snack</strong></span></p>\n<p>1 o
 z bag of Pretzels<br />4 oz 1% Milk (8 oz for ages 6-12)</p>
DTSTART:20250319T000000Z
DTEND:20250319T235959Z
SUMMARY:Wednesday
URL:https://denbighchristianacademy.com/index.php/school-calendar/lunch-men
 u/10-school-menu/1713-wednesday
X-ALT-DESC;FMTTYPE=TEXT/HTML:<p><span style='text-decoration: underline\;'>
 <strong>Breakfast</strong></span></p>\n<p><br />1/2 oz Blueberry Muffin<br
  />1/4-1/2 cup Applesauce<br />1/4-1/2 cup Cereal (optional)<br />6 oz. 1%
  Milk (8 oz for ages 6-12)</p>\n<p><br /><span style='text-decoration: und
 erline\;'><strong>AM Snack</strong></span></p>\n<p>1/2 - 1 whole Apple<br 
 />2 oz Graham Crackers<br />4 oz Water (8 oz for ages 6-12)</p>\n<p><br />
 <span style='text-decoration: underline\;'><strong>Lunch</strong></span></
 p>\n<p>1/2 - 1 cup Macaroni &amp\; Cheese<br />WW Roll<br />1/4-1/2 cup Gr
 een Beans<br />1/4 cup Fruit<br />6 oz.1% Milk (ages 6-12 8 oz)</p>\n<p><b
 r /><span style='text-decoration: underline\;'><strong>PM Snack</strong></
 span></p>\n<p>1 oz bag of Pretzels<br />4 oz 1% Milk (8 oz for ages 6-12)<
 /p>
END:VEVENT
BEGIN:VEVENT
UID:20250320T160000UTC-5884bGJA22@https://www.denbighchristianacademy.com/
DTSTAMP:20260424T223345Z
CATEGORIES:School Menu
DESCRIPTION:<p><span style='text-decoration: underline\;'><strong>Breakfast
 </strong></span></p>\n<p><br />1/4-1/2 cup Cream of Wheat<br />1/4-1/2 cup
  Fruit<br />1/4-1/2 cup Cereal (optional)<br />6 oz. 1% Milk (8 oz for age
 s 6-12)</p>\n<p><br /><span style='text-decoration: underline\;'><strong>A
 M Snack</strong></span></p>\n<p>2 oz WG Ritz Crackers<br />2 oz Seedless G
 rapes<br />4 oz Water (8 oz for ages 6-12)</p>\n<p><br /><span style='text
 -decoration: underline\;'><strong>Lunch</strong></span></p>\n<p>2 oz Beef 
 Hot Dog on Bun<br />1/4-1/2 cup Baked Beans<br />1/4 cup Fruit<br />6 oz.1
 % Milk (ages 6-12 8 oz)</p>\n<p><br /><span style='text-decoration: underl
 ine\;'><strong>PM Snack</strong></span></p>\n<p>1 oz pk Ritz Bits w/Cheese
 <br />4 oz 1% Milk (8 oz for ages 6-12)</p>
DTSTART:20250320T000000Z
DTEND:20250320T235959Z
SUMMARY:Thursday
URL:https://denbighchristianacademy.com/index.php/school-calendar/lunch-men
 u/10-school-menu/1714-thursday
X-ALT-DESC;FMTTYPE=TEXT/HTML:<p><span style='text-decoration: underline\;'>
 <strong>Breakfast</strong></span></p>\n<p><br />1/4-1/2 cup Cream of Wheat
 <br />1/4-1/2 cup Fruit<br />1/4-1/2 cup Cereal (optional)<br />6 oz. 1% M
 ilk (8 oz for ages 6-12)</p>\n<p><br /><span style='text-decoration: under
 line\;'><strong>AM Snack</strong></span></p>\n<p>2 oz WG Ritz Crackers<br 
 />2 oz Seedless Grapes<br />4 oz Water (8 oz for ages 6-12)</p>\n<p><br />
 <span style='text-decoration: underline\;'><strong>Lunch</strong></span></
 p>\n<p>2 oz Beef Hot Dog on Bun<br />1/4-1/2 cup Baked Beans<br />1/4 cup 
 Fruit<br />6 oz.1% Milk (ages 6-12 8 oz)</p>\n<p><br /><span style='text-d
 ecoration: underline\;'><strong>PM Snack</strong></span></p>\n<p>1 oz pk R
 itz Bits w/Cheese<br />4 oz 1% Milk (8 oz for ages 6-12)</p>
END:VEVENT
BEGIN:VEVENT
UID:20250321T160000UTC-3747X6E26x@https://www.denbighchristianacademy.com/
DTSTAMP:20260424T223345Z
CATEGORIES:School Menu
DESCRIPTION:<p><span style='text-decoration: underline\;'><strong>Breakfast
 </strong></span></p>\n<p>1 oz Biscuit w/Turkey Sausage<br />1/4-1/2 cup Fr
 uit<br />1/4-1/2 cup Cereal (optional)<br />6 oz. 1% Milk (8 oz for ages 6
 -12)</p>\n<p><br /><span style='text-decoration: underline\;'><strong>AM S
 nack</strong></span></p>\n<p>1 oz Cheese Stick<br />2 oz Saltine Crackers<
 br />4 oz Water (8 oz for ages 6-12)</p>\n<p><br /><span style='text-decor
 ation: underline\;'><strong>Lunch</strong></span></p>\n<p>2 oz Chicken Leg
 <br />WW Roll<br />1/4-1/2 cup Corn<br />1/4 cup Fruit<br />6 oz.1% Milk (
 ages 6-12 8 oz)</p>\n<p><br /><span style='text-decoration: underline\;'><
 strong>PM Snack</strong></span></p>\n<p>1.3 oz Fig Newton Bar<br />4 oz 1%
  Milk (8 oz for ages 6-12)</p>
DTSTART:20250321T000000Z
DTEND:20250321T235959Z
SUMMARY:Friday
URL:https://denbighchristianacademy.com/index.php/school-calendar/lunch-men
 u/10-school-menu/1715-friday
X-ALT-DESC;FMTTYPE=TEXT/HTML:<p><span style='text-decoration: underline\;'>
 <strong>Breakfast</strong></span></p>\n<p>1 oz Biscuit w/Turkey Sausage<br
  />1/4-1/2 cup Fruit<br />1/4-1/2 cup Cereal (optional)<br />6 oz. 1% Milk
  (8 oz for ages 6-12)</p>\n<p><br /><span style='text-decoration: underlin
 e\;'><strong>AM Snack</strong></span></p>\n<p>1 oz Cheese Stick<br />2 oz 
 Saltine Crackers<br />4 oz Water (8 oz for ages 6-12)</p>\n<p><br /><span 
 style='text-decoration: underline\;'><strong>Lunch</strong></span></p>\n<p
 >2 oz Chicken Leg<br />WW Roll<br />1/4-1/2 cup Corn<br />1/4 cup Fruit<br
  />6 oz.1% Milk (ages 6-12 8 oz)</p>\n<p><br /><span style='text-decoratio
 n: underline\;'><strong>PM Snack</strong></span></p>\n<p>1.3 oz Fig Newton
  Bar<br />4 oz 1% Milk (8 oz for ages 6-12)</p>
END:VEVENT
END:VCALENDAR
