BEGIN:VCALENDAR
VERSION:2.0
PRODID:-//https://denbighchristianacademy.com//NONSGML kigkonsult.se iCalcr
 eator 2.29.29//
CALSCALE:GREGORIAN
METHOD:PUBLISH
UID:cbbaa511-7fa9-431b-b3e3-e38f3077bd30
X-WR-CALNAME:JCal Pro Calendar
X-WR-CALDESC:Your online events calendar
X-WR-TIMEZONE:UTC
BEGIN:VTIMEZONE
TZID:UTC
END:VTIMEZONE
BEGIN:VEVENT
UID:20250324T170000UTC-5338ZAXPdt@https://www.denbighchristianacademy.com/
DTSTAMP:20260424T223345Z
CATEGORIES:School Menu
DESCRIPTION:<p><span style='text-decoration: underline\;'><strong>Breakfast
 </strong></span></p>\n<p><br />1/4-1/2 cup&nbsp\;Oatmeal<br />1/4-1/2 cup 
 Pineapple<br />1/4-1/2 cup Cereal (optional)<br />6 oz. 1% Milk (8 oz for 
 ages 6-12)</p>\n<p><br /><span style='text-decoration: underline\;'><stron
 g>AM Snack</strong></span></p>\n<p>1/2 to 1 whole Apple<br />2 oz Ritz Cra
 ckers<br />4 oz Water (8 oz for ages 6-12)</p>\n<p><br /><span style='text
 -decoration: underline\;'><strong>Lunch</strong></span></p>\n<p>1 1/2 oz M
 eatballs w/Brown Gravy<br />WW Roll<br />1/4-1/2 cup Peas &amp\; Carrots<b
 r />1/4 cup Fruit<br />6 oz.1% Milk (ages 6-12 8 oz)</p>\n<p><br /><span s
 tyle='text-decoration: underline\;'><strong>PM Snack</strong></span></p>\n
 <p>1 oz pk Ritz Bits w/Cheese<br />4 oz 1% Milk (8 oz for ages 6-12)</p>
DTSTART:20250324T000000Z
DTEND:20250324T235959Z
SUMMARY:Monday
URL:https://denbighchristianacademy.com/index.php/school-calendar/lunch-men
 u/10-school-menu/1716-monday
X-ALT-DESC;FMTTYPE=TEXT/HTML:<p><span style='text-decoration: underline\;'>
 <strong>Breakfast</strong></span></p>\n<p><br />1/4-1/2 cup&nbsp\;Oatmeal<
 br />1/4-1/2 cup Pineapple<br />1/4-1/2 cup Cereal (optional)<br />6 oz. 1
 % Milk (8 oz for ages 6-12)</p>\n<p><br /><span style='text-decoration: un
 derline\;'><strong>AM Snack</strong></span></p>\n<p>1/2 to 1 whole Apple<b
 r />2 oz Ritz Crackers<br />4 oz Water (8 oz for ages 6-12)</p>\n<p><br />
 <span style='text-decoration: underline\;'><strong>Lunch</strong></span></
 p>\n<p>1 1/2 oz Meatballs w/Brown Gravy<br />WW Roll<br />1/4-1/2 cup Peas
  &amp\; Carrots<br />1/4 cup Fruit<br />6 oz.1% Milk (ages 6-12 8 oz)</p>
 \n<p><br /><span style='text-decoration: underline\;'><strong>PM Snack</st
 rong></span></p>\n<p>1 oz pk Ritz Bits w/Cheese<br />4 oz 1% Milk (8 oz fo
 r ages 6-12)</p>
END:VEVENT
BEGIN:VEVENT
UID:20250325T170000UTC-75034BNdKO@https://www.denbighchristianacademy.com/
DTSTAMP:20260424T223345Z
CATEGORIES:School Menu
DESCRIPTION:<p><span style='text-decoration: underline\;'><strong>Breakfast
 </strong></span></p>\n<p><br />2 oz Waffles<br />1/4-1/2 cup Peaches<br />
 1/4-1/2 cup Cereal (optional)<br />6 oz. 1% Milk (8 oz for ages 6-12)</p>
 \n<p><br /><span style='text-decoration: underline\;'><strong>AM Snack</st
 rong></span></p>\n<p>1/2 - 1 Orange<br />2 oz Saltine Crackers<br />4 oz W
 ater (8 oz for ages 6-12)</p>\n<p><br /><span style='text-decoration: unde
 rline\;'><strong>Lunch</strong></span></p>\n<p>1/2 - 1 cup Spaghetti w/Mea
 t Sauce<br />WW Roll<br />1/4-1/2 cup Tossed Salad w/dressing<br />1/4 cup
  Fruit<br />6 oz.1% Milk (ages 6-12 8 oz)</p>\n<p><br /><span style='text-
 decoration: underline\;'><strong>PM Snack</strong></span></p>\n<p>1 oz pk 
 Pretzels<br />4 oz 1% Milk (8 oz for ages 6-12)</p>
DTSTART:20250325T000000Z
DTEND:20250325T235959Z
SUMMARY:Tuesday
URL:https://denbighchristianacademy.com/index.php/school-calendar/lunch-men
 u/10-school-menu/1717-tuesday
X-ALT-DESC;FMTTYPE=TEXT/HTML:<p><span style='text-decoration: underline\;'>
 <strong>Breakfast</strong></span></p>\n<p><br />2 oz Waffles<br />1/4-1/2 
 cup Peaches<br />1/4-1/2 cup Cereal (optional)<br />6 oz. 1% Milk (8 oz fo
 r ages 6-12)</p>\n<p><br /><span style='text-decoration: underline\;'><str
 ong>AM Snack</strong></span></p>\n<p>1/2 - 1 Orange<br />2 oz Saltine Crac
 kers<br />4 oz Water (8 oz for ages 6-12)</p>\n<p><br /><span style='text-
 decoration: underline\;'><strong>Lunch</strong></span></p>\n<p>1/2 - 1 cup
  Spaghetti w/Meat Sauce<br />WW Roll<br />1/4-1/2 cup Tossed Salad w/dress
 ing<br />1/4 cup Fruit<br />6 oz.1% Milk (ages 6-12 8 oz)</p>\n<p><br /><s
 pan style='text-decoration: underline\;'><strong>PM Snack</strong></span><
 /p>\n<p>1 oz pk Pretzels<br />4 oz 1% Milk (8 oz for ages 6-12)</p>
END:VEVENT
BEGIN:VEVENT
UID:20250326T170000UTC-2492VVDen7@https://www.denbighchristianacademy.com/
DTSTAMP:20260424T223345Z
CATEGORIES:School Menu
DESCRIPTION:<p><span style='text-decoration: underline\;'><strong>Breakfast
 </strong></span></p>\n<p><br />1 1.2 oz Blueberry Muffins<br />1/4-1/2 cup
  Pears<br />1/4-1/2 cup Cereal (optional)<br />6 oz. 1% Milk (8 oz for age
 s 6-12)</p>\n<p><br /><span style='text-decoration: underline\;'><strong>A
 M Snack</strong></span></p>\n<p>1/2 to 1 whole Banana<br />2 oz Ritz Crack
 ers<br />4 oz Water (8 oz for ages 6-12)</p>\n<p><br /><span style='text-d
 ecoration: underline\;'><strong>Lunch</strong></span></p>\n<p>1 1/2 oz Ham
 burger/Cheeseburger<br />on WW Bun<br />1/4-1/2 cup Mixed Vegetables<br />
 1/4 cup Fruit<br />6 oz.1% Milk (ages 6-12 8 oz)</p>\n<p><br /><span style
 ='text-decoration: underline\;'><strong>PM Snack</strong></span></p>\n<p>1
  oz pk WG Cheez-it Crackers<br />4 oz 1% Milk (8 oz for ages 6-12)</p>
DTSTART:20250326T000000Z
DTEND:20250326T235959Z
SUMMARY:Wednesday
URL:https://denbighchristianacademy.com/index.php/school-calendar/lunch-men
 u/10-school-menu/1718-wednesday
X-ALT-DESC;FMTTYPE=TEXT/HTML:<p><span style='text-decoration: underline\;'>
 <strong>Breakfast</strong></span></p>\n<p><br />1 1.2 oz Blueberry Muffins
 <br />1/4-1/2 cup Pears<br />1/4-1/2 cup Cereal (optional)<br />6 oz. 1% M
 ilk (8 oz for ages 6-12)</p>\n<p><br /><span style='text-decoration: under
 line\;'><strong>AM Snack</strong></span></p>\n<p>1/2 to 1 whole Banana<br 
 />2 oz Ritz Crackers<br />4 oz Water (8 oz for ages 6-12)</p>\n<p><br /><s
 pan style='text-decoration: underline\;'><strong>Lunch</strong></span></p>
 \n<p>1 1/2 oz Hamburger/Cheeseburger<br />on WW Bun<br />1/4-1/2 cup Mixed
  Vegetables<br />1/4 cup Fruit<br />6 oz.1% Milk (ages 6-12 8 oz)</p>\n<p>
 <br /><span style='text-decoration: underline\;'><strong>PM Snack</strong>
 </span></p>\n<p>1 oz pk WG Cheez-it Crackers<br />4 oz 1% Milk (8 oz for a
 ges 6-12)</p>
END:VEVENT
BEGIN:VEVENT
UID:20250327T170000UTC-7866fvVV1b@https://www.denbighchristianacademy.com/
DTSTAMP:20260424T223345Z
CATEGORIES:School Menu
DESCRIPTION:<p><span style='text-decoration: underline\;'><strong>Breakfast
 </strong></span></p>\n<p><br />1/4-1/2 cup Cream of Wheat<br />1/4-1/2 cup
  Fruit Cocktail<br />1/4-1/2 cup Cereal (optional)<br />6 oz. 1% Milk (8 o
 z for ages 6-12)</p>\n<p><br /><span style='text-decoration: underline\;'>
 <strong>AM Snack</strong></span></p>\n<p>2 oz seedless Grapes<br />2 oz Gr
 aham Crackers<br />4 oz Water (8 oz for ages 6-12)</p>\n<p><br /><span sty
 le='text-decoration: underline\;'><strong>Lunch</strong></span></p>\n<p>2 
 oz Nacho Tortilla Chips w/<br />Ground Beef &amp\; Cheese<br />1/4-1/2 cup
  Seasoned Corn<br />1/4 cup Fruit<br />6 oz.1% Milk (ages 6-12 8 oz)</p>\n
 <p><br /><span style='text-decoration: underline\;'><strong>PM Snack</stro
 ng></span></p>\n<p>3.9 oz cup Applesauce<br />4 oz 1% Milk (8 oz for ages 
 6-12)</p>
DTSTART:20250327T000000Z
DTEND:20250327T235959Z
SUMMARY:Thursday
URL:https://denbighchristianacademy.com/index.php/school-calendar/lunch-men
 u/10-school-menu/1719-thursday
X-ALT-DESC;FMTTYPE=TEXT/HTML:<p><span style='text-decoration: underline\;'>
 <strong>Breakfast</strong></span></p>\n<p><br />1/4-1/2 cup Cream of Wheat
 <br />1/4-1/2 cup Fruit Cocktail<br />1/4-1/2 cup Cereal (optional)<br />6
  oz. 1% Milk (8 oz for ages 6-12)</p>\n<p><br /><span style='text-decorati
 on: underline\;'><strong>AM Snack</strong></span></p>\n<p>2 oz seedless Gr
 apes<br />2 oz Graham Crackers<br />4 oz Water (8 oz for ages 6-12)</p>\n<
 p><br /><span style='text-decoration: underline\;'><strong>Lunch</strong><
 /span></p>\n<p>2 oz Nacho Tortilla Chips w/<br />Ground Beef &amp\; Cheese
 <br />1/4-1/2 cup Seasoned Corn<br />1/4 cup Fruit<br />6 oz.1% Milk (ages
  6-12 8 oz)</p>\n<p><br /><span style='text-decoration: underline\;'><stro
 ng>PM Snack</strong></span></p>\n<p>3.9 oz cup Applesauce<br />4 oz 1% Mil
 k (8 oz for ages 6-12)</p>
END:VEVENT
BEGIN:VEVENT
UID:20250328T180000UTC-2068RGb7iX@https://www.denbighchristianacademy.com/
DTSTAMP:20260424T223345Z
CATEGORIES:School Menu
DESCRIPTION:<p><span style='text-decoration: underline\;'><strong>Breakfast
 </strong></span></p>\n<p><br />1 oz Biscuit w/Turkey Sausage<br />1/4-1/2 
 cup Mixed Fruit<br />1/4-1/2 cup Cereal (optional)<br />6 oz. 1% Milk (8 o
 z for ages 6-12)</p>\n<p><br /><span style='text-decoration: underline\;'>
 <strong>AM Snack</strong></span></p>\n<p>1 oz Cheese Stick<br />2 oz Salti
 ne Crackers<br />4 oz Water (8 oz for ages 6-12)</p>\n<p><br /><span style
 ='text-decoration: underline\;'><strong>Lunch</strong></span></p>\n<p>2 - 
 4 oz Fish Sticks<br />WW Roll<br />1/4-1/2 cup Mixed Vegetables<br />1/4 c
 up Fruit<br />6 oz.1% Milk (ages 6-12 8 oz)</p>\n<p><br /><span style='tex
 t-decoration: underline\;'><strong>PM Snack</strong></span></p>\n<p>1/4-1/
 2 cup WG Fig Newtons<br />4 oz 1% Milk (8 oz for ages 6-12)</p>
DTSTART:20250328T000000Z
DTEND:20250328T235959Z
SUMMARY:Friday
URL:https://denbighchristianacademy.com/index.php/school-calendar/lunch-men
 u/10-school-menu/1720-friday
X-ALT-DESC;FMTTYPE=TEXT/HTML:<p><span style='text-decoration: underline\;'>
 <strong>Breakfast</strong></span></p>\n<p><br />1 oz Biscuit w/Turkey Saus
 age<br />1/4-1/2 cup Mixed Fruit<br />1/4-1/2 cup Cereal (optional)<br />6
  oz. 1% Milk (8 oz for ages 6-12)</p>\n<p><br /><span style='text-decorati
 on: underline\;'><strong>AM Snack</strong></span></p>\n<p>1 oz Cheese Stic
 k<br />2 oz Saltine Crackers<br />4 oz Water (8 oz for ages 6-12)</p>\n<p>
 <br /><span style='text-decoration: underline\;'><strong>Lunch</strong></s
 pan></p>\n<p>2 - 4 oz Fish Sticks<br />WW Roll<br />1/4-1/2 cup Mixed Vege
 tables<br />1/4 cup Fruit<br />6 oz.1% Milk (ages 6-12 8 oz)</p>\n<p><br /
 ><span style='text-decoration: underline\;'><strong>PM Snack</strong></spa
 n></p>\n<p>1/4-1/2 cup WG Fig Newtons<br />4 oz 1% Milk (8 oz for ages 6-1
 2)</p>
END:VEVENT
END:VCALENDAR
