BEGIN:VCALENDAR
VERSION:2.0
PRODID:-//https://denbighchristianacademy.com//NONSGML kigkonsult.se iCalcr
 eator 2.29.29//
CALSCALE:GREGORIAN
METHOD:PUBLISH
UID:1a8e98a9-07f7-40d0-b7bd-0887c63b71eb
X-WR-CALNAME:JCal Pro Calendar
X-WR-CALDESC:Your online events calendar
X-WR-TIMEZONE:UTC
BEGIN:VTIMEZONE
TZID:UTC
END:VTIMEZONE
BEGIN:VEVENT
UID:20250331T140000UTC-77411P5zsp@https://www.denbighchristianacademy.com/
DTSTAMP:20260424T210624Z
CATEGORIES:School Menu
DESCRIPTION:<p><span style='text-decoration: underline\;'><strong>Breakfast
 </strong></span></p>\n<p><br />1 - 2 oz Waffles<br />1/4-1/2 cup Fruit<br 
 />1/4-1/2 cup Cereal (optional)<br />6 oz. 1% Milk (8 oz for ages 6-12)</p
 >\n<p><br /><span style='text-decoration: underline\;'><strong>AM Snack</s
 trong></span></p>\n<p>3.9 oz Applesauce<br />2 oz Graham Crackers<br />4 o
 z Water (8 oz for ages 6-12)</p>\n<p><br /><span style='text-decoration: u
 nderline\;'><strong>Lunch</strong></span></p>\n<p>1 1/2 - 3 oz Hamburger S
 teak in Gravy<br />WW Roll<br />1/4-1/2 cup Mashed Potatoes<br />1/4-1/2 c
 up Green Beans<br />1/4 cup Fruit<br />6 oz.1% Milk (ages 6-12 8 oz)</p>\n
 <p><br /><span style='text-decoration: underline\;'><strong>PM Snack</stro
 ng></span></p>\n<p>1 oz bag Pretzels<br />4 oz 1% Milk (8 oz for ages 6-12
 )</p>
DTSTART:20250331T000000Z
DTEND:20250331T235959Z
SUMMARY:Monday
URL:https://denbighchristianacademy.com/index.php/school-calendar/lunch-men
 u/10-school-menu/1721-monday
X-ALT-DESC;FMTTYPE=TEXT/HTML:<p><span style='text-decoration: underline\;'>
 <strong>Breakfast</strong></span></p>\n<p><br />1 - 2 oz Waffles<br />1/4-
 1/2 cup Fruit<br />1/4-1/2 cup Cereal (optional)<br />6 oz. 1% Milk (8 oz 
 for ages 6-12)</p>\n<p><br /><span style='text-decoration: underline\;'><s
 trong>AM Snack</strong></span></p>\n<p>3.9 oz Applesauce<br />2 oz Graham 
 Crackers<br />4 oz Water (8 oz for ages 6-12)</p>\n<p><br /><span style='t
 ext-decoration: underline\;'><strong>Lunch</strong></span></p>\n<p>1 1/2 -
  3 oz Hamburger Steak in Gravy<br />WW Roll<br />1/4-1/2 cup Mashed Potato
 es<br />1/4-1/2 cup Green Beans<br />1/4 cup Fruit<br />6 oz.1% Milk (ages
  6-12 8 oz)</p>\n<p><br /><span style='text-decoration: underline\;'><stro
 ng>PM Snack</strong></span></p>\n<p>1 oz bag Pretzels<br />4 oz 1% Milk (8
  oz for ages 6-12)</p>
END:VEVENT
BEGIN:VEVENT
UID:20250401T140000UTC-0125GciPjV@https://www.denbighchristianacademy.com/
DTSTAMP:20260424T210624Z
CATEGORIES:School Menu
DESCRIPTION:<p><span style='text-decoration: underline\;'><strong>Breakfast
 </strong></span></p>\n<p><br />1/4-1/2 cup&nbsp\;Oatmeal<br />1/4-1/2 cup 
 Fruit<br />1/4-1/2 cup Cereal (optional)<br />6 oz. 1% Milk (8 oz for ages
  6-12)</p>\n<p><br /><span style='text-decoration: underline\;'><strong>AM
  Snack</strong></span></p>\n<p>1/2 - 1 Orange<br />2 oz Saltine Crackers<b
 r />4 oz Water (8 oz for ages 6-12)</p>\n<p><br /><span style='text-decora
 tion: underline\;'><strong>Lunch</strong></span></p>\n<p>2 oz Beef Hot Dog
  on Bun<br />1/4-1/2 cup Corn<br />1/4 cup Fruit<br />6 oz.1% Milk (ages 6
 -12 8 oz)</p>\n<p><br /><span style='text-decoration: underline\;'><strong
 >PM Snack</strong></span></p>\n<p>1 oz bag Cheez-it Crackers<br />4 oz 1% 
 Milk (8 oz for ages 6-12)</p>
DTSTART:20250401T000000Z
DTEND:20250401T235959Z
SUMMARY:Tuesday
URL:https://denbighchristianacademy.com/index.php/school-calendar/lunch-men
 u/10-school-menu/1722-tuesday
X-ALT-DESC;FMTTYPE=TEXT/HTML:<p><span style='text-decoration: underline\;'>
 <strong>Breakfast</strong></span></p>\n<p><br />1/4-1/2 cup&nbsp\;Oatmeal<
 br />1/4-1/2 cup Fruit<br />1/4-1/2 cup Cereal (optional)<br />6 oz. 1% Mi
 lk (8 oz for ages 6-12)</p>\n<p><br /><span style='text-decoration: underl
 ine\;'><strong>AM Snack</strong></span></p>\n<p>1/2 - 1 Orange<br />2 oz S
 altine Crackers<br />4 oz Water (8 oz for ages 6-12)</p>\n<p><br /><span s
 tyle='text-decoration: underline\;'><strong>Lunch</strong></span></p>\n<p>
 2 oz Beef Hot Dog on Bun<br />1/4-1/2 cup Corn<br />1/4 cup Fruit<br />6 o
 z.1% Milk (ages 6-12 8 oz)</p>\n<p><br /><span style='text-decoration: und
 erline\;'><strong>PM Snack</strong></span></p>\n<p>1 oz bag Cheez-it Crack
 ers<br />4 oz 1% Milk (8 oz for ages 6-12)</p>
END:VEVENT
BEGIN:VEVENT
UID:20250402T140000UTC-762999zsdr@https://www.denbighchristianacademy.com/
DTSTAMP:20260424T210624Z
CATEGORIES:School Menu
DESCRIPTION:<p><span style='text-decoration: underline\;'><strong>Breakfast
 </strong></span></p>\n<p><br />1 1/2 oz WW Pancakes<br />1/4-1/2 cup Fruit
 <br />1/4-1/2 cup Cereal (optional)<br />6 oz. 1% Milk (8 oz for ages 6-12
 )</p>\n<p><br /><span style='text-decoration: underline\;'><strong>AM Snac
 k</strong></span></p>\n<p>1 oz Cheese<br />2 oz Ritz Crackers<br />4 oz Wa
 ter (8 oz for ages 6-12)</p>\n<p><br /><span style='text-decoration: under
 line\;'><strong>Lunch</strong></span></p>\n<p>1/2 - 1 cup Beef and Macaron
 i<br />WW Roll<br />1/4-1/2 cup Peas and Carrots<br />1/4 cup Fruit<br />6
  oz.1% Milk (ages 6-12 8 oz)</p>\n<p><br /><span style='text-decoration: u
 nderline\;'><strong>PM Snack</strong></span></p>\n<p>1 oz Ritz Bits Cracke
 rs w/Cheese<br />4 oz 1% Milk (8 oz for ages 6-12)</p>
DTSTART:20250402T000000Z
DTEND:20250402T235959Z
SUMMARY:Wednesday
URL:https://denbighchristianacademy.com/index.php/school-calendar/lunch-men
 u/10-school-menu/1723-wednesday
X-ALT-DESC;FMTTYPE=TEXT/HTML:<p><span style='text-decoration: underline\;'>
 <strong>Breakfast</strong></span></p>\n<p><br />1 1/2 oz WW Pancakes<br />
 1/4-1/2 cup Fruit<br />1/4-1/2 cup Cereal (optional)<br />6 oz. 1% Milk (8
  oz for ages 6-12)</p>\n<p><br /><span style='text-decoration: underline\;
 '><strong>AM Snack</strong></span></p>\n<p>1 oz Cheese<br />2 oz Ritz Crac
 kers<br />4 oz Water (8 oz for ages 6-12)</p>\n<p><br /><span style='text-
 decoration: underline\;'><strong>Lunch</strong></span></p>\n<p>1/2 - 1 cup
  Beef and Macaroni<br />WW Roll<br />1/4-1/2 cup Peas and Carrots<br />1/4
  cup Fruit<br />6 oz.1% Milk (ages 6-12 8 oz)</p>\n<p><br /><span style='t
 ext-decoration: underline\;'><strong>PM Snack</strong></span></p>\n<p>1 oz
  Ritz Bits Crackers w/Cheese<br />4 oz 1% Milk (8 oz for ages 6-12)</p>
END:VEVENT
BEGIN:VEVENT
UID:20250403T140000UTC-6855Ajs6Xn@https://www.denbighchristianacademy.com/
DTSTAMP:20260424T210624Z
CATEGORIES:School Menu
DESCRIPTION:<p><span style='text-decoration: underline\;'><strong>Breakfast
 </strong></span></p>\n<p><br />1 1/2 Blueberry Muffin<br />1/4-1/2 cup Fru
 it<br />1/4-1/2 cup Cereal (optional)<br />6 oz. 1% Milk (8 oz for ages 6-
 12)</p>\n<p><br /><span style='text-decoration: underline\;'><strong>AM Sn
 ack</strong></span></p>\n<p>2 oz Seedless Grapes<br />2 oz Graham Crackers
 <br />4 oz Water (8 oz for ages 6-12)</p>\n<p><br /><span style='text-deco
 ration: underline\;'><strong>Lunch</strong></span></p>\n<p>1 1/2 - 3 oz Ch
 icken Nuggets<br />WW Bread<br />1/4-1/2 cup Mixed Vegetables<br />1/4 cup
  Fruit<br />6 oz.1% Milk (ages 6-12 8 oz)</p>\n<p><br /><span style='text-
 decoration: underline\;'><strong>PM Snack</strong></span></p>\n<p>1.3 oz N
 utri Grain Bar<br />4 oz 1% Milk (8 oz for ages 6-12)</p>
DTSTART:20250403T000000Z
DTEND:20250403T235959Z
SUMMARY:Thursday
URL:https://denbighchristianacademy.com/index.php/school-calendar/lunch-men
 u/10-school-menu/1724-thursday
X-ALT-DESC;FMTTYPE=TEXT/HTML:<p><span style='text-decoration: underline\;'>
 <strong>Breakfast</strong></span></p>\n<p><br />1 1/2 Blueberry Muffin<br 
 />1/4-1/2 cup Fruit<br />1/4-1/2 cup Cereal (optional)<br />6 oz. 1% Milk 
 (8 oz for ages 6-12)</p>\n<p><br /><span style='text-decoration: underline
 \;'><strong>AM Snack</strong></span></p>\n<p>2 oz Seedless Grapes<br />2 o
 z Graham Crackers<br />4 oz Water (8 oz for ages 6-12)</p>\n<p><br /><span
  style='text-decoration: underline\;'><strong>Lunch</strong></span></p>\n<
 p>1 1/2 - 3 oz Chicken Nuggets<br />WW Bread<br />1/4-1/2 cup Mixed Vegeta
 bles<br />1/4 cup Fruit<br />6 oz.1% Milk (ages 6-12 8 oz)</p>\n<p><br /><
 span style='text-decoration: underline\;'><strong>PM Snack</strong></span>
 </p>\n<p>1.3 oz Nutri Grain Bar<br />4 oz 1% Milk (8 oz for ages 6-12)</p>
END:VEVENT
BEGIN:VEVENT
UID:20250404T140000UTC-2660P1nbdH@https://www.denbighchristianacademy.com/
DTSTAMP:20260424T210624Z
CATEGORIES:School Menu
DESCRIPTION:<p><span style='text-decoration: underline\;'><strong>Breakfast
 </strong></span></p>\n<p><br />1 1/2 oz Biscuit w/Turkey Sausage<br />1/4-
 1/2 cup Fruit<br />1/4-1/2 cup Cereal (optional)<br />6 oz. 1% Milk (8 oz 
 for ages 6-12)</p>\n<p><br /><span style='text-decoration: underline\;'><s
 trong>AM Snack</strong></span></p>\n<p>1/2 - 1 whole Banana<br />2 oz Salt
 ine Crackers<br />4 oz Water (8 oz for ages 6-12)</p>\n<p><br /><span styl
 e='text-decoration: underline\;'><strong>Lunch</strong></span></p>\n<p>Tur
 key Sandwich on WW Bread<br />w/Cheese<br />1 oz bag Potato Chips<br />1/4
  cup Fruit<br />6 oz.1% Milk (ages 6-12 8 oz)</p>\n<p><br /><span style='t
 ext-decoration: underline\;'><strong>PM Snack</strong></span></p>\n<p>1 oz
  Fig Newton Bar<br />4 oz 1% Milk (8 oz for ages 6-12)</p>
DTSTART:20250404T000000Z
DTEND:20250404T235959Z
SUMMARY:Friday
URL:https://denbighchristianacademy.com/index.php/school-calendar/lunch-men
 u/10-school-menu/1725-friday
X-ALT-DESC;FMTTYPE=TEXT/HTML:<p><span style='text-decoration: underline\;'>
 <strong>Breakfast</strong></span></p>\n<p><br />1 1/2 oz Biscuit w/Turkey 
 Sausage<br />1/4-1/2 cup Fruit<br />1/4-1/2 cup Cereal (optional)<br />6 o
 z. 1% Milk (8 oz for ages 6-12)</p>\n<p><br /><span style='text-decoration
 : underline\;'><strong>AM Snack</strong></span></p>\n<p>1/2 - 1 whole Bana
 na<br />2 oz Saltine Crackers<br />4 oz Water (8 oz for ages 6-12)</p>\n<p
 ><br /><span style='text-decoration: underline\;'><strong>Lunch</strong></
 span></p>\n<p>Turkey Sandwich on WW Bread<br />w/Cheese<br />1 oz bag Pota
 to Chips<br />1/4 cup Fruit<br />6 oz.1% Milk (ages 6-12 8 oz)</p>\n<p><br
  /><span style='text-decoration: underline\;'><strong>PM Snack</strong></s
 pan></p>\n<p>1 oz Fig Newton Bar<br />4 oz 1% Milk (8 oz for ages 6-12)</p
 >
END:VEVENT
END:VCALENDAR
