BEGIN:VCALENDAR
VERSION:2.0
PRODID:-//https://denbighchristianacademy.com//NONSGML kigkonsult.se iCalcr
 eator 2.29.29//
CALSCALE:GREGORIAN
METHOD:PUBLISH
UID:5eb0a6f3-9861-49a5-8f94-671c4af4eec5
X-WR-CALNAME:JCal Pro Calendar
X-WR-CALDESC:Your online events calendar
X-WR-TIMEZONE:UTC
BEGIN:VTIMEZONE
TZID:UTC
END:VTIMEZONE
BEGIN:VEVENT
UID:20250407T190000UTC-2597mA3ebP@https://www.denbighchristianacademy.com/
DTSTAMP:20260424T223325Z
CATEGORIES:School Menu
DESCRIPTION:<p><span style='text-decoration: underline\;'><strong>Breakfast
 </strong></span></p>\n<p><br />1/4-1/2 cup&nbsp\;Oatmeal<br />1/4-1/2 cup 
 Diced Fruit<br />1/4-1/2 cup Cereal (optional)<br />6 oz. 1% Milk (8 oz fo
 r ages 6-12)</p>\n<p><br /><span style='text-decoration: underline\;'><str
 ong>AM Snack</strong></span></p>\n<p>1/2 - 1 Apple<br />2 oz Graham Cracke
 rs<br />4 oz Water (8 oz for ages 6-12)</p>\n<p><br /><span style='text-de
 coration: underline\;'><strong>Lunch</strong></span></p>\n<p>1/2 - 1 cup M
 acaroni &amp\; Cheese<br />1/4-1/2 cup Green Beans<br />1/4 cup Fruit<br /
 >WW Bread<br />6 oz.1% Milk (ages 6-12 8 oz)</p>\n<p><br /><span style='te
 xt-decoration: underline\;'><strong>PM Snack</strong></span></p>\n<p>1 oz 
 Fig Newton Bar<br />4 oz 1% Milk (8 oz for ages 6-12)</p>
DTSTART:20250407T000000Z
DTEND:20250407T235959Z
SUMMARY:Monday
URL:https://denbighchristianacademy.com/index.php/school-calendar/lunch-men
 u/10-school-menu/1726-monday
X-ALT-DESC;FMTTYPE=TEXT/HTML:<p><span style='text-decoration: underline\;'>
 <strong>Breakfast</strong></span></p>\n<p><br />1/4-1/2 cup&nbsp\;Oatmeal<
 br />1/4-1/2 cup Diced Fruit<br />1/4-1/2 cup Cereal (optional)<br />6 oz.
  1% Milk (8 oz for ages 6-12)</p>\n<p><br /><span style='text-decoration: 
 underline\;'><strong>AM Snack</strong></span></p>\n<p>1/2 - 1 Apple<br />2
  oz Graham Crackers<br />4 oz Water (8 oz for ages 6-12)</p>\n<p><br /><sp
 an style='text-decoration: underline\;'><strong>Lunch</strong></span></p>
 \n<p>1/2 - 1 cup Macaroni &amp\; Cheese<br />1/4-1/2 cup Green Beans<br />
 1/4 cup Fruit<br />WW Bread<br />6 oz.1% Milk (ages 6-12 8 oz)</p>\n<p><br
  /><span style='text-decoration: underline\;'><strong>PM Snack</strong></s
 pan></p>\n<p>1 oz Fig Newton Bar<br />4 oz 1% Milk (8 oz for ages 6-12)</p
 >
END:VEVENT
BEGIN:VEVENT
UID:20250408T190000UTC-566725oW2L@https://www.denbighchristianacademy.com/
DTSTAMP:20260424T223325Z
CATEGORIES:School Menu
DESCRIPTION:<p><span style='text-decoration: underline\;'><strong>Breakfast
 </strong></span></p>\n<p><br />1 - 2 Pancakes<br />1/4-1/2 cup Fruit<br />
 1/4-1/2 cup Cereal (optional)<br />6 oz. 1% Milk (8 oz for ages 6-12)</p>
 \n<p><br /><span style='text-decoration: underline\;'><strong>AM Snack</st
 rong></span></p>\n<p>2 oz Ritz Crackers<br />2 oz Seedless Grapes<br />4 o
 z Water (8 oz for ages 6-12)</p>\n<p><br /><span style='text-decoration: u
 nderline\;'><strong>Lunch</strong></span></p>\n<p>1 1/2 oz Meatloaf<br />W
 W Bread<br />1/4-1/2 cup WG Brown Rice<br />1/4-1/2 cup Peas &amp\; Carrot
 s<br />1/4 cup Fruit<br />6 oz.1% Milk (ages 6-12 8 oz)</p>\n<p><br /><spa
 n style='text-decoration: underline\;'><strong>PM Snack</strong></span></p
 >\n<p>1 oz bag Pretzels<br />4 oz 1% Milk (8 oz for ages 6-12)</p>
DTSTART:20250408T000000Z
DTEND:20250408T235959Z
SUMMARY:Tuesday
URL:https://denbighchristianacademy.com/index.php/school-calendar/lunch-men
 u/10-school-menu/1727-tuesday
X-ALT-DESC;FMTTYPE=TEXT/HTML:<p><span style='text-decoration: underline\;'>
 <strong>Breakfast</strong></span></p>\n<p><br />1 - 2 Pancakes<br />1/4-1/
 2 cup Fruit<br />1/4-1/2 cup Cereal (optional)<br />6 oz. 1% Milk (8 oz fo
 r ages 6-12)</p>\n<p><br /><span style='text-decoration: underline\;'><str
 ong>AM Snack</strong></span></p>\n<p>2 oz Ritz Crackers<br />2 oz Seedless
  Grapes<br />4 oz Water (8 oz for ages 6-12)</p>\n<p><br /><span style='te
 xt-decoration: underline\;'><strong>Lunch</strong></span></p>\n<p>1 1/2 oz
  Meatloaf<br />WW Bread<br />1/4-1/2 cup WG Brown Rice<br />1/4-1/2 cup Pe
 as &amp\; Carrots<br />1/4 cup Fruit<br />6 oz.1% Milk (ages 6-12 8 oz)</p
 >\n<p><br /><span style='text-decoration: underline\;'><strong>PM Snack</s
 trong></span></p>\n<p>1 oz bag Pretzels<br />4 oz 1% Milk (8 oz for ages 6
 -12)</p>
END:VEVENT
BEGIN:VEVENT
UID:20250409T190000UTC-4746oHNg9U@https://www.denbighchristianacademy.com/
DTSTAMP:20260424T223325Z
CATEGORIES:School Menu
DESCRIPTION:<p><span style='text-decoration: underline\;'><strong>Breakfast
 </strong></span></p>\n<p><br />1/4-1/2 cup Cream of Wheat<br />1/4-1/2 cup
  Fruit<br />1/4-1/2 cup Cereal (optional)<br />6 oz. 1% Milk (8 oz for age
 s 6-12)</p>\n<p><br /><span style='text-decoration: underline\;'><strong>A
 M Snack</strong></span></p>\n<p>2 oz Baby Carrots w/Ranch Dressing<br />2 
 oz Saltine Crackers<br />4 oz Water (8 oz for ages 6-12)</p>\n<p><br /><sp
 an style='text-decoration: underline\;'><strong>Lunch</strong></span></p>
 \n<p>1 1/2 - 3 oz Cheese Pizza<br />1/4-1/2 cup Tossed Salad w/Dressing<br
  />1/4 cup Mixed Fruit<br />6 oz.1% Milk (ages 6-12 8 oz)</p>\n<p><br /><s
 pan style='text-decoration: underline\;'><strong>PM Snack</strong></span><
 /p>\n<p>1 oz Ritz Bits Crackers w/Cheese<br />4 oz 1% Milk (8 oz for ages 
 6-12)</p>
DTSTART:20250409T000000Z
DTEND:20250409T235959Z
SUMMARY:Wednesday
URL:https://denbighchristianacademy.com/index.php/school-calendar/lunch-men
 u/10-school-menu/1728-wednesday
X-ALT-DESC;FMTTYPE=TEXT/HTML:<p><span style='text-decoration: underline\;'>
 <strong>Breakfast</strong></span></p>\n<p><br />1/4-1/2 cup Cream of Wheat
 <br />1/4-1/2 cup Fruit<br />1/4-1/2 cup Cereal (optional)<br />6 oz. 1% M
 ilk (8 oz for ages 6-12)</p>\n<p><br /><span style='text-decoration: under
 line\;'><strong>AM Snack</strong></span></p>\n<p>2 oz Baby Carrots w/Ranch
  Dressing<br />2 oz Saltine Crackers<br />4 oz Water (8 oz for ages 6-12)<
 /p>\n<p><br /><span style='text-decoration: underline\;'><strong>Lunch</st
 rong></span></p>\n<p>1 1/2 - 3 oz Cheese Pizza<br />1/4-1/2 cup Tossed Sal
 ad w/Dressing<br />1/4 cup Mixed Fruit<br />6 oz.1% Milk (ages 6-12 8 oz)<
 /p>\n<p><br /><span style='text-decoration: underline\;'><strong>PM Snack<
 /strong></span></p>\n<p>1 oz Ritz Bits Crackers w/Cheese<br />4 oz 1% Milk
  (8 oz for ages 6-12)</p>
END:VEVENT
BEGIN:VEVENT
UID:20250410T190000UTC-4780URSRNK@https://www.denbighchristianacademy.com/
DTSTAMP:20260424T223325Z
CATEGORIES:School Menu
DESCRIPTION:<p><span style='text-decoration: underline\;'><strong>Breakfast
 </strong></span></p>\n<p><br />2 oz Waffles<br />1/4-1/2 cup Fruit<br />1/
 4-1/2 cup Cereal (optional)<br />6 oz. 1% Milk (8 oz for ages 6-12)</p>\n<
 p><br /><span style='text-decoration: underline\;'><strong>AM Snack</stron
 g></span></p>\n<p>1/2 - 1 Orange<br />2 oz Ritz Crackers<br />4 oz Water (
 8 oz for ages 6-12)</p>\n<p><br /><span style='text-decoration: underline\
 ;'><strong>Lunch</strong></span></p>\n<p>1/4-1/2 cup Chicken &amp\; Dumpli
 ngs<br />WW Roll<br />1/4-1/2 cup Mixed Vegetables<br />1/4 cup Fruit<br /
 >6 oz.1% Milk (ages 6-12 8 oz)</p>\n<p><br /><span style='text-decoration:
  underline\;'><strong>PM Snack</strong></span></p>\n<p>1.3 oz Nutri Grain 
 Bar<br />4 oz 1% Milk (8 oz for ages 6-12)</p>
DTSTART:20250410T000000Z
DTEND:20250410T235959Z
SUMMARY:Thursday
URL:https://denbighchristianacademy.com/index.php/school-calendar/lunch-men
 u/10-school-menu/1729-thursday
X-ALT-DESC;FMTTYPE=TEXT/HTML:<p><span style='text-decoration: underline\;'>
 <strong>Breakfast</strong></span></p>\n<p><br />2 oz Waffles<br />1/4-1/2 
 cup Fruit<br />1/4-1/2 cup Cereal (optional)<br />6 oz. 1% Milk (8 oz for 
 ages 6-12)</p>\n<p><br /><span style='text-decoration: underline\;'><stron
 g>AM Snack</strong></span></p>\n<p>1/2 - 1 Orange<br />2 oz Ritz Crackers<
 br />4 oz Water (8 oz for ages 6-12)</p>\n<p><br /><span style='text-decor
 ation: underline\;'><strong>Lunch</strong></span></p>\n<p>1/4-1/2 cup Chic
 ken &amp\; Dumplings<br />WW Roll<br />1/4-1/2 cup Mixed Vegetables<br />1
 /4 cup Fruit<br />6 oz.1% Milk (ages 6-12 8 oz)</p>\n<p><br /><span style=
 'text-decoration: underline\;'><strong>PM Snack</strong></span></p>\n<p>1.
 3 oz Nutri Grain Bar<br />4 oz 1% Milk (8 oz for ages 6-12)</p>
END:VEVENT
BEGIN:VEVENT
UID:20250411T190000UTC-9387i9HKxX@https://www.denbighchristianacademy.com/
DTSTAMP:20260424T223325Z
CATEGORIES:School Menu
DESCRIPTION:<p><span style='text-decoration: underline\;'><strong>Breakfast
 </strong></span></p>\n<p>Biscuit<br />w/ 2 oz Turkey Sausage Patty<br />1/
 4-1/2 cup Fruit<br />1/4-1/2 cup Cereal (optional)<br />6 oz. 1% Milk (8 o
 z for ages 6-12)</p>\n<p><br /><span style='text-decoration: underline\;'>
 <strong>AM Snack</strong></span></p>\n<p>3.9 oz Applesauce<br />2 oz Graha
 m Crackers<br />4 oz Water (8 oz for ages 6-12)</p>\n<p><br /><span style=
 'text-decoration: underline\;'><strong>Lunch</strong></span></p>\n<p>1 1/2
  - 3 oz Hamburger/Cheeseburger<br />on WW Bun<br />1/4-1/2 cup Corn<br />1
 /4 cup Fruit<br />6 oz.1% Milk (ages 6-12 8 oz)</p>\n<p><br /><span style=
 'text-decoration: underline\;'><strong>PM Snack</strong></span></p>\n<p>1 
 oz bag Cheez-it Crackers<br />4 oz 1% Milk (8 oz for ages 6-12)</p>
DTSTART:20250411T000000Z
DTEND:20250411T235959Z
SUMMARY:Friday
URL:https://denbighchristianacademy.com/index.php/school-calendar/lunch-men
 u/10-school-menu/1730-friday
X-ALT-DESC;FMTTYPE=TEXT/HTML:<p><span style='text-decoration: underline\;'>
 <strong>Breakfast</strong></span></p>\n<p>Biscuit<br />w/ 2 oz Turkey Saus
 age Patty<br />1/4-1/2 cup Fruit<br />1/4-1/2 cup Cereal (optional)<br />6
  oz. 1% Milk (8 oz for ages 6-12)</p>\n<p><br /><span style='text-decorati
 on: underline\;'><strong>AM Snack</strong></span></p>\n<p>3.9 oz Applesauc
 e<br />2 oz Graham Crackers<br />4 oz Water (8 oz for ages 6-12)</p>\n<p><
 br /><span style='text-decoration: underline\;'><strong>Lunch</strong></sp
 an></p>\n<p>1 1/2 - 3 oz Hamburger/Cheeseburger<br />on WW Bun<br />1/4-1/
 2 cup Corn<br />1/4 cup Fruit<br />6 oz.1% Milk (ages 6-12 8 oz)</p>\n<p><
 br /><span style='text-decoration: underline\;'><strong>PM Snack</strong><
 /span></p>\n<p>1 oz bag Cheez-it Crackers<br />4 oz 1% Milk (8 oz for ages
  6-12)</p>
END:VEVENT
END:VCALENDAR
