BEGIN:VCALENDAR
VERSION:2.0
PRODID:-//https://denbighchristianacademy.com//NONSGML kigkonsult.se iCalcr
 eator 2.29.29//
CALSCALE:GREGORIAN
METHOD:PUBLISH
UID:588aae57-831f-43c9-b781-a4c6ca5b820d
X-WR-CALNAME:JCal Pro Calendar
X-WR-CALDESC:Your online events calendar
X-WR-TIMEZONE:UTC
BEGIN:VTIMEZONE
TZID:UTC
END:VTIMEZONE
BEGIN:VEVENT
UID:20250505T160000UTC-32081FzOvO@https://www.denbighchristianacademy.com/
DTSTAMP:20260425T002839Z
CATEGORIES:School Menu
DESCRIPTION:<p><span style='text-decoration: underline\;'><strong>Breakfast
 </strong></span></p>\n<p><br />1/4-1/2 cup&nbsp\;Oatmeal<br />1/4-1/2 cup 
 Fruit<br />1/4-1/2 cup Cereal (optional)<br />6 oz. 1% Milk (8 oz for ages
  6-12)</p>\n<p><br /><span style='text-decoration: underline\;'><strong>AM
  Snack</strong></span></p>\n<p>3.9 oz Applesauce<br />2 oz Graham Crackers
 <br />4 oz Water (8 oz for ages 6-12)</p>\n<p><br /><span style='text-deco
 ration: underline\;'><strong>Lunch</strong></span></p>\n<p>1/2 - 1 cup Mac
  and Cheese<br />WW Bread<br />1/4-1/2 cup Green Beans<br />1/4 cup Fruit<
 br />6 oz.1% Milk (ages 6-12 8 oz)</p>\n<p><br /><span style='text-decorat
 ion: underline\;'><strong>PM Snack</strong></span></p>\n<p>1 oz bag WW Che
 ez-it Crackers<br />4 oz 1% Milk (8 oz for ages 6-12)</p>
DTSTART:20250505T000000Z
DTEND:20250505T235959Z
SUMMARY:Monday
URL:https://denbighchristianacademy.com/index.php/school-calendar/lunch-men
 u/10-school-menu/1746-monday
X-ALT-DESC;FMTTYPE=TEXT/HTML:<p><span style='text-decoration: underline\;'>
 <strong>Breakfast</strong></span></p>\n<p><br />1/4-1/2 cup&nbsp\;Oatmeal<
 br />1/4-1/2 cup Fruit<br />1/4-1/2 cup Cereal (optional)<br />6 oz. 1% Mi
 lk (8 oz for ages 6-12)</p>\n<p><br /><span style='text-decoration: underl
 ine\;'><strong>AM Snack</strong></span></p>\n<p>3.9 oz Applesauce<br />2 o
 z Graham Crackers<br />4 oz Water (8 oz for ages 6-12)</p>\n<p><br /><span
  style='text-decoration: underline\;'><strong>Lunch</strong></span></p>\n<
 p>1/2 - 1 cup Mac and Cheese<br />WW Bread<br />1/4-1/2 cup Green Beans<br
  />1/4 cup Fruit<br />6 oz.1% Milk (ages 6-12 8 oz)</p>\n<p><br /><span st
 yle='text-decoration: underline\;'><strong>PM Snack</strong></span></p>\n<
 p>1 oz bag WW Cheez-it Crackers<br />4 oz 1% Milk (8 oz for ages 6-12)</p>
END:VEVENT
BEGIN:VEVENT
UID:20250506T160000UTC-4056SFxuH5@https://www.denbighchristianacademy.com/
DTSTAMP:20260425T002839Z
CATEGORIES:School Menu
DESCRIPTION:<p><span style='text-decoration: underline\;'><strong>Breakfast
 </strong></span></p>\n<p><br />1 1/2 oz Pancakes<br />1/4-1/2 cup Fruit<br
  />1/4-1/2 cup Cereal (optional)<br />6 oz. 1% Milk (8 oz for ages 6-12)</
 p>\n<p><br /><span style='text-decoration: underline\;'><strong>AM Snack</
 strong></span></p>\n<p>2 oz WG Ritz Crackers<br />1/2 - 1 whole Orange<br 
 />4 oz Water (8 oz for ages 6-12)</p>\n<p><br /><span style='text-decorati
 on: underline\;'><strong>Lunch</strong></span></p>\n<p>1 - 2 oz BBQ Chicke
 n<br />WW Roll w/Cole Slaw<br />1/4-1/2 cup Broccoli Cuts<br />1/4 cup Fru
 it<br />6 oz.1% Milk (ages 6-12 8 oz)</p>\n<p><br /><span style='text-deco
 ration: underline\;'><strong>PM Snack</strong></span></p>\n<p>1.3 oz Nutri
  Grain Bar<br />4 oz 1% Milk (8 oz for ages 6-12)</p>
DTSTART:20250506T000000Z
DTEND:20250506T235959Z
SUMMARY:Tuesday
URL:https://denbighchristianacademy.com/index.php/school-calendar/lunch-men
 u/10-school-menu/1747-tuesday
X-ALT-DESC;FMTTYPE=TEXT/HTML:<p><span style='text-decoration: underline\;'>
 <strong>Breakfast</strong></span></p>\n<p><br />1 1/2 oz Pancakes<br />1/4
 -1/2 cup Fruit<br />1/4-1/2 cup Cereal (optional)<br />6 oz. 1% Milk (8 oz
  for ages 6-12)</p>\n<p><br /><span style='text-decoration: underline\;'><
 strong>AM Snack</strong></span></p>\n<p>2 oz WG Ritz Crackers<br />1/2 - 1
  whole Orange<br />4 oz Water (8 oz for ages 6-12)</p>\n<p><br /><span sty
 le='text-decoration: underline\;'><strong>Lunch</strong></span></p>\n<p>1 
 - 2 oz BBQ Chicken<br />WW Roll w/Cole Slaw<br />1/4-1/2 cup Broccoli Cuts
 <br />1/4 cup Fruit<br />6 oz.1% Milk (ages 6-12 8 oz)</p>\n<p><br /><span
  style='text-decoration: underline\;'><strong>PM Snack</strong></span></p>
 \n<p>1.3 oz Nutri Grain Bar<br />4 oz 1% Milk (8 oz for ages 6-12)</p>
END:VEVENT
BEGIN:VEVENT
UID:20250507T160000UTC-9662GL93Co@https://www.denbighchristianacademy.com/
DTSTAMP:20260425T002839Z
CATEGORIES:School Menu
DESCRIPTION:<p><span style='text-decoration: underline\;'><strong>Breakfast
 </strong></span></p>\n<p><br />1/2 oz WW Blueberry Muffin<br />1/4-1/2 cup
  Applesauce<br />1/4-1/2 cup Cereal (optional)<br />6 oz. 1% Milk (8 oz fo
 r ages 6-12)</p>\n<p><br /><span style='text-decoration: underline\;'><str
 ong>AM Snack</strong></span></p>\n<p>1/2 - 1 whole Apple<br />2 oz Graham 
 Crackers<br />4 oz Water (8 oz for ages 6-12)</p>\n<p><br /><span style='t
 ext-decoration: underline\;'><strong>Lunch</strong></span></p>\n<p>2 oz Be
 ef Hot Dog on Bun<br />1/4-1/2 cup Baked Beans<br />1/4 cup Fruit<br />6 o
 z.1% Milk (ages 6-12 8 oz)</p>\n<p><br /><span style='text-decoration: und
 erline\;'><strong>PM Snack</strong></span></p>\n<p>1 oz bag Pretzels<br />
 4 oz 1% Milk (8 oz for ages 6-12)</p>
DTSTART:20250507T000000Z
DTEND:20250507T235959Z
SUMMARY:Wednesday
URL:https://denbighchristianacademy.com/index.php/school-calendar/lunch-men
 u/10-school-menu/1748-wednesday
X-ALT-DESC;FMTTYPE=TEXT/HTML:<p><span style='text-decoration: underline\;'>
 <strong>Breakfast</strong></span></p>\n<p><br />1/2 oz WW Blueberry Muffin
 <br />1/4-1/2 cup Applesauce<br />1/4-1/2 cup Cereal (optional)<br />6 oz.
  1% Milk (8 oz for ages 6-12)</p>\n<p><br /><span style='text-decoration: 
 underline\;'><strong>AM Snack</strong></span></p>\n<p>1/2 - 1 whole Apple<
 br />2 oz Graham Crackers<br />4 oz Water (8 oz for ages 6-12)</p>\n<p><br
  /><span style='text-decoration: underline\;'><strong>Lunch</strong></span
 ></p>\n<p>2 oz Beef Hot Dog on Bun<br />1/4-1/2 cup Baked Beans<br />1/4 c
 up Fruit<br />6 oz.1% Milk (ages 6-12 8 oz)</p>\n<p><br /><span style='tex
 t-decoration: underline\;'><strong>PM Snack</strong></span></p>\n<p>1 oz b
 ag Pretzels<br />4 oz 1% Milk (8 oz for ages 6-12)</p>
END:VEVENT
BEGIN:VEVENT
UID:20250508T160000UTC-3987UTV0F3@https://www.denbighchristianacademy.com/
DTSTAMP:20260425T002839Z
CATEGORIES:School Menu
DESCRIPTION:<p><span style='text-decoration: underline\;'><strong>Breakfast
 </strong></span></p>\n<p><br />1 - 2 oz Waffles<br />1/4-1/2 cup Fruit<br 
 />1/4-1/2 cup Cereal (optional)<br />6 oz. 1% Milk (8 oz for ages 6-12)</p
 >\n<p><br /><span style='text-decoration: underline\;'><strong>AM Snack</s
 trong></span></p>\n<p>2 oz WG Ritz Crackers<br />2 oz Seedless Grapes<br /
 >4 oz Water (8 oz for ages 6-12)</p>\n<p><br /><span style='text-decoratio
 n: underline\;'><strong>Lunch</strong></span></p>\n<p>1/2 - 1 cup Beef and
  Macaroni in<br />Tomato Sauce<br />WW Bread<br />1/4-1/2 cup Peas and Car
 rots<br />1/4 cup Fruit<br />6 oz.1% Milk (ages 6-12 8 oz)</p>\n<p><br /><
 span style='text-decoration: underline\;'><strong>PM Snack</strong></span>
 </p>\n<p>1 oz pk Ritz Bits w/Cheese<br />4 oz 1% Milk (8 oz for ages 6-12)
 </p>
DTSTART:20250508T000000Z
DTEND:20250508T235959Z
SUMMARY:Thursday
URL:https://denbighchristianacademy.com/index.php/school-calendar/lunch-men
 u/10-school-menu/1749-thursday
X-ALT-DESC;FMTTYPE=TEXT/HTML:<p><span style='text-decoration: underline\;'>
 <strong>Breakfast</strong></span></p>\n<p><br />1 - 2 oz Waffles<br />1/4-
 1/2 cup Fruit<br />1/4-1/2 cup Cereal (optional)<br />6 oz. 1% Milk (8 oz 
 for ages 6-12)</p>\n<p><br /><span style='text-decoration: underline\;'><s
 trong>AM Snack</strong></span></p>\n<p>2 oz WG Ritz Crackers<br />2 oz See
 dless Grapes<br />4 oz Water (8 oz for ages 6-12)</p>\n<p><br /><span styl
 e='text-decoration: underline\;'><strong>Lunch</strong></span></p>\n<p>1/2
  - 1 cup Beef and Macaroni in<br />Tomato Sauce<br />WW Bread<br />1/4-1/2
  cup Peas and Carrots<br />1/4 cup Fruit<br />6 oz.1% Milk (ages 6-12 8 oz
 )</p>\n<p><br /><span style='text-decoration: underline\;'><strong>PM Snac
 k</strong></span></p>\n<p>1 oz pk Ritz Bits w/Cheese<br />4 oz 1% Milk (8 
 oz for ages 6-12)</p>
END:VEVENT
BEGIN:VEVENT
UID:20250509T160000UTC-8285UoTUrC@https://www.denbighchristianacademy.com/
DTSTAMP:20260425T002839Z
CATEGORIES:School Menu
DESCRIPTION:<p><span style='text-decoration: underline\;'><strong>Breakfast
 </strong></span></p>\n<p><br />1 oz Biscuit w/Turkey Sausage<br />1/4-1/2 
 cup Fruit<br />1/4-1/2 cup Cereal (optional)<br />6 oz. 1% Milk (8 oz for 
 ages 6-12)</p>\n<p><br /><span style='text-decoration: underline\;'><stron
 g>AM Snack</strong></span></p>\n<p>1 oz Cheese Stick<br />2 oz Saltine Cra
 ckers<br />4 oz Water (8 oz for ages 6-12)</p>\n<p><br /><span style='text
 -decoration: underline\;'><strong>Lunch</strong></span></p>\n<p>2 oz Chick
 en Leg<br />WW Roll<br />1/4-1/2 cup Mixed Vegetables<br />1/4 cup Fruit<b
 r />6 oz.1% Milk (ages 6-12 8 oz)</p>\n<p><br /><span style='text-decorati
 on: underline\;'><strong>PM Snack</strong></span></p>\n<p>1.3 oz Fig Newto
 n Bar<br />4 oz 1% Milk (8 oz for ages 6-12)</p>
DTSTART:20250509T000000Z
DTEND:20250509T235959Z
SUMMARY:Friday
URL:https://denbighchristianacademy.com/index.php/school-calendar/lunch-men
 u/10-school-menu/1750-friday
X-ALT-DESC;FMTTYPE=TEXT/HTML:<p><span style='text-decoration: underline\;'>
 <strong>Breakfast</strong></span></p>\n<p><br />1 oz Biscuit w/Turkey Saus
 age<br />1/4-1/2 cup Fruit<br />1/4-1/2 cup Cereal (optional)<br />6 oz. 1
 % Milk (8 oz for ages 6-12)</p>\n<p><br /><span style='text-decoration: un
 derline\;'><strong>AM Snack</strong></span></p>\n<p>1 oz Cheese Stick<br /
 >2 oz Saltine Crackers<br />4 oz Water (8 oz for ages 6-12)</p>\n<p><br />
 <span style='text-decoration: underline\;'><strong>Lunch</strong></span></
 p>\n<p>2 oz Chicken Leg<br />WW Roll<br />1/4-1/2 cup Mixed Vegetables<br 
 />1/4 cup Fruit<br />6 oz.1% Milk (ages 6-12 8 oz)</p>\n<p><br /><span sty
 le='text-decoration: underline\;'><strong>PM Snack</strong></span></p>\n<p
 >1.3 oz Fig Newton Bar<br />4 oz 1% Milk (8 oz for ages 6-12)</p>
END:VEVENT
END:VCALENDAR
