BEGIN:VCALENDAR
VERSION:2.0
PRODID:-//https://denbighchristianacademy.com//NONSGML kigkonsult.se iCalcr
 eator 2.29.29//
CALSCALE:GREGORIAN
METHOD:PUBLISH
UID:6a79b08e-34a5-4ae0-93d2-25154f1ce6cb
X-WR-CALNAME:JCal Pro Calendar
X-WR-CALDESC:Your online events calendar
X-WR-TIMEZONE:UTC
BEGIN:VTIMEZONE
TZID:UTC
END:VTIMEZONE
BEGIN:VEVENT
UID:20250609T190000UTC-0379WWr8W5@https://www.denbighchristianacademy.com/
DTSTAMP:20260425T011317Z
CATEGORIES:School Menu
DESCRIPTION:<p><span style='text-decoration: underline\;'><strong>Breakfast
 </strong></span></p>\n<p><br />1/4-1/2 cup&nbsp\;Oatmeal<br />1/4-1/2 cup 
 Fruit<br />1/4-1/2 cup Cereal (optional)<br />6 oz. 1% Milk (8 oz for ages
  6-12)</p>\n<p><br /><span style='text-decoration: underline\;'><strong>AM
  Snack</strong></span></p>\n<p>3.9 oz Applesauce<br />2 oz Graham Crackers
 <br />4 oz Water (8 oz for ages 6-12)</p>\n<p><br /><span style='text-deco
 ration: underline\;'><strong>Lunch</strong></span></p>\n<p>1/2 - 1 cup Mac
  &amp\; Cheese<br />WW Bread<br />1/4-1/2 cup Green Beans<br />1/4 cup Fru
 it<br />6 oz.1% Milk (ages 6-12 8 oz)</p>\n<p><br /><span style='text-deco
 ration: underline\;'><strong>PM Snack</strong></span></p>\n<p>1 oz bag WW 
 Cheez-it Crackers<br />4 oz 1% Milk (8 oz for ages 6-12)</p>
DTSTART:20250609T000000Z
DTEND:20250609T235959Z
SUMMARY:Monday
URL:https://denbighchristianacademy.com/index.php/school-calendar/lunch-men
 u/10-school-menu/1820-monday
X-ALT-DESC;FMTTYPE=TEXT/HTML:<p><span style='text-decoration: underline\;'>
 <strong>Breakfast</strong></span></p>\n<p><br />1/4-1/2 cup&nbsp\;Oatmeal<
 br />1/4-1/2 cup Fruit<br />1/4-1/2 cup Cereal (optional)<br />6 oz. 1% Mi
 lk (8 oz for ages 6-12)</p>\n<p><br /><span style='text-decoration: underl
 ine\;'><strong>AM Snack</strong></span></p>\n<p>3.9 oz Applesauce<br />2 o
 z Graham Crackers<br />4 oz Water (8 oz for ages 6-12)</p>\n<p><br /><span
  style='text-decoration: underline\;'><strong>Lunch</strong></span></p>\n<
 p>1/2 - 1 cup Mac &amp\; Cheese<br />WW Bread<br />1/4-1/2 cup Green Beans
 <br />1/4 cup Fruit<br />6 oz.1% Milk (ages 6-12 8 oz)</p>\n<p><br /><span
  style='text-decoration: underline\;'><strong>PM Snack</strong></span></p>
 \n<p>1 oz bag WW Cheez-it Crackers<br />4 oz 1% Milk (8 oz for ages 6-12)<
 /p>
END:VEVENT
BEGIN:VEVENT
UID:20250610T190000UTC-5941Rf84go@https://www.denbighchristianacademy.com/
DTSTAMP:20260425T011317Z
CATEGORIES:School Menu
DESCRIPTION:<p><span style='text-decoration: underline\;'><strong>Breakfast
 </strong></span></p>\n<p><br />1 1/2 oz Pancakes<br />1/4-1/2 cup Fruit<br
  />1/4-1/2 cup Cereal (optional)<br />6 oz. 1% Milk (8 oz for ages 6-12)</
 p>\n<p><br /><span style='text-decoration: underline\;'><strong>AM Snack</
 strong></span></p>\n<p>2 oz WG Ritz Crackers<br />1/2 - 1 whole Orange<br 
 />4 oz Water (8 oz for ages 6-12)</p>\n<p><br /><span style='text-decorati
 on: underline\;'><strong>Lunch</strong></span></p>\n<p>1 - 2 oz BBQ Chicke
 n<br />WW Roll <br />w/Cole Slaw<br />1/4-1/2 cup Corn<br />1/4 cup Fruit<
 br />6 oz.1% Milk (ages 6-12 8 oz)</p>\n<p><br /><span style='text-decorat
 ion: underline\;'><strong>PM Snack</strong></span></p>\n<p>1.3 oz Nutri Gr
 ain Bar<br />4 oz 1% Milk (8 oz for ages 6-12)</p>
DTSTART:20250610T000000Z
DTEND:20250610T235959Z
SUMMARY:Tuesday
URL:https://denbighchristianacademy.com/index.php/school-calendar/lunch-men
 u/10-school-menu/1821-tuesday
X-ALT-DESC;FMTTYPE=TEXT/HTML:<p><span style='text-decoration: underline\;'>
 <strong>Breakfast</strong></span></p>\n<p><br />1 1/2 oz Pancakes<br />1/4
 -1/2 cup Fruit<br />1/4-1/2 cup Cereal (optional)<br />6 oz. 1% Milk (8 oz
  for ages 6-12)</p>\n<p><br /><span style='text-decoration: underline\;'><
 strong>AM Snack</strong></span></p>\n<p>2 oz WG Ritz Crackers<br />1/2 - 1
  whole Orange<br />4 oz Water (8 oz for ages 6-12)</p>\n<p><br /><span sty
 le='text-decoration: underline\;'><strong>Lunch</strong></span></p>\n<p>1 
 - 2 oz BBQ Chicken<br />WW Roll <br />w/Cole Slaw<br />1/4-1/2 cup Corn<br
  />1/4 cup Fruit<br />6 oz.1% Milk (ages 6-12 8 oz)</p>\n<p><br /><span st
 yle='text-decoration: underline\;'><strong>PM Snack</strong></span></p>\n<
 p>1.3 oz Nutri Grain Bar<br />4 oz 1% Milk (8 oz for ages 6-12)</p>
END:VEVENT
BEGIN:VEVENT
UID:20250611T190000UTC-6204uDoU3m@https://www.denbighchristianacademy.com/
DTSTAMP:20260425T011317Z
CATEGORIES:School Menu
DESCRIPTION:<p><span style='text-decoration: underline\;'><strong>Breakfast
 </strong></span></p>\n<p><br />1/2 oz Blueberry Muffin<br />1/4-1/2 cup Ap
 plesauce<br />1/4-1/2 cup Cereal (optional)<br />6 oz. 1% Milk (8 oz for a
 ges 6-12)</p>\n<p><br /><span style='text-decoration: underline\;'><strong
 >AM Snack</strong></span></p>\n<p>1/2 - 1 whole Apple<br />2 oz Graham Cra
 ckers<br />4 oz Water (8 oz for ages 6-12)</p>\n<p><br /><span style='text
 -decoration: underline\;'><strong>Lunch</strong></span></p>\n<p>1 1/2 - 3 
 oz Chicken Nuggets<br />WW Bread<br />1/4-1/2 cup Mixed Vegetables<br />1/
 4 cup Fruit<br />6 oz.1% Milk (ages 6-12 8 oz)</p>\n<p><br /><span style='
 text-decoration: underline\;'><strong>PM Snack</strong></span></p>\n<p>1 o
 z bag Pretzels<br />4 oz 1% Milk (8 oz for ages 6-12)</p>
DTSTART:20250611T000000Z
DTEND:20250611T235959Z
SUMMARY:Wednesday
URL:https://denbighchristianacademy.com/index.php/school-calendar/lunch-men
 u/10-school-menu/1822-wednesday
X-ALT-DESC;FMTTYPE=TEXT/HTML:<p><span style='text-decoration: underline\;'>
 <strong>Breakfast</strong></span></p>\n<p><br />1/2 oz Blueberry Muffin<br
  />1/4-1/2 cup Applesauce<br />1/4-1/2 cup Cereal (optional)<br />6 oz. 1%
  Milk (8 oz for ages 6-12)</p>\n<p><br /><span style='text-decoration: und
 erline\;'><strong>AM Snack</strong></span></p>\n<p>1/2 - 1 whole Apple<br 
 />2 oz Graham Crackers<br />4 oz Water (8 oz for ages 6-12)</p>\n<p><br />
 <span style='text-decoration: underline\;'><strong>Lunch</strong></span></
 p>\n<p>1 1/2 - 3 oz Chicken Nuggets<br />WW Bread<br />1/4-1/2 cup Mixed V
 egetables<br />1/4 cup Fruit<br />6 oz.1% Milk (ages 6-12 8 oz)</p>\n<p><b
 r /><span style='text-decoration: underline\;'><strong>PM Snack</strong></
 span></p>\n<p>1 oz bag Pretzels<br />4 oz 1% Milk (8 oz for ages 6-12)</p>
END:VEVENT
BEGIN:VEVENT
UID:20250612T190000UTC-4196nxVw1E@https://www.denbighchristianacademy.com/
DTSTAMP:20260425T011317Z
CATEGORIES:School Menu
DESCRIPTION:<p><span style='text-decoration: underline\;'><strong>Breakfast
 </strong></span></p>\n<p><br />1 - 2 oz Waffles<br />1/4-1/2 cup Fruit<br 
 />1/4-1/2 cup Cereal (optional)<br />6 oz. 1% Milk (8 oz for ages 6-12)</p
 >\n<p><br /><span style='text-decoration: underline\;'><strong>AM Snack</s
 trong></span></p>\n<p>2 oz WG Ritz Crackers<br />2 oz Seedless Grapes<br /
 >4 oz Water (8 oz for ages 6-12)</p>\n<p><br /><span style='text-decoratio
 n: underline\;'><strong>Lunch</strong></span></p>\n<p>3 oz Cheese Pizza<br
  />1/4 - 1/2 cup Green Beans<br />1/4 cup Fruity Jello<br />6 oz.1% Milk (
 ages 6-12 8 oz)</p>\n<p><br /><span style='text-decoration: underline\;'><
 strong>PM Snack</strong></span></p>\n<p>1 oz pk Ritz Bits Crackers w/Chees
 e<br />4 oz 1% Milk (8 oz for ages 6-12)</p>
DTSTART:20250612T000000Z
DTEND:20250612T235959Z
SUMMARY:Thursday
URL:https://denbighchristianacademy.com/index.php/school-calendar/lunch-men
 u/10-school-menu/1823-thursday
X-ALT-DESC;FMTTYPE=TEXT/HTML:<p><span style='text-decoration: underline\;'>
 <strong>Breakfast</strong></span></p>\n<p><br />1 - 2 oz Waffles<br />1/4-
 1/2 cup Fruit<br />1/4-1/2 cup Cereal (optional)<br />6 oz. 1% Milk (8 oz 
 for ages 6-12)</p>\n<p><br /><span style='text-decoration: underline\;'><s
 trong>AM Snack</strong></span></p>\n<p>2 oz WG Ritz Crackers<br />2 oz See
 dless Grapes<br />4 oz Water (8 oz for ages 6-12)</p>\n<p><br /><span styl
 e='text-decoration: underline\;'><strong>Lunch</strong></span></p>\n<p>3 o
 z Cheese Pizza<br />1/4 - 1/2 cup Green Beans<br />1/4 cup Fruity Jello<br
  />6 oz.1% Milk (ages 6-12 8 oz)</p>\n<p><br /><span style='text-decoratio
 n: underline\;'><strong>PM Snack</strong></span></p>\n<p>1 oz pk Ritz Bits
  Crackers w/Cheese<br />4 oz 1% Milk (8 oz for ages 6-12)</p>
END:VEVENT
BEGIN:VEVENT
UID:20250613T190000UTC-407363XvUk@https://www.denbighchristianacademy.com/
DTSTAMP:20260425T011317Z
CATEGORIES:School Menu
DESCRIPTION:<p><span style='text-decoration: underline\;'><strong>Breakfast
 </strong></span></p>\n<p><br />1 oz Biscuit w/Turkey Sausage<br />1/4-1/2 
 cup Fruit<br />1/4-1/2 cup Cereal (optional)<br />6 oz. 1% Milk (8 oz for 
 ages 6-12)</p>\n<p><br /><span style='text-decoration: underline\;'><stron
 g>AM Snack</strong></span></p>\n<p>1 oz Cheese Stick<br />2 oz Saltine Cra
 ckers<br />4 oz Water (8 oz for ages 6-12)</p>\n<p><br /><span style='text
 -decoration: underline\;'><strong>Lunch</strong></span></p>\n<p>2 oz Turke
 y Sandwich on<br />WW Bread&nbsp\;<br />1 oz bag Chips<br />1/4 cup Fruit<
 br />6 oz.1% Milk (ages 6-12 8 oz)</p>\n<p><br /><span style='text-decorat
 ion: underline\;'><strong>PM Snack</strong></span></p>\n<p>1.3 oz Fig Newt
 on Bar<br />4 oz 1% Milk (8 oz for ages 6-12)</p>
DTSTART:20250613T000000Z
DTEND:20250613T235959Z
SUMMARY:Friday
URL:https://denbighchristianacademy.com/index.php/school-calendar/lunch-men
 u/10-school-menu/1824-friday
X-ALT-DESC;FMTTYPE=TEXT/HTML:<p><span style='text-decoration: underline\;'>
 <strong>Breakfast</strong></span></p>\n<p><br />1 oz Biscuit w/Turkey Saus
 age<br />1/4-1/2 cup Fruit<br />1/4-1/2 cup Cereal (optional)<br />6 oz. 1
 % Milk (8 oz for ages 6-12)</p>\n<p><br /><span style='text-decoration: un
 derline\;'><strong>AM Snack</strong></span></p>\n<p>1 oz Cheese Stick<br /
 >2 oz Saltine Crackers<br />4 oz Water (8 oz for ages 6-12)</p>\n<p><br />
 <span style='text-decoration: underline\;'><strong>Lunch</strong></span></
 p>\n<p>2 oz Turkey Sandwich on<br />WW Bread&nbsp\;<br />1 oz bag Chips<br
  />1/4 cup Fruit<br />6 oz.1% Milk (ages 6-12 8 oz)</p>\n<p><br /><span st
 yle='text-decoration: underline\;'><strong>PM Snack</strong></span></p>\n<
 p>1.3 oz Fig Newton Bar<br />4 oz 1% Milk (8 oz for ages 6-12)</p>
END:VEVENT
END:VCALENDAR
